Workbook

Sheet titulo

Sheet Cuadro01
A4: Cuadro No. 1. Viviendas con acceso a servicio de agua, por sistema que los proporciona según dominio, nivel educativo del jefe, sexo del jefe y quintil de ingreso del hogar
A6: Categorias | B6: Total | D6: Servicio publico | E6: 0 | F6: Servicio privado | G6: 0 | H6: Pozo malacate | I6: 0 | J6: Pozo con bomba | K6: 0 | L6: Rio,riachuelo,manantial | M6: 0 | N6: Carro cisterna | O6: 0 | P6: Pick-up con dron o barril | Q6: 0 | R6: Llave pública comunitaria | S6: 0 | T6: Del vecino / otra vivienda | U6: 0 | V6: Otro | W6: 0
B7: No | C7: % /1 | D7: No | E7: % /1 | F7: No | G7: % /1 | H7: No | I7: % /1 | J7: No | K7: % /1 | L7: No | M7: % /1 | N7: No | O7: % /1 | P7: No | Q7: % /1 | R7: No | S7: % /1 | T7: No | U7: % /1 | V7: No | W7: % /1
A8: Total Nacional/2 | B8: =[1]vivienda!C5 -> 1704883.3 | C8: =+C11+C15 -> 100 | D8: =[1]vivienda!E5 -> 611806.34 | E8: =+D8/$B8*100 -> 35.885527 | F8: =[1]vivienda!G5 -> 868069.31 | G8: =+F8/$B8*100 -> 50.916643 | H8: =[1]vivienda!I5 -> 23080.686 | I8: =+H8/$B8*100 -> 1.3537986 | J8: =[1]vivienda!K5 -> 25404.268 | K8: =+J8/$B8*100 -> 1.4900885 | L8: =[1]vivienda!M5 -> 57591.281 | M8: =+L8/$B8*100 -> 3.378019 | N8: =[1]vivienda!O5 -> 15482.39 | O8: =+N8/$B8*100 -> 0.90812026 | P8: =[1]vivienda!Q5 -> 3996.7525 | Q8: =+P8/$B8*100 -> 0.23442969 | R8: =[1]vivienda!S5 -> 6169.9404 | S8: =+R8/$B8*100 -> 0.36189812 | T8: =[1]vivienda!U5 -> 40358.515 | U8: =+T8/$B8*100 -> 2.3672304 | V8: =[1]vivienda!W5 -> 52923.763 | W8: =+V8/$B8*100 -> 3.1042456
A10: Dominio
A11: Urbano | B11: =[1]vivienda!C6 -> 838158.13 | C11: =+B11/B$8*100 -> 49.162201 | D11: =[1]vivienda!E6 -> 569885.26 | E11: =+D11/D$8*100 -> 93.147981 | F11: =[1]vivienda!G6 -> 232177.17 | G11: =+F11/F$8*100 -> 26.746387 | H11: =[1]vivienda!I6 -> 1132.194 | I11: =+H11/H$8*100 -> 4.905374 | J11: =[1]vivienda!K6 -> 3615.9844 | K11: =+J11/J$8*100 -> 14.233767 | L11: =[1]vivienda!M6 -> 1678.6989 | M11: =+L11/L$8*100 -> 2.9148491 | N11: =[1]vivienda!O6 -> 9875.1112 | O11: =+N11/N$8*100 -> 63.78286 | P11: =[1]vivienda!Q6 -> 2661.6861 | Q11: =+P11/P$8*100 -> 66.59622 | R11: =[1]vivienda!S6 -> 295.64814 | S11: =+R11/R$8*100 -> 4.7917504 | T11: =[1]vivienda!U6 -> 14217.914 | U11: =+T11/T$8*100 -> 35.229032 | V11: =[1]vivienda!W6 -> 2618.4606 | W11: =+V11/V$8*100 -> 4.9476085
A12: Distrito Central | B12: =[1]vivienda!C7 -> 228007.95 | C12: =+B12/B$8*100 -> 13.373816 | D12: =[1]vivienda!E7 -> 212147.52 | E12: =+D12/D$8*100 -> 34.675599 | F12: =[1]vivienda!G7 -> 1137.7642 | G12: =+F12/F$8*100 -> 0.13106836 | H12: =[1]vivienda!I7 -> 227.55284 | I12: =+H12/H$8*100 -> 0.98590157 | J12: =[1]vivienda!K7 -> 0 | K12: =+J12/J$8*100 -> 0 | L12: =[1]vivienda!M7 -> 455.10569 | M12: =+L12/L$8*100 -> 0.79023367 | N12: =[1]vivienda!O7 -> 8692.5187 | O12: =+N12/N$8*100 -> 56.144552 | P12: =[1]vivienda!Q7 -> 1479.0935 | Q12: =+P12/P$8*100 -> 37.007383 | R12: =[1]vivienda!S7 -> 0 | S12: =+R12/R$8*100 -> 0 | T12: =[1]vivienda!U7 -> 2047.9756 | U12: =+T12/T$8*100 -> 5.0744573 | V12: =[1]vivienda!W7 -> 1820.4228 | W12: =+V12/V$8*100 -> 3.4397077
A13: San Pedro Sula | B13: =[1]vivienda!C8 -> 143333.91 | C13: =+B13/B$8*100 -> 8.4072568 | D13: =[1]vivienda!E8 -> 8281.515 | E13: =+D13/D$8*100 -> 1.353617 | F13: =[1]vivienda!G8 -> 133459.8 | G13: =+F13/F$8*100 -> 15.374325 | H13: =[1]vivienda!I8 -> 318.51981 | I13: =+H13/H$8*100 -> 1.3800275 | J13: =[1]vivienda!K8 -> 0 | K13: =+J13/J$8*100 -> 0 | L13: =[1]vivienda!M8 -> 159.2599 | M13: =+L13/L$8*100 -> 0.27653475 | N13: =[1]vivienda!O8 -> 0 | O13: =+N13/N$8*100 -> 0 | P13: =[1]vivienda!Q8 -> 0 | Q13: =+P13/P$8*100 -> 0 | R13: =[1]vivienda!S8 -> 0 | S13: =+R13/R$8*100 -> 0 | T13: =[1]vivienda!U8 -> 1114.8193 | U13: =+T13/T$8*100 -> 2.7622903 | V13: =[1]vivienda!W8 -> 0 | W13: =+V13/V$8*100 -> 0
A14: Resto Urbano | B14: =[1]vivienda!C9 -> 466816.27 | C14: =+B14/B$8*100 -> 27.381128 | D14: =[1]vivienda!E9 -> 349456.23 | E14: =+D14/D$8*100 -> 57.118765 | F14: =[1]vivienda!G9 -> 97579.611 | G14: =+F14/F$8*100 -> 11.240993 | H14: =[1]vivienda!I9 -> 586.12132 | I14: =+H14/H$8*100 -> 2.539445 | J14: =[1]vivienda!K9 -> 3615.9844 | K14: =+J14/J$8*100 -> 14.233767 | L14: =[1]vivienda!M9 -> 1064.3333 | M14: =+L14/L$8*100 -> 1.8480806 | N14: =[1]vivienda!O9 -> 1182.5926 | O14: =+N14/N$8*100 -> 7.6383075 | P14: =[1]vivienda!Q9 -> 1182.5926 | Q14: =+P14/P$8*100 -> 29.588837 | R14: =[1]vivienda!S9 -> 295.64814 | S14: =+R14/R$8*100 -> 4.7917504 | T14: =[1]vivienda!U9 -> 11055.119 | U14: =+T14/T$8*100 -> 27.392284 | V14: =[1]vivienda!W9 -> 798.03784 | W14: =+V14/V$8*100 -> 1.5079008
A15: Rural | B15: =[1]vivienda!C10 -> 866725.12 | C15: =+B15/B$8*100 -> 50.837799 | D15: =[1]vivienda!E10 -> 41921.086 | E15: =+D15/D$8*100 -> 6.8520188 | F15: =[1]vivienda!G10 -> 635892.14 | G15: =+F15/F$8*100 -> 73.253613 | H15: =[1]vivienda!I10 -> 21948.492 | I15: =+H15/H$8*100 -> 95.094626 | J15: =[1]vivienda!K10 -> 21788.284 | K15: =+J15/J$8*100 -> 85.766233 | L15: =[1]vivienda!M10 -> 55912.582 | M15: =+L15/L$8*100 -> 97.085151 | N15: =[1]vivienda!O10 -> 5607.279 | O15: =+N15/N$8*100 -> 36.21714 | P15: =[1]vivienda!Q10 -> 1335.0664 | Q15: =+P15/P$8*100 -> 33.40378 | R15: =[1]vivienda!S10 -> 5874.2923 | S15: =+R15/R$8*100 -> 95.20825 | T15: =[1]vivienda!U10 -> 26140.601 | U15: =+T15/T$8*100 -> 64.770968 | V15: =[1]vivienda!W10 -> 50305.303 | W15: =+V15/V$8*100 -> 95.052392
A17: Nivel Educativo del Jefe
A18: Sin Nivel | B18: =[1]vivienda!C12 -> 335305.08 | C18: =+B18/B$8*100 -> 19.667334 | D18: =[1]vivienda!E12 -> 68745.792 | E18: =+D18/D$8*100 -> 11.236528 | F18: =[1]vivienda!G12 -> 195980.48 | G18: =+F18/F$8*100 -> 22.576593 | H18: =[1]vivienda!I12 -> 9943.7771 | I18: =+H18/H$8*100 -> 43.082676 | J18: =[1]vivienda!K12 -> 6818.0276 | K18: =+J18/J$8*100 -> 26.838118 | L18: =[1]vivienda!M12 -> 21414.465 | M18: =+L18/L$8*100 -> 37.18352 | N18: =[1]vivienda!O12 -> 1938.8041 | O18: =+N18/N$8*100 -> 12.522641 | P18: =[1]vivienda!Q12 -> 938.03834 | Q18: =+P18/P$8*100 -> 23.470013 | R18: =[1]vivienda!S12 -> 1630.7146 | S18: =+R18/R$8*100 -> 26.429989 | T18: =[1]vivienda!U12 -> 11546.514 | U18: =+T18/T$8*100 -> 28.609859 | V18: =[1]vivienda!W12 -> 16348.468 | W18: =+V18/V$8*100 -> 30.8906
A19: Primaria | B19: =[1]vivienda!C13 -> 939421.21 | C19: =+B19/B$8*100 -> 55.101791 | D19: =[1]vivienda!E13 -> 277640.28 | E19: =+D19/D$8*100 -> 45.380418 | F19: =[1]vivienda!G13 -> 520057.32 | G19: =+F19/F$8*100 -> 59.909654 | H19: =[1]vivienda!I13 -> 12015.453 | I19: =+H19/H$8*100 -> 52.058475 | J19: =[1]vivienda!K13 -> 16050.683 | K19: =+J19/J$8*100 -> 63.181049 | L19: =[1]vivienda!M13 -> 35193.965 | M19: =+L19/L$8*100 -> 61.109884 | N19: =[1]vivienda!O13 -> 11337.769 | O19: =+N19/N$8*100 -> 73.230093 | P19: =[1]vivienda!Q13 -> 2489.832 | Q19: =+P19/P$8*100 -> 62.296378 | R19: =[1]vivienda!S13 -> 4539.2258 | S19: =+R19/R$8*100 -> 73.570011 | T19: =[1]vivienda!U13 -> 24817.001 | U19: =+T19/T$8*100 -> 61.491363 | V19: =[1]vivienda!W13 -> 35279.689 | W19: =+V19/V$8*100 -> 66.661339
A20: Secundaria | B20: =[1]vivienda!C14 -> 303361.71 | C20: =+B20/B$8*100 -> 17.793694 | D20: =[1]vivienda!E14 -> 173811.64 | E20: =+D20/D$8*100 -> 28.409585 | F20: =[1]vivienda!G14 -> 117427.23 | G20: =+F20/F$8*100 -> 13.527403 | H20: =[1]vivienda!I14 -> 1121.4558 | I20: =+H20/H$8*100 -> 4.8588495 | J20: =[1]vivienda!K14 -> 2535.5577 | K20: =+J20/J$8*100 -> 9.9808334 | L20: =[1]vivienda!M14 -> 628.07277 | M20: =+L20/L$8*100 -> 1.0905692 | N20: =[1]vivienda!O14 -> 2205.8174 | O20: =+N20/N$8*100 -> 14.247266 | P20: =[1]vivienda!Q14 -> 568.88211 | Q20: =+P20/P$8*100 -> 14.233609 | R20: =[1]vivienda!S14 -> 0 | S20: =+R20/R$8*100 -> 0 | T20: =[1]vivienda!U14 -> 3767.4469 | U20: =+T20/T$8*100 -> 9.3349493 | V20: =[1]vivienda!W14 -> 1295.606 | W20: =+V20/V$8*100 -> 2.4480609
A21: Superior | B21: =[1]vivienda!C15 -> 121841.14 | C21: =+B21/B$8*100 -> 7.146597 | D21: =[1]vivienda!E15 -> 88472.371 | E21: =+D21/D$8*100 -> 14.460846 | F21: =[1]vivienda!G15 -> 33368.764 | G21: =+F21/F$8*100 -> 3.8440207 | H21: =[1]vivienda!I15 -> 0 | I21: =+H21/H$8*100 -> 0 | J21: =[1]vivienda!K15 -> 0 | K21: =+J21/J$8*100 -> 0 | L21: =[1]vivienda!M15 -> 0 | M21: =+L21/L$8*100 -> 0 | N21: =[1]vivienda!O15 -> 0 | O21: =+N21/N$8*100 -> 0 | P21: =[1]vivienda!Q15 -> 0 | Q21: =+P21/P$8*100 -> 0 | R21: =[1]vivienda!S15 -> 0 | S21: =+R21/R$8*100 -> 0 | T21: =[1]vivienda!U15 -> 0 | U21: =+T21/T$8*100 -> 0 | V21: =[1]vivienda!W15 -> 0 | W21: =+V21/V$8*100 -> 0
A22: Ns / Nr | B22: =[1]vivienda!C16 -> 4954.1073 | C22: =+B22/B$8*100 -> 0.29058338 | D22: =[1]vivienda!E16 -> 3136.2604 | E22: =+D22/D$8*100 -> 0.51262305 | F22: =[1]vivienda!G16 -> 1235.5164 | G22: =+F22/F$8*100 -> 0.14232923 | H22: =[1]vivienda!I16 -> 0 | I22: =+H22/H$8*100 -> 0 | J22: =[1]vivienda!K16 -> 0 | K22: =+J22/J$8*100 -> 0 | L22: =[1]vivienda!M16 -> 354.77777 | M22: =+L22/L$8*100 -> 0.61602688 | N22: =[1]vivienda!O16 -> 0 | O22: =+N22/N$8*100 -> 0 | P22: =[1]vivienda!Q16 -> 0 | Q22: =+P22/P$8*100 -> 0 | R22: =[1]vivienda!S16 -> 0 | S22: =+R22/R$8*100 -> 0 | T22: =[1]vivienda!U16 -> 227.55284 | U22: =+T22/T$8*100 -> 0.56382859 | V22: =[1]vivienda!W16 -> 0 | W22: =+V22/V$8*100 -> 0
A24: Sexo del Jefe
A25: Hombre | B25: =[1]vivienda!C18 -> 1141754.2 | C25: =+B25/B$8*100 -> 66.969639 | D25: =[1]vivienda!E18 -> 367960.81 | E25: =+D25/D$8*100 -> 60.143346 | F25: =[1]vivienda!G18 -> 602345.92 | G25: =+F25/F$8*100 -> 69.389151 | H25: =[1]vivienda!I18 -> 17688.894 | I25: =+H25/H$8*100 -> 76.639377 | J25: =[1]vivienda!K18 -> 18482.438 | K25: =+J25/J$8*100 -> 72.753276 | L25: =[1]vivienda!M18 -> 47735.929 | M25: =+L25/L$8*100 -> 82.887423 | N25: =[1]vivienda!O18 -> 10063.814 | O25: =+N25/N$8*100 -> 65.001681 | P25: =[1]vivienda!Q18 -> 2705.7514 | Q25: =+P25/P$8*100 -> 67.698748 | R25: =[1]vivienda!S18 -> 4272.2126 | S25: =+R25/R$8*100 -> 69.242363 | T25: =[1]vivienda!U18 -> 29760.051 | U25: =+T25/T$8*100 -> 73.739214 | V25: =[1]vivienda!W18 -> 40738.336 | W25: =+V25/V$8*100 -> 76.975509
A26: Mujer | B26: =[1]vivienda!C19 -> 563129.09 | C26: =+B26/B$8*100 -> 33.030361 | D26: =[1]vivienda!E19 -> 243845.54 | E26: =+D26/D$8*100 -> 39.856654 | F26: =[1]vivienda!G19 -> 265723.39 | G26: =+F26/F$8*100 -> 30.610849 | H26: =[1]vivienda!I19 -> 5391.7921 | I26: =+H26/H$8*100 -> 23.360623 | J26: =[1]vivienda!K19 -> 6921.8309 | K26: =+J26/J$8*100 -> 27.246724 | L26: =[1]vivienda!M19 -> 9855.3521 | M26: =+L26/L$8*100 -> 17.112577 | N26: =[1]vivienda!O19 -> 5418.5763 | O26: =+N26/N$8*100 -> 34.998319 | P26: =[1]vivienda!Q19 -> 1291.0011 | Q26: =+P26/P$8*100 -> 32.301252 | R26: =[1]vivienda!S19 -> 1897.7279 | S26: =+R26/R$8*100 -> 30.757637 | T26: =[1]vivienda!U19 -> 10598.463 | U26: =+T26/T$8*100 -> 26.260786 | V26: =[1]vivienda!W19 -> 12185.427 | W26: =+V26/V$8*100 -> 23.024491
A28: Quintil del Hogar
A29: Quintil 1 | B29: =[1]vivienda!C21 -> 339025.73 | C29: =+B29/B$8*100 -> 19.885569 | D29: =[1]vivienda!E21 -> 60434.113 | E29: =+D29/D$8*100 -> 9.8779808 | F29: =[1]vivienda!G21 -> 201516.32 | G29: =+F29/F$8*100 -> 23.214312 | H29: =[1]vivienda!I21 -> 7102.5534 | I29: =+H29/H$8*100 -> 30.772714 | J29: =[1]vivienda!K21 -> 5444.069 | K29: =+J29/J$8*100 -> 21.429741 | L29: =[1]vivienda!M21 -> 28618.726 | M29: =+L29/L$8*100 -> 49.69281 | N29: =[1]vivienda!O21 -> 2501.4655 | O29: =+N29/N$8*100 -> 16.156843 | P29: =[1]vivienda!Q21 -> 494.56613 | Q29: =+P29/P$8*100 -> 12.3742 | R29: =[1]vivienda!S21 -> 2136.1063 | S29: =+R29/R$8*100 -> 34.621182 | T29: =[1]vivienda!U21 -> 15021.089 | U29: =+T29/T$8*100 -> 37.219133 | V29: =[1]vivienda!W21 -> 15756.718 | W29: =+V29/V$8*100 -> 29.772483
A30: Quintil 2 | B30: =[1]vivienda!C22 -> 335733.99 | C30: =+B30/B$8*100 -> 19.692492 | D30: =[1]vivienda!E22 -> 82203.479 | E30: =+D30/D$8*100 -> 13.436193 | F30: =[1]vivienda!G22 -> 192757.52 | G30: =+F30/F$8*100 -> 22.205315 | H30: =[1]vivienda!I22 -> 7416.5174 | I30: =+H30/H$8*100 -> 32.133002 | J30: =[1]vivienda!K22 -> 5563.0651 | K30: =+J30/J$8*100 -> 21.898151 | L30: =[1]vivienda!M22 -> 16423.879 | M30: =+L30/L$8*100 -> 28.517996 | N30: =[1]vivienda!O22 -> 2223.6266 | O30: =+N30/N$8*100 -> 14.362296 | P30: =[1]vivienda!Q22 -> 750.75383 | Q30: =+P30/P$8*100 -> 18.784096 | R30: =[1]vivienda!S22 -> 1869.093 | S30: =+R30/R$8*100 -> 30.293534 | T30: =[1]vivienda!U22 -> 11605.515 | U30: =+T30/T$8*100 -> 28.75605 | V30: =[1]vivienda!W22 -> 14920.539 | W30: =+V30/V$8*100 -> 28.192513
A31: Quintil 3 | B31: =[1]vivienda!C23 -> 337518.23 | C31: =+B31/B$8*100 -> 19.797146 | D31: =[1]vivienda!E23 -> 119701.54 | E31: =+D31/D$8*100 -> 19.565266 | F31: =[1]vivienda!G23 -> 174768.56 | G31: =+F31/F$8*100 -> 20.133019 | H31: =[1]vivienda!I23 -> 4610.7667 | I31: =+H31/H$8*100 -> 19.976731 | J31: =[1]vivienda!K23 -> 6807.7703 | K31: =+J31/J$8*100 -> 26.797742 | L31: =[1]vivienda!M23 -> 7475.4239 | M31: =+L31/L$8*100 -> 12.980131 | N31: =[1]vivienda!O23 -> 4628.362 | O31: =+N31/N$8*100 -> 29.894363 | P31: =[1]vivienda!Q23 -> 1420.971 | Q31: =+P31/P$8*100 -> 35.55314 | R31: =[1]vivienda!S23 -> 1602.0797 | S31: =+R31/R$8*100 -> 25.965886 | T31: =[1]vivienda!U23 -> 6876.3395 | U31: =+T31/T$8*100 -> 17.038138 | V31: =[1]vivienda!W23 -> 9626.4205 | W31: =+V31/V$8*100 -> 18.189221
A32: Quintil 4 | B32: =[1]vivienda!C24 -> 334005.64 | C32: =+B32/B$8*100 -> 19.591115 | D32: =[1]vivienda!E24 -> 153896.97 | E32: =+D32/D$8*100 -> 25.154523 | F32: =[1]vivienda!G24 -> 153137.86 | G32: =+F32/F$8*100 -> 17.641202 | H32: =[1]vivienda!I24 -> 2456.5222 | I32: =+H32/H$8*100 -> 10.643194 | J32: =[1]vivienda!K24 -> 4128.4486 | K32: =+J32/J$8*100 -> 16.251004 | L32: =[1]vivienda!M24 -> 3337.6661 | M32: =+L32/L$8*100 -> 5.7954364 | N32: =[1]vivienda!O24 -> 4417.6849 | O32: =+N32/N$8*100 -> 28.53361 | P32: =[1]vivienda!Q24 -> 534.02657 | Q32: =+P32/P$8*100 -> 13.361512 | R32: =[1]vivienda!S24 -> 0 | S32: =+R32/R$8*100 -> 0 | T32: =[1]vivienda!U24 -> 4069.0112 | U32: =+T32/T$8*100 -> 10.082163 | V32: =[1]vivienda!W24 -> 8027.4574 | W32: =+V32/V$8*100 -> 15.167964
A33: Quintil 5 | B33: =[1]vivienda!C25 -> 339981.1 | C33: =+B33/B$8*100 -> 19.941606 | D33: =[1]vivienda!E25 -> 185732.05 | E33: =+D33/D$8*100 -> 30.357981 | F33: =[1]vivienda!G25 -> 138404.29 | G33: =+F33/F$8*100 -> 15.943921 | H33: =[1]vivienda!I25 -> 1494.3263 | I33: =+H33/H$8*100 -> 6.4743584 | J33: =[1]vivienda!K25 -> 3460.9154 | K33: =+J33/J$8*100 -> 13.623362 | L33: =[1]vivienda!M25 -> 1735.5864 | M33: =+L33/L$8*100 -> 3.0136269 | N33: =[1]vivienda!O25 -> 1483.6984 | O33: =+N33/N$8*100 -> 9.5831352 | P33: =[1]vivienda!Q25 -> 796.43496 | Q33: =+P33/P$8*100 -> 19.927052 | R33: =[1]vivienda!S25 -> 562.66143 | S33: =+R33/R$8*100 -> 9.1193981 | T33: =[1]vivienda!U25 -> 2786.5596 | U33: =+T33/T$8*100 -> 6.9045149 | V33: =[1]vivienda!W25 -> 3524.5754 | W33: =+V33/V$8*100 -> 6.6597217
A34: No Declaran Ingresos | B34: =[1]vivienda!C26 -> 18618.568 | C34: =+B34/B$8*100 -> 1.0920729 | D34: =[1]vivienda!E26 -> 9838.1965 | E34: =+D34/D$8*100 -> 1.6080573 | F34: =[1]vivienda!G26 -> 7484.7658 | G34: =+F34/F$8*100 -> 0.86223135 | H34: =[1]vivienda!I26 -> 0 | I34: =+H34/H$8*100 -> 0 | J34: =[1]vivienda!K26 -> 0 | K34: =+J34/J$8*100 -> 0 | L34: =[1]vivienda!M26 -> 0 | M34: =+L34/L$8*100 -> 0 | N34: =[1]vivienda!O26 -> 227.55284 | O34: =+N34/N$8*100 -> 1.4697527 | P34: =[1]vivienda!Q26 -> 0 | Q34: =+P34/P$8*100 -> 0 | R34: =[1]vivienda!S26 -> 0 | S34: =+R34/R$8*100 -> 0 | T34: =[1]vivienda!U26 -> 0 | U34: =+T34/T$8*100 -> 0 | V34: =[1]vivienda!W26 -> 1068.0531 | W34: =+V34/V$8*100 -> 2.0180975
A35: Fuente: Instituto Nacional de Estadística (INE). XLI Encuesta Permanente de Hogares de Propósitos Múltiples, Mayo 2011.
A36: 1/ Porcentaje por columnas
A37: 2/ Porcentaje por filas

Sheet Cuadro02
A1: Cuadro No. 2. Viviendas con acceso a saneamiento, por sistema que los proporciona según dominio, nivel educativo del jefe, sexo del jefe y quintil de ingreso del hogar
A3: Categorias | B3: Total | C3: 0 | D3: Inodoro conectado a alcantarilla | E3: 0 | F3: Inodoro conectado a pozo septico | G3: 0 | H3: Inodoro con desague a rio, laguna o mar | I3: 0 | J3: Letrina con descarga a rio, laguna o mar | K3: 0 | L3: Letrina con cierre hidraulico | M3: 0 | N3: Letrina con pozo septico | O3: 0 | P3: Letrina con pozo negro | Q3: 0 | R3: Otro Tipo | S3: 0 | T3: No Tiene | U3: 0
B4: No | C4: % /1 | D4: No | E4: % /1 | F4: No | G4: % /1 | H4: No | I4: % /1 | J4: No | K4: % /1 | L4: No | M4: % /1 | N4: No | O4: % /1 | P4: No | Q4: % /1 | R4: No | S4: % /1 | T4: No | U4: % /1
A5: Total Nacional/2 | B5: =+D5+F5+H5+J5+L5+N5+P5+R5+T5 -> 1704883.3 | C5: =[1]vivienda!X5 -> 100 | D5: =[1]vivienda!AA5 -> 621397.39 | E5: =+D5/$B5*100 -> 36.448091 | F5: =[1]vivienda!AC5 -> 278328.5 | G5: =+F5/$B5*100 -> 16.32537 | H5: =[1]vivienda!AE5 -> 17132.961 | I5: =+H5/$B5*100 -> 1.0049345 | J5: =[1]vivienda!AG5 -> 2284.3585 | K5: =+J5/$B5*100 -> 0.13398914 | L5: =[1]vivienda!AI5 -> 361750.8 | M5: =+L5/$B5*100 -> 21.218509 | N5: =[1]vivienda!AK5 -> 91397.1 | O5: =+N5/$B5*100 -> 5.3609008 | P5: =[1]vivienda!AM5 -> 181036.88 | Q5: =+P5/$B5*100 -> 10.618726 | R5: =[1]vivienda!AO5 -> 5132.1823 | S5: =+R5/$B5*100 -> 0.30102837 | T5: =Cuadro01!B8-(Cuadro02!D5+Cuadro02!F5+Cuadro02!H5+Cuadro02!J5+Cuadro02!L5+Cuadro02!N5+Cuadro02!P5+Cuadro02!R5) -> 146423.07 | U5: =+T5/$B5*100 -> 8.5884515
A7: Dominio
A8: Urbano | B8: =+D8+F8+H8+J8+L8+N8+P8+R8+T8 -> 838158.13 | C8: =+B8/$B$5*100 -> 49.162201 | D8: =[1]vivienda!AA6 -> 584309.25 | E8: =+E9+E10+E11 -> 94.031493 | F8: =[1]vivienda!AC6 -> 92727.566 | G8: =+G9+G10+G11 -> 33.315872 | H8: =[1]vivienda!AE6 -> 9923.6021 | I8: =+I9+I10+I11 -> 57.921116 | J8: =[1]vivienda!AG6 -> 949.29206 | K8: =+K9+K10+K11 -> 41.556177 | L8: =[1]vivienda!AI6 -> 51321.159 | M8: =+M9+M10+M11 -> 14.186882 | N8: =[1]vivienda!AK6 -> 29957.343 | O8: =+O9+O10+O11 -> 32.777127 | P8: =[1]vivienda!AM6 -> 53511.337 | Q8: =+Q9+Q10+Q11 -> 29.558251 | R8: =[1]vivienda!AO6 -> 3530.1026 | S8: =+S9+S10+S11 -> 68.783655 | T8: =Cuadro01!B11-(Cuadro02!D8+Cuadro02!F8+Cuadro02!H8+Cuadro02!J8+Cuadro02!L8+Cuadro02!N8+Cuadro02!P8+Cuadro02!R8) -> 11928.479 | U8: =+U9+U10+U11 -> 8.1465844
A9: Distrito Central | B9: =+D9+F9+H9+J9+L9+N9+P9+R9+T9 -> 228007.95 | C9: =+B9/$B$5*100 -> 13.373816 | D9: =[1]vivienda!AA7 -> 186843.64 | E9: =[1]vivienda!AB7 -> 30.068301 | F9: =[1]vivienda!AC7 -> 6826.5853 | G9: =[1]vivienda!AD7 -> 2.452708 | H9: =[1]vivienda!AE7 -> 1183.2748 | I9: =[1]vivienda!AF7 -> 6.9064233 | J9: =[1]vivienda!AG7 -> 455.10569 | K9: =[1]vivienda!AH7 -> 19.922691 | ... S9: =[1]vivienda!AP7 -> 45.668571 | T9: =Cuadro01!B12-(Cuadro02!D9+Cuadro02!F9+Cuadro02!H9+Cuadro02!J9+Cuadro02!L9+Cuadro02!N9+Cuadro02!P9+Cuadro02!R9) -> 910.21138 | U9: =+T9/T$5*100 -> 0.62163112
A10: San Pedro Sula | B10: =+D10+F10+H10+J10+L10+N10+P10+R10+T10 -> 143333.91 | C10: =+B10/$B$5*100 -> 8.4072568 | D10: =[1]vivienda!AA8 -> 128761.63 | E10: =[1]vivienda!AB8 -> 20.721302 | F10: =[1]vivienda!AC8 -> 6736.6939 | G10: =[1]vivienda!AD8 -> 2.4204111 | H10: =[1]vivienda!AE8 -> 1911.1188 | I10: =[1]vivienda!AF8 -> 11.154633 | J10: =[1]vivienda!AG8 -> 159.2599 | K10: =[1]vivienda!AH8 -> 6.9717562 | ... S10: =[1]vivienda!AP8 -> 0 | T10: =Cuadro01!B13-(Cuadro02!D10+Cuadro02!F10+Cuadro02!H10+Cuadro02!J10+Cuadro02!L10+Cuadro02!N10+Cuadro02!P10+Cuadro02!R10) -> 955.55942 | U10: =+T10/T$5*100 -> 0.65260168
A11: Resto Urbano | B11: =+D11+F11+H11+J11+L11+N11+P11+R11+T11 -> 466816.27 | C11: =+B11/$B$5*100 -> 27.381128 | D11: =[1]vivienda!AA9 -> 268703.98 | E11: =[1]vivienda!AB9 -> 43.24189 | F11: =[1]vivienda!AC9 -> 79164.287 | G11: =[1]vivienda!AD9 -> 28.442753 | H11: =[1]vivienda!AE9 -> 6829.2085 | I11: =[1]vivienda!AF9 -> 39.86006 | J11: =[1]vivienda!AG9 -> 334.92647 | K11: =[1]vivienda!AH9 -> 14.66173 | ... S11: =[1]vivienda!AP9 -> 23.115084 | T11: =Cuadro01!B14-(Cuadro02!D11+Cuadro02!F11+Cuadro02!H11+Cuadro02!J11+Cuadro02!L11+Cuadro02!N11+Cuadro02!P11+Cuadro02!R11) -> 10062.708 | U11: =+T11/T$5*100 -> 6.8723516
A12: Rural | B12: =+D12+F12+H12+J12+L12+N12+P12+R12+T12 -> 866725.12 | C12: =+B12/$B$5*100 -> 50.837799 | D12: =[1]vivienda!AA10 -> 37088.145 | E12: =[1]vivienda!AB10 -> 5.9685067 | F12: =[1]vivienda!AC10 -> 185600.93 | G12: =[1]vivienda!AD10 -> 66.684128 | H12: =[1]vivienda!AE10 -> 7209.3587 | I12: =[1]vivienda!AF10 -> 42.078884 | J12: =[1]vivienda!AG10 -> 1335.0664 | K12: =[1]vivienda!AH10 -> 58.443823 | ... S12: =[1]vivienda!AP10 -> 31.216345 | T12: =Cuadro01!B15-(Cuadro02!D12+Cuadro02!F12+Cuadro02!H12+Cuadro02!J12+Cuadro02!L12+Cuadro02!N12+Cuadro02!P12+Cuadro02!R12) -> 134494.59 | U12: =+T12/T$5*100 -> 91.853416
A14: Nivel Educativo del Jefe
A15: Sin Nivel | B15: =+D15+F15+H15+J15+L15+N15+P15+R15+T15 -> 335305.08 | C15: =+B15/$B$5*100 -> 19.667334 | D15: =[1]vivienda!AA12 -> 51213.916 | E15: =[1]vivienda!AB12 -> 8.2417333 | F15: =[1]vivienda!AC12 -> 48136.808 | G15: =[1]vivienda!AD12 -> 17.294962 | H15: =[1]vivienda!AE12 -> 2048.8174 | I15: =[1]vivienda!AF12 -> 11.958338 | J15: =[1]vivienda!AG12 -> 593.73642 | K15: =[1]vivienda!AH12 -> 25.991386 | ... S15: =[1]vivienda!AP12 -> 27.841588 | T15: =Cuadro01!B18-(Cuadro02!D15+Cuadro02!F15+Cuadro02!H15+Cuadro02!J15+Cuadro02!L15+Cuadro02!N15+Cuadro02!P15+Cuadro02!R15) -> 55887.29 | U15: =+T15/T$5*100 -> 38.168364
A16: Primaria | B16: =+D16+F16+H16+J16+L16+N16+P16+R16+T16 -> 939421.21 | C16: =+B16/$B$5*100 -> 55.101791 | D16: =[1]vivienda!AA13 -> 260265.57 | E16: =[1]vivienda!AB13 -> 41.883917 | F16: =[1]vivienda!AC13 -> 172219.64 | G16: =[1]vivienda!AD13 -> 61.876394 | H16: =[1]vivienda!AE13 -> 12575.163 | I16: =[1]vivienda!AF13 -> 73.397488 | J16: =[1]vivienda!AG13 -> 1068.0531 | K16: =[1]vivienda!AH13 -> 46.755058 | ... S16: =[1]vivienda!AP13 -> 57.601589 | T16: =Cuadro01!B19-(Cuadro02!D16+Cuadro02!F16+Cuadro02!H16+Cuadro02!J16+Cuadro02!L16+Cuadro02!N16+Cuadro02!P16+Cuadro02!R16) -> 85447.903 | U16: =+T16/T$5*100 -> 58.356858
A17: Secundaria | B17: =+D17+F17+H17+J17+L17+N17+P17+R17+T17 -> 303361.71 | C17: =+B17/$B$5*100 -> 17.793694 | D17: =[1]vivienda!AA14 -> 199722.98 | E17: =[1]vivienda!AB14 -> 32.140942 | F17: =[1]vivienda!AC14 -> 49390.539 | G17: =[1]vivienda!AD14 -> 17.745412 | H17: =[1]vivienda!AE14 -> 2012.3765 | I17: =[1]vivienda!AF14 -> 11.745643 | J17: =[1]vivienda!AG14 -> 622.56892 | K17: =[1]vivienda!AH14 -> 27.253556 | ... S17: =[1]vivienda!AP14 -> 14.556823 | T17: =Cuadro01!B20-(Cuadro02!D17+Cuadro02!F17+Cuadro02!H17+Cuadro02!J17+Cuadro02!L17+Cuadro02!N17+Cuadro02!P17+Cuadro02!R17) -> 4553.851 | U17: =+T17/T$5*100 -> 3.1100639
A18: Superior | B18: =+D18+F18+H18+J18+L18+N18+P18+R18+T18 -> 121841.14 | C18: =+B18/$B$5*100 -> 7.146597 | D18: =[1]vivienda!AA15 -> 107581.88 | E18: =[1]vivienda!AB15 -> 17.312895 | F18: =[1]vivienda!AC15 -> 8581.5139 | G18: =[1]vivienda!AD15 -> 3.0832322 | H18: =[1]vivienda!AE15 -> 496.60402 | I18: =[1]vivienda!AF15 -> 2.8985301 | J18: =[1]vivienda!AG15 -> 0 | K18: =[1]vivienda!AH15 -> 0 | ... S18: =[1]vivienda!AP15 -> 0 | T18: =Cuadro01!B21-(Cuadro02!D18+Cuadro02!F18+Cuadro02!H18+Cuadro02!J18+Cuadro02!L18+Cuadro02!N18+Cuadro02!P18+Cuadro02!R18) -> -1.3096724e-10 | U18: =+T18/T$5*100 -> -8.94444e-14
A19: Ns / Nr | B19: =+D19+F19+H19+J19+L19+N19+P19+R19+T19 -> 4954.1073 | C19: =+B19/$B$5*100 -> 0.29058338 | D19: =[1]vivienda!AA16 -> 2613.0594 | E19: =[1]vivienda!AB16 -> 0.42051341 | F19: =[1]vivienda!AC16 -> 0 | G19: =[1]vivienda!AD16 -> 0 | H19: =[1]vivienda!AE16 -> 0 | I19: =[1]vivienda!AF16 -> 0 | J19: =[1]vivienda!AG16 -> 0 | K19: =[1]vivienda!AH16 -> 0 | ... S19: =[1]vivienda!AP16 -> 0 | T19: =Cuadro01!B22-(Cuadro02!D19+Cuadro02!F19+Cuadro02!H19+Cuadro02!J19+Cuadro02!L19+Cuadro02!N19+Cuadro02!P19+Cuadro02!R19) -> 534.02657 | U19: =+T19/T$5*100 -> 0.36471477
A21: Sexo del Jefe
A22: Hombre | B22: =+D22+F22+H22+J22+L22+N22+P22+R22+T22 -> 1141754.2 | C22: =+B22/$B$5*100 -> 66.969639 | D22: =[1]vivienda!AA18 -> 374341.34 | E22: =[1]vivienda!AB18 -> 60.241859 | F22: =[1]vivienda!AC18 -> 184420.33 | G22: =[1]vivienda!AD18 -> 66.259953 | H22: =[1]vivienda!AE18 -> 12867.996 | I22: =[1]vivienda!AF18 -> 75.106665 | J22: =[1]vivienda!AG18 -> 1522.7791 | K22: =[1]vivienda!AH18 -> 66.661125 | ... S22: =[1]vivienda!AP18 -> 66.283403 | T22: =Cuadro01!B25-(Cuadro02!D22+Cuadro02!F22+Cuadro02!H22+Cuadro02!J22+Cuadro02!L22+Cuadro02!N22+Cuadro02!P22+Cuadro02!R22) -> 114690.44 | U22: =+T22/T$5*100 -> 78.328124
A23: Mujer | B23: =+D23+F23+H23+J23+L23+N23+P23+R23+T23 -> 563129.09 | C23: =+B23/$B$5*100 -> 33.030361 | D23: =[1]vivienda!AA19 -> 247056.05 | E23: =[1]vivienda!AB19 -> 39.758141 | F23: =[1]vivienda!AC19 -> 93908.166 | G23: =[1]vivienda!AD19 -> 33.740047 | H23: =[1]vivienda!AE19 -> 4264.9653 | I23: =[1]vivienda!AF19 -> 24.893335 | J23: =[1]vivienda!AG19 -> 761.57941 | K23: =[1]vivienda!AH19 -> 33.338875 | ... S23: =[1]vivienda!AP19 -> 33.716597 | T23: =Cuadro01!B26-(Cuadro02!D23+Cuadro02!F23+Cuadro02!H23+Cuadro02!J23+Cuadro02!L23+Cuadro02!N23+Cuadro02!P23+Cuadro02!R23) -> 31732.626 | U23: =+T23/T$5*100 -> 21.671876
A25: Quintil del Hogar
A26: Quintil 1 | B26: =+D26+F26+H26+J26+L26+N26+P26+R26+T26 -> 339025.73 | C26: =+B26/$B$5*100 -> 19.885569 | D26: =[1]vivienda!AA21 -> 40516.954 | E26: =[1]vivienda!AB21 -> 6.5202968 | F26: =[1]vivienda!AC21 -> 42114.125 | G26: =[1]vivienda!AD21 -> 15.131086 | H26: =[1]vivienda!AE21 -> 1638.356 | I26: =[1]vivienda!AF21 -> 9.5625971 | J26: =[1]vivienda!AG21 -> 167.46323 | K26: =[1]vivienda!AH21 -> 7.3308649 | ... S26: =[1]vivienda!AP21 -> 15.234375 | T26: =Cuadro01!B29-(Cuadro02!D26+Cuadro02!F26+Cuadro02!H26+Cuadro02!J26+Cuadro02!L26+Cuadro02!N26+Cuadro02!P26+Cuadro02!R26) -> 64312.265 | U26: =+T26/T$5*100 -> 43.922221
A27: Quintil 2 | B27: =+D27+F27+H27+J27+L27+N27+P27+R27+T27 -> 335733.99 | C27: =+B27/$B$5*100 -> 19.692492 | D27: =[1]vivienda!AA22 -> 62738.875 | E27: =[1]vivienda!AB22 -> 10.096417 | F27: =[1]vivienda!AC22 -> 53849.395 | G27: =[1]vivienda!AD22 -> 19.347424 | H27: =[1]vivienda!AE22 -> 3605.0891 | I27: =[1]vivienda!AF22 -> 21.041834 | J27: =[1]vivienda!AG22 -> 1068.0531 | K27: =[1]vivienda!AH22 -> 46.755058 | ... S27: =[1]vivienda!AP22 -> 18.102293 | T27: =Cuadro01!B30-(Cuadro02!D27+Cuadro02!F27+Cuadro02!H27+Cuadro02!J27+Cuadro02!L27+Cuadro02!N27+Cuadro02!P27+Cuadro02!R27) -> 42004.192 | U27: =+T27/T$5*100 -> 28.686868
A28: Quintil 3 | B28: =+D28+F28+H28+J28+L28+N28+P28+R28+T28 -> 337518.23 | C28: =+B28/$B$5*100 -> 19.797146 | D28: =[1]vivienda!AA23 -> 119534.79 | E28: =[1]vivienda!AB23 -> 19.236448 | F28: =[1]vivienda!AC23 -> 64160.607 | G28: =[1]vivienda!AD23 -> 23.052115 | H28: =[1]vivienda!AE23 -> 3100.679 | I28: =[1]vivienda!AF23 -> 18.097742 | J28: =[1]vivienda!AG23 -> 0 | K28: =[1]vivienda!AH23 -> 0 | ... S28: =[1]vivienda!AP23 -> 21.469629 | T28: =Cuadro01!B31-(Cuadro02!D28+Cuadro02!F28+Cuadro02!H28+Cuadro02!J28+Cuadro02!L28+Cuadro02!N28+Cuadro02!P28+Cuadro02!R28) -> 20715.673 | U28: =+T28/T$5*100 -> 14.147821
A29: Quintil 4 | B29: =+D29+F29+H29+J29+L29+N29+P29+R29+T29 -> 334005.64 | C29: =+B29/$B$5*100 -> 19.591115 | D29: =[1]vivienda!AA24 -> 164886.76 | E29: =[1]vivienda!AB24 -> 26.534832 | F29: =[1]vivienda!AC24 -> 63531.717 | G29: =[1]vivienda!AD24 -> 22.826163 | H29: =[1]vivienda!AE24 -> 4655.5612 | I29: =[1]vivienda!AF24 -> 27.173127 | J29: =[1]vivienda!AG24 -> 821.28927 | K29: =[1]vivienda!AH24 -> 35.952731 | ... S29: =[1]vivienda!AP24 -> 29.027584 | T29: =Cuadro01!B32-(Cuadro02!D29+Cuadro02!F29+Cuadro02!H29+Cuadro02!J29+Cuadro02!L29+Cuadro02!N29+Cuadro02!P29+Cuadro02!R29) -> 13018.293 | U29: =+T29/T$5*100 -> 8.8908752
A30: Quintil 5 | B30: =+D30+F30+H30+J30+L30+N30+P30+R30+T30 -> 339981.1 | C30: =+B30/$B$5*100 -> 19.941606 | D30: =[1]vivienda!AA25 -> 221756.62 | E30: =[1]vivienda!AB25 -> 35.686764 | F30: =[1]vivienda!AC25 -> 51263.662 | G30: =[1]vivienda!AD25 -> 18.418402 | H30: =[1]vivienda!AE25 -> 4133.2754 | I30: =[1]vivienda!AF25 -> 24.1247 | J30: =[1]vivienda!AG25 -> 227.55284 | K30: =[1]vivienda!AH25 -> 9.9613457 | ... S30: =[1]vivienda!AP25 -> 16.166119 | T30: =Cuadro01!B33-(Cuadro02!D30+Cuadro02!F30+Cuadro02!H30+Cuadro02!J30+Cuadro02!L30+Cuadro02!N30+Cuadro02!P30+Cuadro02!R30) -> 5838.6211 | U30: =+T30/T$5*100 -> 3.9875008
A31: No Declaran Ingresos | B31: =+D31+F31+H31+J31+L31+N31+P31+R31+T31 -> 18618.568 | C31: =+B31/$B$5*100 -> 1.0920729 | D31: =[1]vivienda!AA26 -> 11963.398 | E31: =[1]vivienda!AB26 -> 1.9252412 | F31: =[1]vivienda!AC26 -> 3408.9952 | G31: =[1]vivienda!AD26 -> 1.22481 | H31: =[1]vivienda!AE26 -> 0 | I31: =[1]vivienda!AF26 -> 0 | J31: =[1]vivienda!AG26 -> 0 | K31: =[1]vivienda!AH26 -> 0 | ... S31: =[1]vivienda!AP26 -> 0 | T31: =Cuadro01!B34-(Cuadro02!D31+Cuadro02!F31+Cuadro02!H31+Cuadro02!J31+Cuadro02!L31+Cuadro02!N31+Cuadro02!P31+Cuadro02!R31) -> 534.02657 | U31: =+T31/T$5*100 -> 0.36471477
A32: Fuente: Instituto Nacional de Estadística (INE). XLI Encuesta Permanente de Hogares de Propósitos Múltiples, Mayo 2011.
A33: /1 Porcentaje por columnas
A34: /2 Porcentaje por filas

Sheet Cuadro03
A1: Cuadro No. 3. Viviendas con acceso a servicio de Electricidad, por sistema que los porporciona segun dominio, nivel educativo del jefe, sexo del jefe y quintil de ingreso del hogar
A3: Categorias | B3: Total | C3: 0 | D3: Servicio publico | E3: 0 | F3: Servicio privado colectivo | G3: 0 | H3: Planta propia | I3: 0 | J3: Energia solar | K3: 0 | L3: Vela | M3: 0 | N3: Candil o lampara de gas | O3: 0 | P3: Ocote | Q3: 0 | R3: Otro | S3: 0
B4: No | C4: % /1 | D4: No | E4: % /1 | F4: No | G4: % /1 | H4: No | I4: % /1 | J4: No | K4: % /1 | L4: No | M4: % /1 | N4: No | O4: % /1 | P4: No | Q4: % /1 | R4: No | S4: % /1
A5: Total Nacional/2 | B5: =[1]vivienda!AQ5 -> 1704883.3 | C5: =+E5+G5+I5+K5+M5+O5+Q5+S5 -> 100 | D5: =[1]vivienda!AS5 -> 1362305.1 | E5: =+D5/$B$5*100 -> 79.906066 | F5: =[1]vivienda!AU5 -> 4481.1555 | G5: =+F5/$B$5*100 -> 0.26284237 | H5: =[1]vivienda!AW5 -> 10607.683 | I5: =+H5/$B$5*100 -> 0.62219408 | J5: =[1]vivienda!AY5 -> 23710.78 | K5: =+J5/$B$5*100 -> 1.3907568 | L5: =[1]vivienda!BA5 -> 74116.124 | M5: =+L5/$B$5*100 -> 4.3472844 | N5: =[1]vivienda!BC5 -> 150287.64 | O5: =+N5/$B$5*100 -> 8.8151281 | P5: =[1]vivienda!BE5 -> 72367.855 | Q5: =+P5/$B$5*100 -> 4.2447397 | R5: =[1]vivienda!BG5 -> 7006.8704 | S5: =+R5/$B$5*100 -> 0.41098828
A7: Dominio
A8: Urbano | B8: =[1]vivienda!AQ6 -> 838158.13 | C8: =+B8/B5*100 -> 49.162201 | D8: =[1]vivienda!AS6 -> 828225.17 | E8: =+D8/D5*100 -> 60.795863 | F8: =[1]vivienda!AU6 -> 2825.6731 | G8: =+F8/F5*100 -> 63.056797 | H8: =[1]vivienda!AW6 -> 167.46323 | I8: =+H8/H5*100 -> 1.5786976 | J8: =[1]vivienda!AY6 -> 0 | K8: =+J8/J5*100 -> 0 | L8: =[1]vivienda!BA6 -> 3304.2007 | M8: =+L8/L5*100 -> 4.4581401 | N8: =[1]vivienda!BC6 -> 2709.4008 | O8: =+N8/N5*100 -> 1.8028101 | P8: =[1]vivienda!BE6 -> 167.46323 | Q8: =+P8/P5*100 -> 0.23140555 | R8: =[1]vivienda!BG6 -> 758.75952 | S8: =+R8/R5*100 -> 10.828793
A9: Distrito Central | B9: =[1]vivienda!AQ7 -> 228007.95 | C9: =[1]vivienda!AR7 -> 13.373816 | D9: =[1]vivienda!AS7 -> 227279.78 | E9: =[1]vivienda!AT7 -> 16.683471 | F9: =[1]vivienda!AU7 -> 728.1691 | G9: =[1]vivienda!AV7 -> 16.249583 | H9: =[1]vivienda!AW7 -> 0 | I9: =[1]vivienda!AX7 -> 0 | ... S9: =[1]vivienda!BH7 -> 0
A10: San Pedro Sula | B10: =[1]vivienda!AQ8 -> 143333.91 | C10: =[1]vivienda!AR8 -> 8.4072568 | D10: =[1]vivienda!AS8 -> 142665.02 | E10: =[1]vivienda!AT8 -> 10.472325 | F10: =[1]vivienda!AU8 -> 668.89159 | G10: =[1]vivienda!AV8 -> 14.926766 | H10: =[1]vivienda!AW8 -> 0 | I10: =[1]vivienda!AX8 -> 0 | ... S10: =[1]vivienda!BH8 -> 0
A11: Resto Urbano | B11: =[1]vivienda!AQ9 -> 466816.27 | C11: =[1]vivienda!AR9 -> 27.381128 | D11: =[1]vivienda!AS9 -> 458280.37 | E11: =[1]vivienda!AT9 -> 33.640067 | F11: =[1]vivienda!AU9 -> 1428.6124 | G11: =[1]vivienda!AV9 -> 31.880448 | H11: =[1]vivienda!AW9 -> 167.46323 | I11: =[1]vivienda!AX9 -> 1.5786976 | ... S11: =[1]vivienda!BH9 -> 10.828793
A12: Rural | B12: =[1]vivienda!AQ10 -> 866725.12 | C12: =[1]vivienda!AR10 -> 50.837799 | D12: =[1]vivienda!AS10 -> 534079.97 | E12: =[1]vivienda!AT10 -> 39.204137 | F12: =[1]vivienda!AU10 -> 1655.4824 | G12: =[1]vivienda!AV10 -> 36.943203 | H12: =[1]vivienda!AW10 -> 10440.219 | I12: =[1]vivienda!AX10 -> 98.421302 | ... S12: =[1]vivienda!BH10 -> 89.171207
A14: Nivel Educativo del Jefe
A15: Sin Nivel | B15: =[1]vivienda!AQ12 -> 335305.08 | C15: =[1]vivienda!AR12 -> 19.667334 | D15: =[1]vivienda!AS12 -> 218554.38 | E15: =[1]vivienda!AT12 -> 16.042983 | F15: =[1]vivienda!AU12 -> 783.52732 | G15: =[1]vivienda!AV12 -> 17.484939 | H15: =[1]vivienda!AW12 -> 1869.093 | I15: =[1]vivienda!AX12 -> 17.620182 | ... S15: =[1]vivienda!BH12 -> 31.24803
A16: Primaria | B16: =[1]vivienda!AQ13 -> 939421.21 | C16: =[1]vivienda!AR13 -> 55.101791 | D16: =[1]vivienda!AS13 -> 727030.56 | E16: =[1]vivienda!AT13 -> 53.367673 | F16: =[1]vivienda!AU13 -> 2258.9539 | G16: =[1]vivienda!AV13 -> 50.410075 | H16: =[1]vivienda!AW13 -> 8204.5631 | I16: =[1]vivienda!AX13 -> 77.34548 | ... S16: =[1]vivienda!BH13 -> 64.941235
A17: Secundaria | B17: =[1]vivienda!AQ14 -> 303361.71 | C17: =[1]vivienda!AR14 -> 17.793694 | D17: =[1]vivienda!AS14 -> 290626.44 | E17: =[1]vivienda!AT14 -> 21.333432 | F17: =[1]vivienda!AU14 -> 1438.6743 | G17: =[1]vivienda!AV14 -> 32.104986 | H17: =[1]vivienda!AW14 -> 534.02657 | I17: =[1]vivienda!AX14 -> 5.0343377 | ... S17: =[1]vivienda!BH14 -> 3.8107353
A18: Superior | B18: =[1]vivienda!AQ15 -> 121841.14 | C18: =[1]vivienda!AR15 -> 7.146597 | D18: =[1]vivienda!AS15 -> 121574.12 | E18: =[1]vivienda!AT15 -> 8.9241477 | F18: =[1]vivienda!AU15 -> 0 | G18: =[1]vivienda!AV15 -> 0 | H18: =[1]vivienda!AW15 -> 0 | I18: =[1]vivienda!AX15 -> 0 | ... S18: =[1]vivienda!BH15 -> 0
A19: Ns / Nr | B19: =[1]vivienda!AQ16 -> 4954.1073 | C19: =[1]vivienda!AR16 -> 0.29058338 | D19: =[1]vivienda!AS16 -> 4519.6308 | E19: =[1]vivienda!AT16 -> 0.33176347 | F19: =[1]vivienda!AU16 -> 0 | G19: =[1]vivienda!AV16 -> 0 | H19: =[1]vivienda!AW16 -> 0 | I19: =[1]vivienda!AX16 -> 0 | ... S19: =[1]vivienda!BH16 -> 0
A21: Sexo del Jefe
A22: Hombre | B22: =[1]vivienda!AQ18 -> 1141754.2 | C22: =[1]vivienda!AR18 -> 66.969639 | D22: =[1]vivienda!AS18 -> 875265.26 | E22: =[1]vivienda!AT18 -> 64.248841 | F22: =[1]vivienda!AU18 -> 2623.2679 | G22: =[1]vivienda!AV18 -> 58.539987 | H22: =[1]vivienda!AW18 -> 7563.7312 | I22: =[1]vivienda!AX18 -> 71.304275 | ... S22: =[1]vivienda!BH18 -> 79.775508
A23: Mujer | B23: =[1]vivienda!AQ19 -> 563129.09 | C23: =[1]vivienda!AR19 -> 33.030361 | D23: =[1]vivienda!AS19 -> 487039.88 | E23: =[1]vivienda!AT19 -> 35.751159 | F23: =[1]vivienda!AU19 -> 1857.8877 | G23: =[1]vivienda!AV19 -> 41.460013 | H23: =[1]vivienda!AW19 -> 3043.9514 | I23: =[1]vivienda!AX19 -> 28.695725 | ... S23: =[1]vivienda!BH19 -> 20.224492
A25: Quintil del Hogar
A26: Quintil 1 | B26: =[1]vivienda!AQ21 -> 339025.73 | C26: =[1]vivienda!AR21 -> 19.885569 | D26: =[1]vivienda!AS21 -> 201194.31 | E26: =[1]vivienda!AT21 -> 14.768667 | F26: =[1]vivienda!AU21 -> 426.27319 | G26: =[1]vivienda!AV21 -> 9.512573 | H26: =[1]vivienda!AW21 -> 1521.9757 | I26: =[1]vivienda!AX21 -> 14.347862 | ... S26: =[1]vivienda!BH21 -> 46.241037
A27: Quintil 2 | B27: =[1]vivienda!AQ22 -> 335733.99 | C27: =[1]vivienda!AR22 -> 19.692492 | D27: =[1]vivienda!AS22 -> 243361.21 | E27: =[1]vivienda!AT22 -> 17.863928 | F27: =[1]vivienda!AU22 -> 1056.8478 | G27: =[1]vivienda!AV22 -> 23.58427 | H27: =[1]vivienda!AW22 -> 3204.1594 | I27: =[1]vivienda!AX22 -> 30.206026 | ... S27: =[1]vivienda!BH22 -> 3.8107353
A28: Quintil 3 | B28: =[1]vivienda!AQ23 -> 337518.23 | C28: =[1]vivienda!AR23 -> 19.797146 | D28: =[1]vivienda!AS23 -> 285920.76 | E28: =[1]vivienda!AT23 -> 20.988012 | F28: =[1]vivienda!AU23 -> 1415.4229 | G28: =[1]vivienda!AV23 -> 31.586115 | H28: =[1]vivienda!AW23 -> 2356.9722 | I28: =[1]vivienda!AX23 -> 22.219482 | ... S28: =[1]vivienda!BH23 -> 23.27308
A29: Quintil 4 | B29: =[1]vivienda!AQ24 -> 334005.64 | C29: =[1]vivienda!AR24 -> 19.591115 | D29: =[1]vivienda!AS24 -> 297348.92 | E29: =[1]vivienda!AT24 -> 21.826896 | F29: =[1]vivienda!AU24 -> 860.49264 | G29: =[1]vivienda!AV24 -> 19.202472 | H29: =[1]vivienda!AW24 -> 2403.1196 | I29: =[1]vivienda!AX24 -> 22.65452 | ... S29: =[1]vivienda!BH24 -> 11.432206
A30: Quintil 5 | B30: =[1]vivienda!AQ25 -> 339981.1 | C30: =[1]vivienda!AR25 -> 19.941606 | D30: =[1]vivienda!AS25 -> 317463.44 | E30: =[1]vivienda!AT25 -> 23.303402 | F30: =[1]vivienda!AU25 -> 722.11897 | G30: =[1]vivienda!AV25 -> 16.114571 | H30: =[1]vivienda!AW25 -> 1121.4558 | I30: =[1]vivienda!AX25 -> 10.572109 | ... S30: =[1]vivienda!BH25 -> 15.242941
A31: No Declaran Ingresos | B31: =[1]vivienda!AQ26 -> 18618.568 | C31: =[1]vivienda!AR26 -> 1.0920729 | D31: =[1]vivienda!AS26 -> 17016.488 | E31: =[1]vivienda!AT26 -> 1.2490952 | F31: =[1]vivienda!AU26 -> 0 | G31: =[1]vivienda!AV26 -> 0 | H31: =[1]vivienda!AW26 -> 0 | I31: =[1]vivienda!AX26 -> 0 | ... S31: =[1]vivienda!BH26 -> 0
A32: Fuente: Instituto Nacional de Estadística (INE). XLI Encuesta Permanente de Hogares de Propósitos Múltiples, Mayo 2011.
A33: /1 Porcentaje por columnas
A34: /2 Porcentaje por filas

Sheet Cuadro04
A1: Cuadro No. 4. Total hogares y hogares con hacinamiento segun dominio, nivel educativo del jefe, sexo del jefe, quintil de ingreso y edad del jefe
A3: Categorias | B3: Total Hogares | C3: Hogares con Hacinamiento* | F3: Total Hogares | J3: Hogares con Hacinamiento
C4: No. | D4: %/1 | E4: %/2 | F4: Personas por Hogar | G4: Piezas | H4: Piezas para Dormir | I4: Personas por Habitacion | J4: Personas por Hogar | K4: Piezas | L4: Piezas para Dormir | M4: Personas por Habitacion
A6: Total Nacional | B6: =[1]vivienda!C33 -> 1737496.4 | C6: =[1]vivienda!D33 -> 152963.66 | D6: =+C6/C$6*100 -> 100 | E6: =+C6/B6*100 -> 8.8036822 | F6: =[1]vivienda!E33 -> 4.7201583 | G6: =[1]vivienda!F33 -> 3.6949439 | H6: =[1]vivienda!G33 -> 1.8918672 | I6: =[1]vivienda!H33 -> 1.6472472 | J6: =[1]vivienda!I33 -> 6.8332607 | K6: =[1]vivienda!J33 -> 1.5709049 | L6: =[1]vivienda!K33 -> 1.1622681 | M6: =[1]vivienda!L33 -> 4.7383086
A8: Dominio
A9: Urbano | B9: =[1]vivienda!C34 -> 855765.15 | C9: =[1]vivienda!D34 -> 60817.378 | D9: =+C9/C$6*100 -> 39.759363 | E9: =+C9/B9*100 -> 7.1067836 | F9: =[1]vivienda!E34 -> 4.3637434 | G9: =[1]vivienda!F34 -> 3.9438216 | H9: =[1]vivienda!G34 -> 2.0290998 | I9: =[1]vivienda!H34 -> 1.479447 | J9: =[1]vivienda!I34 -> 5.941824 | K9: =[1]vivienda!J34 -> 1.3176627 | L9: =[1]vivienda!K34 -> 1.103431 | M9: =[1]vivienda!L34 -> 4.8494166
A10: Distrito Central | B10: =[1]vivienda!C35 -> 234606.98 | C10: =[1]vivienda!D35 -> 20024.65 | D10: =+C10/C$6*100 -> 13.091116 | E10: =+C10/B10*100 -> 8.5354025 | F10: =[1]vivienda!E35 -> 4.3869059 | G10: =[1]vivienda!F35 -> 4.042621 | H10: =[1]vivienda!G35 -> 2.1351115 | I10: =[1]vivienda!H35 -> 1.5191689 | J10: =[1]vivienda!I35 -> 5.8590909 | K10: =[1]vivienda!J35 -> 1.3079545 | L10: =[1]vivienda!K35 -> 1.0852273 | M10: =[1]vivienda!L35 -> 4.8001894
A11: San Pedro Sula | B11: =[1]vivienda!C36 -> 145834.29 | C11: =[1]vivienda!D36 -> 13218.572 | D11: =+C11/C$6*100 -> 8.6416419 | E11: =+C11/B11*100 -> 9.064104 | F11: =[1]vivienda!E36 -> 4.1667577 | G11: =[1]vivienda!F36 -> 3.748832 | H11: =[1]vivienda!G36 -> 1.9431036 | I11: =[1]vivienda!H36 -> 1.552935 | J11: =[1]vivienda!I36 -> 5.1963855 | K11: =[1]vivienda!J36 -> 1.1855422 | L11: =[1]vivienda!K36 -> 1.0746988 | M11: =[1]vivienda!L36 -> 4.6933735
A12: Resto Urbano | B12: =[1]vivienda!C37 -> 475323.87 | C12: =[1]vivienda!D37 -> 27574.155 | D12: =+C12/C$6*100 -> 18.026605 | E12: =+C12/B12*100 -> 5.8011299 | F12: =[1]vivienda!E37 -> 4.4127482 | G12: =[1]vivienda!F37 -> 3.9552341 | H12: =[1]vivienda!G37 -> 2.0031598 | I12: =[1]vivienda!H37 -> 1.43757 | J12: =[1]vivienda!I37 -> 6.359256 | K12: =[1]vivienda!J37 -> 1.3880492 | L12: =[1]vivienda!K37 -> 1.1304245 | M12: =[1]vivienda!L37 -> 4.9599702
A13: Rural | B13: =[1]vivienda!C38 -> 881731.27 | C13: =[1]vivienda!D38 -> 92146.285 | D13: =+C13/C$6*100 -> 60.240637 | E13: =+C13/B13*100 -> 10.450609 | F13: =[1]vivienda!E38 -> 5.0660772 | G13: =[1]vivienda!F38 -> 3.4540838 | H13: =[1]vivienda!G38 -> 1.758676 | I13: =[1]vivienda!H38 -> 1.8096416 | J13: =[1]vivienda!I38 -> 7.4216169 | K13: =[1]vivienda!J38 -> 1.7380469 | L13: =[1]vivienda!K38 -> 1.2011011 | M13: =[1]vivienda!L38 -> 4.6649763
A15: Nivel Educativo del Jefe
A16: Sin Nivel | B16: =[1]vivienda!C40 -> 338433.24 | C16: =[1]vivienda!D40 -> 48221.192 | D16: =+C16/C$6*100 -> 31.524606 | E16: =+C16/B16*100 -> 14.248362 | F16: =[1]vivienda!E40 -> 5.119453 | G16: =[1]vivienda!F40 -> 3.2740349 | H16: =[1]vivienda!G40 -> 1.7518504 | I16: =[1]vivienda!H40 -> 1.9454138 | J16: =[1]vivienda!I40 -> 7.6159855 | K16: =[1]vivienda!J40 -> 1.7883449 | L16: =[1]vivienda!K40 -> 1.2346306 | M16: =[1]vivienda!L40 -> 4.702927
A17: Primaria | B17: =[1]vivienda!C41 -> 959486.13 | C17: =[1]vivienda!D41 -> 89780.834 | D17: =+C17/C$6*100 -> 58.694224 | E17: =+C17/B17*100 -> 9.357179 | F17: =[1]vivienda!E41 -> 4.873043 | G17: =[1]vivienda!F41 -> 3.5357081 | H17: =[1]vivienda!G41 -> 1.8231204 | I17: =[1]vivienda!H41 -> 1.7455051 | J17: =[1]vivienda!I41 -> 6.6654611 | K17: =[1]vivienda!J41 -> 1.5187402 | L17: =[1]vivienda!K41 -> 1.141961 | M17: =[1]vivienda!L41 -> 4.7718481
A18: Secundaria | B18: =[1]vivienda!C42 -> 310182.62 | C18: =[1]vivienda!D42 -> 13617.145 | D18: =+C18/C$6*100 -> 8.9022094 | E18: =+C18/B18*100 -> 4.3900414 | F18: =[1]vivienda!E42 -> 4.151313 | G18: =[1]vivienda!F42 -> 4.0440823 | H18: =[1]vivienda!G42 -> 2.0169916 | I18: =[1]vivienda!H42 -> 1.3288596 | J18: =[1]vivienda!I42 -> 5.271866 | K18: =[1]vivienda!J42 -> 1.1619882 | L18: =[1]vivienda!K42 -> 1.0363194 | M18: =[1]vivienda!L42 -> 4.6834794
A19: Superior | B19: =[1]vivienda!C43 -> 124440.33 | C19: =[1]vivienda!D43 -> 682.46089 | D19: =+C19/C$6*100 -> 0.44615883 | E19: =+C19/B19*100 -> 0.54842422 | F19: =[1]vivienda!E43 -> 3.8952405 | G19: =[1]vivienda!F43 -> 5.2266609 | H19: =[1]vivienda!G43 -> 2.5036155 | I19: =[1]vivienda!H43 -> 0.86345998 | J19: =[1]vivienda!I43 -> 4.7666388 | K19: =[1]vivienda!J43 -> 1 | L19: =[1]vivienda!K43 -> 1 | M19: =[1]vivienda!L43 -> 4.7666388
A20: Ns / Nr | B20: =[1]vivienda!C44 -> 4954.1073 | C20: =[1]vivienda!D44 -> 662.02936 | D20: =+C20/C$6*100 -> 0.43280172 | E20: =+C20/B20*100 -> 13.363242 | F20: =[1]vivienda!E44 -> 4.1698196 | G20: =[1]vivienda!F44 -> 3.3984537 | H20: =[1]vivienda!G44 -> 1.5710117 | I20: =[1]vivienda!H44 -> 1.5662652 | J20: =[1]vivienda!I44 -> 6.8232781 | K20: =[1]vivienda!J44 -> 1.8066509 | L20: =[1]vivienda!K44 -> 1.4033254 | M20: =[1]vivienda!L44 -> 3.8655582
A22: Sexo del Jefe
A23: Hombre | B23: =[1]vivienda!C46 -> 1166083.7 | C23: =[1]vivienda!D46 -> 112880.11 | D23: =+C23/C$6*100 -> 73.795378 | E23: =+C23/B23*100 -> 9.6802751 | F23: =[1]vivienda!E46 -> 4.8491951 | G23: =[1]vivienda!F46 -> 3.6519895 | H23: =[1]vivienda!G46 -> 1.8756246 | I23: =[1]vivienda!H46 -> 1.7088846 | J23: =[1]vivienda!I46 -> 6.9510095 | K23: =[1]vivienda!J46 -> 1.6003988 | L23: =[1]vivienda!K46 -> 1.1733486 | M23: =[1]vivienda!L46 -> 4.6903049
A24: Mujer | B24: =[1]vivienda!C47 -> 571412.69 | C24: =[1]vivienda!D47 -> 40083.549 | D24: =+C24/C$6*100 -> 26.204622 | E24: =+C24/B24*100 -> 7.014816 | F24: =[1]vivienda!E47 -> 4.4568325 | G24: =[1]vivienda!F47 -> 3.7822201 | H24: =[1]vivienda!G47 -> 1.9250136 | I24: =[1]vivienda!H47 -> 1.5220099 | J24: =[1]vivienda!I47 -> 6.5016659 | K24: =[1]vivienda!J47 -> 1.4878464 | L24: =[1]vivienda!K47 -> 1.1310641 | M24: =[1]vivienda!L47 -> 4.8734928
A26: Quintil del Hogar
A27: Quintil 1 | B27: =[1]vivienda!C49 -> 343619.22 | C27: =[1]vivienda!D49 -> 55616.008 | D27: =+C27/C$6*100 -> 36.358967 | E27: =+C27/B27*100 -> 16.18536 | F27: =[1]vivienda!E49 -> 5.4362753 | G27: =[1]vivienda!F49 -> 3.1769196 | H27: =[1]vivienda!G49 -> 1.6690454 | I27: =[1]vivienda!H49 -> 2.1392812 | J27: =[1]vivienda!I49 -> 7.6712595 | K27: =[1]vivienda!J49 -> 1.7601011 | L27: =[1]vivienda!K49 -> 1.2023061 | M27: =[1]vivienda!L49 -> 4.8214647
A28: Quintil 2 | B28: =[1]vivienda!C50 -> 343664.65 | C28: =[1]vivienda!D50 -> 38950.985 | D28: =+C28/C$6*100 -> 25.464208 | E28: =+C28/B28*100 -> 11.33401 | F28: =[1]vivienda!E50 -> 5.2458584 | G28: =[1]vivienda!F50 -> 3.3911773 | H28: =[1]vivienda!G50 -> 1.7940454 | I28: =[1]vivienda!H50 -> 1.9220595 | J28: =[1]vivienda!I50 -> 7.0088373 | K28: =[1]vivienda!J50 -> 1.5744712 | L28: =[1]vivienda!K50 -> 1.1664092 | M28: =[1]vivienda!L50 -> 4.7660946
A29: Quintil 3 | B29: =[1]vivienda!C51 -> 343700.47 | C29: =[1]vivienda!D51 -> 34977.106 | D29: =+C29/C$6*100 -> 22.866284 | E29: =+C29/B29*100 -> 10.176624 | F29: =[1]vivienda!E51 -> 4.9041211 | G29: =[1]vivienda!F51 -> 3.520171 | H29: =[1]vivienda!G51 -> 1.8359679 | I29: =[1]vivienda!H51 -> 1.7764388 | J29: =[1]vivienda!I51 -> 6.1709256 | K29: =[1]vivienda!J51 -> 1.4578049 | L29: =[1]vivienda!K51 -> 1.1312586 | M29: =[1]vivienda!L51 -> 4.634913
A30: Quintil 4 | B30: =[1]vivienda!C52 -> 343475.38 | C30: =[1]vivienda!D52 -> 19223.22 | D30: =+C30/C$6*100 -> 12.567181 | E30: =+C30/B30*100 -> 5.5966807 | F30: =[1]vivienda!E52 -> 4.428305 | G30: =[1]vivienda!F52 -> 3.7950335 | H30: =[1]vivienda!G52 -> 1.9724077 | I30: =[1]vivienda!H52 -> 1.4795659 | J30: =[1]vivienda!I52 -> 5.6728826 | K30: =[1]vivienda!J52 -> 1.2786914 | L30: =[1]vivienda!K52 -> 1.1133163 | M30: =[1]vivienda!L52 -> 4.7795162
A31: Quintil 5 | B31: =[1]vivienda!C53 -> 343878.05 | C31: =[1]vivienda!D53 -> 3701.7768 | D31: =+C31/C$6*100 -> 2.4200367 | E31: =+C31/B31*100 -> 1.0764795 | F31: =[1]vivienda!E53 -> 3.6359071 | G31: =[1]vivienda!F53 -> 4.5600773 | H31: =[1]vivienda!G53 -> 2.1755453 | I31: =[1]vivienda!H53 -> 0.95241521 | J31: =[1]vivienda!I53 -> 4.6466921 | K31: =[1]vivienda!J53 -> 1.2811187 | L31: =[1]vivienda!K53 -> 1.0860451 | M31: =[1]vivienda!L53 -> 3.9352527
A32: No Declaran Ingresos | B32: =[1]vivienda!C54 -> 19158.645 | C32: =[1]vivienda!D54 -> 494.56613 | D32: =+C32/C$6*100 -> 0.32332263 | E32: =+C32/B32*100 -> 2.5814254 | F32: =[1]vivienda!E54 -> 3.8396358 | G32: =[1]vivienda!F54 -> 4.1668089 | H32: =[1]vivienda!G54 -> 2.1101539 | I32: =[1]vivienda!H54 -> 1.1051646 | J32: =[1]vivienda!I54 -> 7.079788 | K32: =[1]vivienda!J54 -> 1.539894 | L32: =[1]vivienda!K54 -> 1 | M32: =[1]vivienda!L54 -> 4.920212
A34: Edad del jefe del hogar
A35: De Menos de 25 Años | B35: =[1]vivienda!C56 -> 129612.18 | C35: =[1]vivienda!D56 -> 9754.8505 | D35: =+C35/C$6*100 -> 6.3772339 | E35: =+C35/B35*100 -> 7.5261836 | F35: =[1]vivienda!E56 -> 3.3022973 | G35: =[1]vivienda!F56 -> 2.7979754 | H35: =[1]vivienda!G56 -> 1.3332771 | I35: =[1]vivienda!H56 -> 1.670399 | J35: =[1]vivienda!I56 -> 4.6878431 | K35: =[1]vivienda!J56 -> 1.1164514 | L35: =[1]vivienda!K56 -> 1.0445395 | M35: =[1]vivienda!L56 -> 4.482154
A36: De 26 - 30 Años | B36: =[1]vivienda!C57 -> 136842.28 | C36: =[1]vivienda!D57 -> 14674.151 | D36: =+C36/C$6*100 -> 9.5932266 | E36: =+C36/B36*100 -> 10.723404 | F36: =[1]vivienda!E57 -> 3.9225006 | G36: =[1]vivienda!F57 -> 2.929088 | H36: =[1]vivienda!G57 -> 1.3878676 | I36: =[1]vivienda!H57 -> 1.83228 | J36: =[1]vivienda!I57 -> 5.2072818 | K36: =[1]vivienda!J57 -> 1.1529821 | L36: =[1]vivienda!K57 -> 1.0654416 | M36: =[1]vivienda!L57 -> 4.8628599
A37: De 31 - 40 Años | B37: =[1]vivienda!C58 -> 345516.2 | C37: =[1]vivienda!D58 -> 37302.54 | D37: =+C37/C$6*100 -> 24.386537 | E37: =+C37/B37*100 -> 10.796177 | F37: =[1]vivienda!E58 -> 4.7940282 | G37: =[1]vivienda!F58 -> 3.3715218 | H37: =[1]vivienda!G58 -> 1.7127963 | I37: =[1]vivienda!H58 -> 1.844748 | J37: =[1]vivienda!I58 -> 6.0338192 | K37: =[1]vivienda!J58 -> 1.3462403 | L37: =[1]vivienda!K58 -> 1.0718331 | M37: =[1]vivienda!L58 -> 4.8222806
A38: De 41 - 50 Años | B38: =[1]vivienda!C59 -> 386899.09 | C38: =[1]vivienda!D59 -> 44871.88 | D38: =+C38/C$6*100 -> 29.334993 | E38: =+C38/B38*100 -> 11.597825 | F38: =[1]vivienda!E59 -> 5.3528053 | G38: =[1]vivienda!F59 -> 3.8161068 | H38: =[1]vivienda!G59 -> 2.0415623 | I38: =[1]vivienda!H59 -> 1.8027731 | J38: =[1]vivienda!I59 -> 7.2830194 | K38: =[1]vivienda!J59 -> 1.6506934 | L38: =[1]vivienda!K59 -> 1.1315564 | M38: =[1]vivienda!L59 -> 4.7509438
A39: De 50 y mas Años | B39: =[1]vivienda!C60 -> 738626.67 | C39: =[1]vivienda!D60 -> 46360.242 | D39: =+C39/C$6*100 -> 30.30801 | E39: =+C39/B39*100 -> 6.2765459 | F39: =[1]vivienda!E60 -> 4.7507983 | G39: =[1]vivienda!F60 -> 4.0555642 | H39: =[1]vivienda!G60 -> 2.0886156 | I39: =[1]vivienda!H60 -> 1.4383003 | J39: =[1]vivienda!I60 -> 8.0072789 | K39: =[1]vivienda!J60 -> 1.9023545 | L39: =[1]vivienda!K60 -> 1.3201797 | M39: =[1]vivienda!L60 -> 4.6729882
A40: Fuente: Instituto Nacional de Estadística (INE). XLI Encuesta Permanente de Hogares de Propósitos Múltiples, Mayo 2011.
A41: /1 Porcentaje por columnas
A42: /2 Porcentaje por filas
A43: *Hacinamiento > 3 personas por pieza
