Workbook

Sheet 2016
A1: 2016-2017: Base 2005-2006
A3: National
A4: CPI | B4: Annual Average | C4: average q1 | D4: average q2 | E4: average q3 | F4: average q4 | G4: apr16 | H4: may16 | I4: jun16 | J4: jul16 | K4: aug16 | L4: sep16 | M4: oct16 | N4: nov16 | O4: dec16 | P4: jan17 | Q4: feb17 | R4: mar17
A5: General index | B5: =AVERAGE(G5:R5) -> 228.65167 | C5: =AVERAGE(G5:I5) -> 221.42 | D5: =AVERAGE(J5:L5) -> 226.99 | E5: =AVERAGE(M5:O5) -> 231.52 | F5: =AVERAGE(P5:R5) -> 234.67667 | G5: 223.37 | H5: 220.15 | I5: 220.74 | J5: 224.13 | K5: 226.57 | L5: 230.27 | M5: 231.85 | N5: 231.18 | O5: 231.53 | P5: 234.34 | Q5: 234.4 | R5: 235.29
A6: Food index | B6: =AVERAGE(G6:R6) -> 244.64917 | C6: =AVERAGE(G6:I6) -> 233.96 | D6: =AVERAGE(J6:L6) -> 242.48667 | E6: =AVERAGE(M6:O6) -> 249.78 | F6: =AVERAGE(P6:R6) -> 252.37 | G6: 237.15 | H6: 231.86 | I6: 232.87 | J6: 237.69 | K6: 241.89 | L6: 247.88 | M6: 250.64 | N6: 249.41 | O6: 249.29 | P6: 251.86 | Q6: 251.93 | R6: 253.32
A7: Non-food index | B7: =AVERAGE(G7:R7) -> 208.14083 | C7: =AVERAGE(G7:I7) -> 205.34 | D7: =AVERAGE(J7:L7) -> 207.12333 | E7: =AVERAGE(M7:O7) -> 208.10667 | F7: =AVERAGE(P7:R7) -> 211.99333 | G7: 205.7 | H7: 205.13 | I7: 205.19 | J7: 206.75 | K7: 206.93 | L7: 207.69 | M7: 207.75 | N7: 207.81 | O7: 208.76 | P7: 211.88 | Q7: 211.92 | R7: 212.18
A9: Source: Bangladesh Bureau of Statistics: http://www.bbs.gov.bd/site/page/29b379ff-7bac-41d9-b321-e41929bab4a1/Price-and-Wages-(CPI,-QIIP)
A11: Rural
A12: CPI | B12: Annual Average | C12: ave q1 | D12: ave q2 | E12: ave q3 | F12: ave q4 | G12: apr16 | H12: may16 | I12: jun16 | J12: jul17 | K12: aug17 | L12: sep16 | M12: oct16 | N12: nov16 | O12: dec16 | P12: jan17 | Q12: feb17 | R12: mar17
A13: General index | B13: =AVERAGE(G13:R13) -> 227.98917 | C13: =AVERAGE(G13:I13) -> 220.93333 | D13: =AVERAGE(J13:L13) -> 226.2 | E13: =AVERAGE(M13:O13) -> 230.81667 | F13: =AVERAGE(P13:R13) -> 234.00667 | G13: 223.04 | H13: 219.62 | I13: 220.14 | J13: 223.45 | K13: 225.69 | L13: 229.46 | M13: 231.27 | N13: 230.45 | O13: 230.73 | P13: 233.71 | Q13: 233.75 | R13: 234.56
A14: Food index | B14: =AVERAGE(G14:R14) -> 239.05333 | C14: =AVERAGE(G14:I14) -> 229.04 | D14: =AVERAGE(J14:L14) -> 236.66 | E14: =AVERAGE(M14:O14) -> 243.65 | F14: =AVERAGE(P14:R14) -> 246.86333 | G14: 232.17 | H14: 227.07 | I14: 227.88 | J14: 232.37 | K14: 235.93 | L14: 241.68 | M14: 244.59 | N14: 243.24 | O14: 243.12 | P14: 246.41 | Q14: 246.46 | R14: 247.72
A15: Non-food index | B15: =AVERAGE(G15:R15) -> 210.3875 | C15: =AVERAGE(G15:I15) -> 208.03333 | D15: =AVERAGE(J15:L15) -> 209.56 | E15: =AVERAGE(M15:O15) -> 210.4 | F15: =AVERAGE(P15:R15) -> 213.55667 | G15: 208.5 | H15: 207.77 | I15: 207.83 | J15: 209.25 | K15: 209.4 | L15: 210.03 | M15: 210.07 | N15: 210.11 | O15: 211.02 | P15: 213.51 | Q15: 213.54 | R15: 213.62
A17: Urban
A18: CPI | B18: Annual Average | C18: ave q1 | D18: ave q2 | E18: ave q3 | F18: ave q4 | G18: apr16 | H18: may16 | I18: jun16 | J18: jul17 | K18: aug17 | L18: sep16 | M18: oct16 | N18: nov16 | O18: dec16 | P18: jan17 | Q18: feb17 | R18: mar17
A19: General index | B19: =AVERAGE(G19:R19) -> 229.87083 | C19: =AVERAGE(G19:I19) -> 222.31667 | D19: =AVERAGE(J19:L19) -> 228.44 | E19: =AVERAGE(M19:O19) -> 232.81333 | F19: =AVERAGE(P19:R19) -> 235.91333 | G19: 223.98 | H19: 221.12 | I19: 221.85 | J19: 225.38 | K19: 228.18 | L19: 231.76 | M19: 232.91 | N19: 232.52 | O19: 233.01 | P19: 235.51 | Q19: 235.59 | R19: 236.64
A20: Food index | B20: =AVERAGE(G20:R20) -> 258.29667 | C20: =AVERAGE(G20:I20) -> 245.95667 | D20: =AVERAGE(J20:L20) -> 256.69333 | E20: =AVERAGE(M20:O20) -> 264.73333 | F20: =AVERAGE(P20:R20) -> 265.80333 | G20: 249.28 | H20: 243.55 | I20: 245.04 | J20: 250.65 | K20: 256.42 | L20: 263.01 | M20: 265.39 | N20: 264.45 | O20: 264.36 | P20: 265.16 | Q20: 265.28 | R20: 266.97
A21: Non-food index | B21: =AVERAGE(G21:R21) -> 205.145 | C21: =AVERAGE(G21:I21) -> 201.74667 | D21: =AVERAGE(J21:L21) -> 203.87 | E21: =AVERAGE(M21:O21) -> 205.05 | F21: =AVERAGE(P21:R21) -> 209.91333 | G21: 201.97 | H21: 201.6 | I21: 201.67 | J21: 203.41 | K21: 203.62 | L21: 204.58 | M21: 204.66 | N21: 204.74 | O21: 205.75 | P21: 209.71 | Q21: 209.77 | R21: 210.26
A24: Inflation 2016-2010
A25: CPI | B25: Annual | C25: q1 | D25: q2 | E25: q3 | F25: q4
A26: RURAL
A27: General index | B27: =B13/'2010'!$B$5 -> 1.5077515 | C27: =C13/'2010'!$B$5 -> 1.4610894 | D27: =D13/'2010'!$B$5 -> 1.4959193 | E27: =E13/'2010'!$B$5 -> 1.5264505 | F27: =F13/'2010'!$B$5 -> 1.5475468
A28: Food index | B28: =B14/'2010'!$B$6 -> 1.4889648 | C28: =C14/'2010'!$B$6 -> 1.4265959 | D28: =D14/'2010'!$B$6 -> 1.4740577 | E28: =E14/'2010'!$B$6 -> 1.5175955 | F28: =F14/'2010'!$B$6 -> 1.5376101
A29: Non-food index | B29: =B15/'2010'!$B$7 -> 1.5298261 | C29: =C15/'2010'!$B$7 -> 1.5127078 | D29: =D15/'2010'!$B$7 -> 1.5238089 | E29: =E15/'2010'!$B$7 -> 1.529917 | F29: =F15/'2010'!$B$7 -> 1.5528706
A30: URBAN
A31: General index | B31: =B19/'2010'!$B$11 -> 1.5763496 | C31: =C19/'2010'!$B$11 -> 1.5245465 | D31: =D19/'2010'!$B$11 -> 1.5665376 | E31: =E19/'2010'!$B$11 -> 1.5965279 | F31: =F19/'2010'!$B$11 -> 1.6177863
A32: Food index | B32: =B20/'2010'!$B$12 -> 1.6000002 | C32: =C20/'2010'!$B$12 -> 1.5235609 | D32: =D20/'2010'!$B$12 -> 1.5900684 | E32: =E20/'2010'!$B$12 -> 1.6398716 | F32: =F20/'2010'!$B$12 -> 1.6464997
A33: Non-food index | B33: =B21/'2010'!$B$13 -> 1.5533092 | C33: =C21/'2010'!$B$13 -> 1.5275779 | D33: =D21/'2010'!$B$13 -> 1.5436552 | E33: =E21/'2010'!$B$13 -> 1.5525899 | F33: =F21/'2010'!$B$13 -> 1.5894139

Sheet 2010
A1: 2010-2011: Base 2005-2006
A3: Rural
A4: CPI | B4: Average | C4: 40210 | D4: 40238 | E4: 40269 | F4: 40299 | G4: 40330 | H4: 40360 | I4: 40391 | J4: 40422 | K4: 40452 | L4: 40483 | M4: 40513 | N4: 40544
A5: General index | B5: =AVERAGE(C5:N5) -> 151.21137 | C5: 143.80367 | D5: 143.691 | E5: 144.42918 | F5: 143.73817 | G5: 146.5297 | H5: 148.44891 | I5: 151.64161 | J5: 153.50405 | K5: 156.6811 | L5: 158.04338 | M5: 161.61429 | N5: 162.41135
A6: Food index | B6: =AVERAGE(C6:N6) -> 160.55003 | C6: 150.06288 | D6: 148.90579 | E6: 150.00343 | F6: 148.25072 | G6: 153.09358 | H6: 155.96861 | I6: 161.25866 | J6: 164.36495 | K6: 169.36243 | L6: 171.22535 | M6: 176.60254 | N6: 177.50135
A7: Non-food index | B7: =AVERAGE(C7:N7) -> 137.5238 | C7: 134.01266 | D7: 134.48255 | E7: 135.58234 | F7: 136.06209 | G7: 136.50117 | H7: 137.09874 | I7: 137.83281 | J7: 138.37552 | K7: 138.94547 | L7: 139.38002 | M7: 140.47922 | N7: 141.53307
A9: Urban
A10: CPI | B10: Average | C10: 40210 | D10: 40238 | E10: 40269 | F10: 40299 | G10: 40330 | H10: 40360 | I10: 40391 | J10: 40422 | K10: 40452 | L10: 40483 | M10: 40513 | N10: 40544
A11: General index | B11: =AVERAGE(C11:N11) -> 145.82478 | C11: 140.0011 | D11: 139.90935 | E11: 140.39693 | F11: 141.18886 | G11: 142.75801 | H11: 144.87877 | I11: 146.95954 | J11: 148.51694 | K11: 149.82612 | L11: 150.1406 | M11: 151.96055 | N11: 153.36063
A12: Food index | B12: =AVERAGE(C12:N12) -> 161.4354 | C12: 152.66149 | D12: 150.87886 | E12: 152.0134 | F12: 152.73515 | G12: 155.51153 | H12: 159.83665 | I12: 164.05519 | J12: 166.762 | K12: 168.88646 | L12: 168.93794 | M12: 171.46388 | N12: 173.48226
A13: Non-food index | B13: =AVERAGE(C13:N13) -> 132.06965 | C13: 128.46437 | D13: 129.09111 | E13: 129.74211 | F13: 130.47251 | G13: 130.6712 | H13: 131.69736 | I13: 132.20583 | J13: 132.90999 | K13: 133.72378 | L13: 134.1234 | M13: 135.45724 | N13: 136.27685
A15: Source: Bangladesh Bureau of Statistics

Sheet 2005
A1: 2005-2006: Base 1995-1996
A3: Rural
A4: CPI | B4: Annual Average | C4: average q1 | D4: average q2 | E4: average q3 | F4: average q4 | G4: 38384 | H4: 38412 | I4: 38443 | J4: 38473 | K4: 38504 | L4: 38534 | M4: 38565 | N4: 38596 | O4: Oct. 2005 | P4: 38657 | Q4: 38687 | R4: 38718
A5: General index | B5: =AVERAGE(G5:R5) -> 160.46919 | C5: =AVERAGE(G5:I5) -> 155.8919 | D5: =AVERAGE(J5:L5) -> 158.46239 | E5: =AVERAGE(M5:O5) -> 161.88374 | F5: =AVERAGE(P5:R5) -> 165.63872 | G5: 155.42598 | H5: 156.11323 | I5: 156.1365 | J5: 157.16998 | K5: 158.38037 | L5: 159.83681 | M5: 159.96109 | N5: 161.58654 | O5: 164.10358 | P5: 166.57603 | Q5: 166.22299 | R5: 164.11713
A6: Food index | B6: =AVERAGE(G6:R6) -> 163.51434 | C6: =AVERAGE(G6:I6) -> 158.97858 | D6: =AVERAGE(J6:L6) -> 160.4077 | E6: =AVERAGE(M6:O6) -> 165.3281 | F6: =AVERAGE(P6:R6) -> 169.343 | G6: 158.56613 | H6: 159.38095 | I6: 158.98866 | J6: 159.94496 | K6: 161.08649 | L6: 160.19165 | M6: 163.16756 | N6: 165.12048 | O6: 167.69625 | P6: 170.99032 | Q6: 170.36569 | R6: 166.67299
A7: Non-food index | B7: =AVERAGE(G7:R7) -> 155.29307 | C7: =AVERAGE(G7:I7) -> 150.64521 | D7: =AVERAGE(J7:L7) -> 155.15577 | E7: =AVERAGE(M7:O7) -> 156.02907 | F7: =AVERAGE(P7:R7) -> 159.34224 | G7: 150.08839 | H7: 150.5588 | I7: 151.28844 | J7: 152.45311 | K7: 153.78055 | L7: 159.23364 | M7: 154.51078 | N7: 155.57961 | O7: 157.99684 | P7: 159.07269 | Q7: 159.18129 | R7: 159.77273
A9: Urban
A10: CPI | B10: Annual Average | C10: average q1 | D10: average q2 | E10: average q3 | F10: average q4 | G10: 38384 | H10: 38412 | I10: 38443 | J10: 38473 | K10: 38504 | L10: 38534 | M10: 38565 | N10: 38596 | O10: Oct. 2005 | P10: 38657 | Q10: 38687 | R10: 38718
A11: General index | B11: =AVERAGE(G11:R11) -> 157.08962 | C11: =AVERAGE(G11:I11) -> 152.64481 | D11: =AVERAGE(J11:L11) -> 155.08476 | E11: =AVERAGE(M11:O11) -> 159.51963 | F11: =AVERAGE(P11:R11) -> 161.10928 | G11: 151.61914 | H11: 152.96364 | I11: 153.35166 | J11: 154.14483 | K11: 155.18454 | L11: 155.9249 | M11: 156.98961 | N11: 159.61445 | O11: 161.95482 | P11: 162.03451 | Q11: 160.84829 | R11: 160.44506
A12: Food index | B12: =AVERAGE(G12:R12) -> 168.41976 | C12: =AVERAGE(G12:I12) -> 162.43584 | D12: =AVERAGE(J12:L12) -> 165.64524 | E12: =AVERAGE(M12:O12) -> 172.01506 | F12: =AVERAGE(P12:R12) -> 173.58289 | G12: 160.85939 | H12: 162.98771 | I12: 163.46043 | J12: 164.12465 | K12: 165.96456 | L12: 166.84651 | M12: 168.47226 | N12: 171.88078 | O12: 175.69213 | P12: 175.71006 | Q12: 173.01606 | R12: 172.02254
A13: Non-food index | B13: =AVERAGE(G13:R13) -> 146.37373 | C13: =AVERAGE(G13:I13) -> 144.13271 | D13: =AVERAGE(J13:L13) -> 145.80689 | E13: =AVERAGE(M13:O13) -> 146.97502 | F13: =AVERAGE(P13:R13) -> 148.5803 | G13: 143.83176 | H13: 143.98653 | I13: 144.57983 | J13: 145.34576 | K13: 145.84914 | L13: 146.22576 | M13: 146.43822 | N13: 146.84306 | O13: 147.64378 | P13: 148.08547 | Q13: 148.46561 | R13: 149.18983
A15: Source: Bangladesh Bureau of Statistics
A18: 2010-2011: Base 1995-1996
A20: Rural
A21: CPI | B21: Annual Average | C21: average q1 | D21: average q2 | E21: average q3 | F21: average q4 | G21: 40210 | H21: 40238 | I21: 40269 | J21: 40299 | K21: 40330 | L21: 40360 | M21: 40391 | N21: 40422 | O21: 40452 | P21: 40483 | Q21: 40513 | R21: 40544
A22: General index | B22: =AVERAGE(G22:R22) -> 232.24216 | C22: =AVERAGE(G22:I22) -> 224.46245 | D22: =AVERAGE(J22:L22) -> 225.97774 | E22: =AVERAGE(M22:O22) -> 235.59662 | F22: =AVERAGE(P22:R22) -> 242.93183 | G22: 224.36517 | H22: 224.49383 | I22: 224.52834 | J22: 224.38812 | K22: 225.57998 | L22: 227.96511 | M22: 231.78329 | N22: 235.62783 | O22: 239.37875 | P22: 242.18418 | Q22: 242.31028 | R22: 244.30103
A23: Food index | B23: =AVERAGE(G23:R23) -> 247.56347 | C23: =AVERAGE(G23:I23) -> 237.01329 | D23: =AVERAGE(J23:L23) -> 238.08457 | E23: =AVERAGE(M23:O23) -> 252.27981 | F23: =AVERAGE(P23:R23) -> 262.8762 | G23: 237.06171 | H23: 237.10605 | I23: 236.8721 | J23: 235.77492 | K23: 237.42876 | L23: 241.05005 | M23: 246.70369 | N23: 252.33428 | O23: 257.80146 | P23: 261.87422 | Q23: 261.90032 | R23: 264.85405
A24: Non-food index | B24: =AVERAGE(G24:R24) -> 206.19925 | C24: =AVERAGE(G24:I24) -> 203.12874 | D24: =AVERAGE(J24:L24) -> 205.39873 | E24: =AVERAGE(M24:O24) -> 207.23881 | F24: =AVERAGE(P24:R24) -> 209.03072 | G24: 202.78381 | H24: 203.05579 | I24: 203.54662 | J24: 205.03302 | K24: 205.43963 | L24: 205.72354 | M24: 206.42183 | N24: 207.23048 | O24: 208.06413 | P24: 208.71536 | Q24: 209.01145 | R24: 209.36535
A26: Urban
A27: CPI | B27: Annual Average | C27: average q1 | D27: average q2 | E27: average q3 | F27: average q4 | G27: 40210 | H27: 40238 | I27: 40269 | J27: 40299 | K27: 40330 | L27: 40360 | M27: 40391 | N27: 40422 | O27: 40452 | P27: 40483 | Q27: 40513 | R27: 40544
A28: General index | B28: =AVERAGE(G28:R28) -> 223.79502 | C28: =AVERAGE(G28:I28) -> 217.7127 | D28: =AVERAGE(J28:L28) -> 219.40127 | E28: =AVERAGE(M28:O28) -> 227.12446 | F28: =AVERAGE(P28:R28) -> 230.94166 | G28: 217.54171 | H28: 217.64404 | I28: 217.95235 | J28: 217.86415 | K28: 218.75469 | L28: 221.58498 | M28: 224.12161 | N28: 227.65 | O28: 229.60176 | P28: 230.1748 | Q28: 230.56416 | R28: 232.08601
A29: Food index | B29: =AVERAGE(G29:R29) -> 262.67498 | C29: =AVERAGE(G29:I29) -> 252.8215 | D29: =AVERAGE(J29:L29) -> 254.81898 | E29: =AVERAGE(M29:O29) -> 268.79333 | F29: =AVERAGE(P29:R29) -> 274.26612 | G29: 252.82154 | H29: 252.89013 | I29: 252.75283 | J29: 251.9499 | K29: 253.45477 | L29: 259.05227 | M29: 263.50209 | N29: 269.87 | O29: 273.00791 | P29: 273.18328 | Q29: 273.28977 | R29: 276.32532
A30: Non-food index | B30: =AVERAGE(G30:R30) -> 187.31434 | C30: =AVERAGE(G30:I30) -> 184.73647 | D30: =AVERAGE(J30:L30) -> 186.04741 | E30: =AVERAGE(M30:O30) -> 188.27421 | F30: =AVERAGE(P30:R30) -> 190.19928 | G30: 184.05012 | H30: 184.78314 | I30: 185.37617 | J30: 185.68117 | K30: 185.87396 | L30: 186.5871 | M30: 187.41 | N30: 188.23027 | O30: 189.18235 | P30: 189.84131 | Q30: 189.92043 | R30: 190.8361
A33: Inflation 2005-2010
A34: CPI | B34: Annual | C34: q1 | D34: q2 | E34: q3 | F34: q4
A35: RURAL
A36: General index | B36: =B22/B5 -> 1.4472695 | C36: =C22/C5 -> 1.4398596 | D36: =D22/D5 -> 1.4260655 | E36: =E22/E5 -> 1.4553446 | F36: =F22/F5 -> 1.4666368
A37: Food index | B37: =B23/B6 -> 1.5140168 | C37: =C23/C6 -> 1.4908504 | D37: =D23/D6 -> 1.4842465 | E37: =E23/E6 -> 1.5259343 | F37: =F23/F6 -> 1.5523299
A38: Non-food index | B38: =B24/B7 -> 1.3278071 | C38: =C24/C7 -> 1.3483916 | D38: =D24/D7 -> 1.3238227 | E38: =E24/E7 -> 1.3282064 | F38: =F24/F7 -> 1.311835
A39: URBAN
A40: General index | B40: =B28/B11 -> 1.4246328 | C40: =C28/C11 -> 1.4262699 | D40: =D28/D11 -> 1.4147185 | E40: =E28/E11 -> 1.4238026 | F40: =F28/F11 -> 1.4334472
A41: Food index | B41: =B29/B12 -> 1.5596447 | C41: =C29/C12 -> 1.5564392 | D41: =D29/D12 -> 1.5383417 | E41: =E29/E12 -> 1.5626152 | F41: =F29/F12 -> 1.5800297
A42: Non-food index | B42: =B30/B13 -> 1.2796992 | C42: =C30/C13 -> 1.281711 | D42: =D30/D13 -> 1.2759851 | E42: =E30/E13 -> 1.2809946 | F42: =F30/F13 -> 1.280111
