Workbook

Sheet HHRoster (1)
A1: No. | B1: ='[1]Complete Household'!Y149 -> Favor bele dehan mai ha'u ema nebee hela no han hamutuk iha uma kain ne'e iha loron 7 liu ba nian naran? | C1: ='[1]Complete Household'!Y151 -> (naran) feto ou mane? | D1: ='[1]Complete Household'!Y154 -> Nia (naran) tinan hira? | G1: ='[1]Complete Household'!Y159 -> Saida (naran) nian relasaun ba (xefi uma-kain) nian? | H1: ='[1]Complete Household'!Y1137 -> Agora daudaun, opsaun saida maka descreve diak liu situasaun empregu {naran} nian? | J1: No. | K1: Naran | L1: Idade
A6: 1 | C6: ='[1]Complete Household'!Z152 -> Mane | E6: Tinan | F6: Hatene | J6: 1 | N6: 1 | O6: ='[1]Complete Household'!Z160 -> Xefi uma-kain | Q6: 1 | R6: Empregadu ba empregador/servisu proyek
C7: ='[1]Complete Household'!Z153 -> Feto | E7: Fulan | F7: Est. | N7: 2 | O7: ='[1]Complete Household'!Z161 -> Fen/Kaben husi xefi uma-kain | Q7: 2 | R7: Servisu iha toos/agrikultura
A8: 2 | C8: =$C$6 -> Mane | E8: =$E$6 -> Tinan | F8: =$F$6 -> Hatene | J8: 2 | N8: 3 | O8: ='[1]Complete Household'!Z162 -> Laen/kaben xefi uma-kain | Q8: 3 | R8: Servisu ba an rasik/ fa'an sasan: loke kios, faan sasan iha dalan ibun ka merkadu, lori taxi ka mikrolet
C9: =$C$7 -> Feto | E9: =$E$7 -> Fulan | F9: =$F$7 -> Est. | N9: 4 | O9: ='[1]Complete Household'!Z163 -> Oan mane | Q9: 4 | R9: Servisu iha uma kain/dona de kaza
A10: 3 | C10: =$C$6 -> Mane | E10: =$E$6 -> Tinan | F10: =$F$6 -> Hatene | J10: 3 | N10: 5 | O10: ='[1]Complete Household'!Z164 -> Oan feto | Q10: 5 | R10: Laiha servisu, maibe buka servisu
C11: =$C$7 -> Feto | E11: =$E$7 -> Fulan | F11: =$F$7 -> Est. | N11: 6 | O11: ='[1]Complete Household'!Z165 -> Oan hakiak | Q11: 6 | R11: Laiha servisu no la buka servisu
A12: 4 | C12: =$C$6 -> Mane | E12: =$E$6 -> Tinan | F12: =$F$6 -> Hatene | J12: 4 | N12: 7 | O12: ='[1]Complete Household'!Z166 -> Be-oan feto | Q12: 7 | R12: Pensiun
C13: =$C$7 -> Feto | E13: =$E$7 -> Fulan | F13: =$F$7 -> Est. | N13: 8 | O13: ='[1]Complete Household'!Z167 -> Be-oan mane | Q13: 8 | R13: Studante
A14: 5 | C14: =$C$6 -> Mane | E14: =$E$6 -> Tinan | F14: =$F$6 -> Hatene | J14: 5 | N14: 9 | O14: ='[1]Complete Household'!Z168 -> Subrinha
C15: =$C$7 -> Feto | E15: =$E$7 -> Fulan | F15: =$F$7 -> Est. | N15: 10 | O15: ='[1]Complete Household'!Z169 -> Subrinho
A16: 6 | C16: =$C$6 -> Mane | E16: =$E$6 -> Tinan | F16: =$F$6 -> Hatene | J16: 6 | N16: 11 | O16: ='[1]Complete Household'!Z170 -> Aman
C17: =$C$7 -> Feto | E17: =$E$7 -> Fulan | F17: =$F$7 -> Est. | N17: 12 | O17: ='[1]Complete Household'!Z171 -> Inan
A18: 7 | C18: =$C$6 -> Mane | E18: =$E$6 -> Tinan | F18: =$F$6 -> Hatene | J18: 7 | N18: 13 | O18: ='[1]Complete Household'!Z172 -> Feton
C19: =$C$7 -> Feto | E19: =$E$7 -> Fulan | F19: =$F$7 -> Est. | N19: 14 | O19: ='[1]Complete Household'!Z173 -> Nan
A20: 8 | C20: =$C$6 -> Mane | E20: =$E$6 -> Tinan | F20: =$F$6 -> Hatene | J20: 8 | N20: 15 | O20: ='[1]Complete Household'!Z174 -> Mane foun
C21: =$C$7 -> Feto | E21: =$E$7 -> Fulan | F21: =$F$7 -> Est. | N21: 16 | O21: ='[1]Complete Household'!Z175 -> Feto foun
A22: 9 | C22: =$C$6 -> Mane | E22: =$E$6 -> Tinan | F22: =$F$6 -> Hatene | J22: 9 | N22: 17 | O22: ='[1]Complete Household'!Z176 -> Avo mane
C23: =$C$7 -> Feto | E23: =$E$7 -> Fulan | F23: =$F$7 -> Est. | N23: 18 | O23: ='[1]Complete Household'!Z177 -> Avo feto
A24: 10 | C24: =$C$6 -> Mane | E24: =$E$6 -> Tinan | F24: =$F$6 -> Hatene | J24: 10 | N24: 19 | O24: ='[1]Complete Household'!Z178 -> Banin mane
C25: =$C$7 -> Feto | E25: =$E$7 -> Fulan | F25: =$F$7 -> Est. | N25: 20 | O25: ='[1]Complete Household'!Z179 -> Banin feto
A26: 11 | C26: =$C$6 -> Mane | E26: =$E$6 -> Tinan | F26: =$F$6 -> Hatene | J26: 11 | N26: 21 | O26: ='[1]Complete Household'!Z180 -> Primo/a
C27: =$C$7 -> Feto | E27: =$E$7 -> Fulan | F27: =$F$7 -> Est. | N27: 22 | O27: ='[1]Complete Household'!Z181 -> Familia seluk
A28: 12 | C28: =$C$6 -> Mane | E28: =$E$6 -> Tinan | F28: =$F$6 -> Hatene | J28: 12 | N28: 23 | O28: ='[1]Complete Household'!Z182 -> Pembantu (ema nebe serbisu ajuda iha uma)
C29: =$C$7 -> Feto | E29: =$E$7 -> Fulan | F29: =$F$7 -> Est. | N29: 24 | O29: ='[1]Complete Household'!Z183 -> Pembantu nian familia
A30: 13 | C30: =$C$6 -> Mane | E30: =$E$6 -> Tinan | F30: =$F$6 -> Hatene | J30: 13 | N30: 25 | O30: ='[1]Complete Household'!Z184 -> Ema kos
C31: =$C$7 -> Feto | E31: =$E$7 -> Fulan | F31: =$F$7 -> Est. | N31: 26 | O31: ='[1]Complete Household'!Z185 -> Ema kos nian familia
A32: 14 | C32: =$C$6 -> Mane | E32: =$E$6 -> Tinan | F32: =$F$6 -> Hatene | J32: 14 | N32: 27 | O32: ='[1]Complete Household'!Z186 -> Seluk, spesifika liu tan
C33: =$C$7 -> Feto | E33: =$E$7 -> Fulan | F33: =$F$7 -> Est.
A34: 15 | C34: =$C$6 -> Mane | E34: =$E$6 -> Tinan | F34: =$F$6 -> Hatene | J34: 15
C35: =$C$7 -> Feto | E35: =$E$7 -> Fulan | F35: =$F$7 -> Est.
A36: 16 | C36: =$C$6 -> Mane | E36: =$E$6 -> Tinan | F36: =$F$6 -> Hatene | J36: 16
C37: =$C$7 -> Feto | E37: =$E$7 -> Fulan | F37: =$F$7 -> Est.
A38: 17 | C38: =$C$6 -> Mane | E38: =$E$6 -> Tinan | F38: =$F$6 -> Hatene | J38: 17
C39: =$C$7 -> Feto | E39: =$E$7 -> Fulan | F39: =$F$7 -> Est.
A40: 18 | C40: =$C$6 -> Mane | E40: =$E$6 -> Tinan | F40: =$F$6 -> Hatene | J40: 18
C41: =$C$7 -> Feto | E41: =$E$7 -> Fulan | F41: =$F$7 -> Est.
A42: 19 | C42: =$C$6 -> Mane | E42: =$E$6 -> Tinan | F42: =$F$6 -> Hatene | J42: 19
C43: =$C$7 -> Feto | E43: =$E$7 -> Fulan | F43: =$F$7 -> Est.
A44: 20 | C44: =$C$6 -> Mane | E44: =$E$6 -> Tinan | F44: =$F$6 -> Hatene | J44: 20
...

Sheet HHRoster (2)
A1: No. | B1: Naran | C1: ='[1]Complete Household'!Y187 -> Nia (naran) pernah ba eskola? | E1: ='[1]Complete Household'!Y192 -> Nivel edukasaun ikus nebe nia (naran) hasai mak saida? | J1: ='[1]Complete Household'!Y198 -> Nia (naran) kompleta ona kursu iha akademia, institutu, ou universidade balun? | R1: Idade
E3: Laiha | F3: Pre-Eskolar | G3: Primária | H3: Pre-Sekundária | I3: Sekundario
J4: ='[1]Complete Household'!Z199 -> Lae | K4: Akademia | L4: Institutu | M4: Universidade | N4: Seluk, spesifika
A6: 1 | C6: ='[1]Complete Household'!Z188 -> Lae | D6: ='[1]Complete Household'!Z190 -> La hatene | E6: =$E$3 -> Laiha | F6: =$F$3 -> Pre-Eskolar | G6: 1 2 3 | H6: 1 2 3 | I6: 1 2 3 | J6: =J4 -> Lae
C7: ='[1]Complete Household'!Z189 -> Sim | D7: Lakoi | G7: 4 5 6 | K7: tinan | L7: tinan | M7: tinan
A8: 2 | C8: =$C$6 -> Lae | D8: =$D$6 -> La hatene | E8: =$E$3 -> Laiha | F8: =$F$3 -> Pre-Eskolar | G8: 1 2 3 | H8: 1 2 3 | I8: 1 2 3 | J8: =J6 -> Lae
C9: =$C$7 -> Sim | D9: =$D$7 -> Lakoi | G9: 4 5 6 | K9: tinan | L9: tinan | M9: tinan
A10: 3 | C10: =$C$6 -> Lae | D10: =$D$6 -> La hatene | E10: =$E$3 -> Laiha | F10: =$F$3 -> Pre-Eskolar | G10: 1 2 3 | H10: 1 2 3 | I10: 1 2 3 | J10: =J8 -> Lae
C11: =$C$7 -> Sim | D11: =$D$7 -> Lakoi | G11: 4 5 6 | K11: tinan | L11: tinan | M11: tinan
A12: 4 | C12: =$C$6 -> Lae | D12: =$D$6 -> La hatene | E12: =$E$3 -> Laiha | F12: =$F$3 -> Pre-Eskolar | G12: 1 2 3 | H12: 1 2 3 | I12: 1 2 3 | J12: =J10 -> Lae
C13: =$C$7 -> Sim | D13: =$D$7 -> Lakoi | G13: 4 5 6 | K13: tinan | L13: tinan | M13: tinan
A14: 5 | C14: =$C$6 -> Lae | D14: =$D$6 -> La hatene | E14: =$E$3 -> Laiha | F14: =$F$3 -> Pre-Eskolar | G14: 1 2 3 | H14: 1 2 3 | I14: 1 2 3 | J14: =J12 -> Lae
C15: =$C$7 -> Sim | D15: =$D$7 -> Lakoi | G15: 4 5 6 | K15: tinan | L15: tinan | M15: tinan
A16: 6 | C16: =$C$6 -> Lae | D16: =$D$6 -> La hatene | E16: =$E$3 -> Laiha | F16: =$F$3 -> Pre-Eskolar | G16: 1 2 3 | H16: 1 2 3 | I16: 1 2 3 | J16: =J14 -> Lae
C17: =$C$7 -> Sim | D17: =$D$7 -> Lakoi | G17: 4 5 6 | K17: tinan | L17: tinan | M17: tinan
A18: 7 | C18: =$C$6 -> Lae | D18: =$D$6 -> La hatene | E18: =$E$3 -> Laiha | F18: =$F$3 -> Pre-Eskolar | G18: 1 2 3 | H18: 1 2 3 | I18: 1 2 3 | J18: =J16 -> Lae
C19: =$C$7 -> Sim | D19: =$D$7 -> Lakoi | G19: 4 5 6 | K19: tinan | L19: tinan | M19: tinan
A20: 8 | C20: =$C$6 -> Lae | D20: =$D$6 -> La hatene | E20: =$E$3 -> Laiha | F20: =$F$3 -> Pre-Eskolar | G20: 1 2 3 | H20: 1 2 3 | I20: 1 2 3 | J20: =J18 -> Lae
C21: =$C$7 -> Sim | D21: =$D$7 -> Lakoi | G21: 4 5 6 | K21: tinan | L21: tinan | M21: tinan
A22: 9 | C22: =$C$6 -> Lae | D22: =$D$6 -> La hatene | E22: =$E$3 -> Laiha | F22: =$F$3 -> Pre-Eskolar | G22: 1 2 3 | H22: 1 2 3 | I22: 1 2 3 | J22: =J20 -> Lae
C23: =$C$7 -> Sim | D23: =$D$7 -> Lakoi | G23: 4 5 6 | K23: tinan | L23: tinan | M23: tinan
A24: 10 | C24: =$C$6 -> Lae | D24: =$D$6 -> La hatene | E24: =$E$3 -> Laiha | F24: =$F$3 -> Pre-Eskolar | G24: 1 2 3 | H24: 1 2 3 | I24: 1 2 3 | J24: =J22 -> Lae
C25: =$C$7 -> Sim | D25: =$D$7 -> Lakoi | G25: 4 5 6 | K25: tinan | L25: tinan | M25: tinan
A26: 11 | C26: =$C$6 -> Lae | D26: =$D$6 -> La hatene | E26: =$E$3 -> Laiha | F26: =$F$3 -> Pre-Eskolar | G26: 1 2 3 | H26: 1 2 3 | I26: 1 2 3 | J26: =J24 -> Lae
C27: =$C$7 -> Sim | D27: =$D$7 -> Lakoi | G27: 4 5 6 | K27: tinan | L27: tinan | M27: tinan
A28: 12 | C28: =$C$6 -> Lae | D28: =$D$6 -> La hatene | E28: =$E$3 -> Laiha | F28: =$F$3 -> Pre-Eskolar | G28: 1 2 3 | H28: 1 2 3 | I28: 1 2 3 | J28: =J26 -> Lae
C29: =$C$7 -> Sim | D29: =$D$7 -> Lakoi | G29: 4 5 6 | K29: tinan | L29: tinan | M29: tinan
A30: 13 | C30: =$C$6 -> Lae | D30: =$D$6 -> La hatene | E30: =$E$3 -> Laiha | F30: =$F$3 -> Pre-Eskolar | G30: 1 2 3 | H30: 1 2 3 | I30: 1 2 3 | J30: =J28 -> Lae
C31: =$C$7 -> Sim | D31: =$D$7 -> Lakoi | G31: 4 5 6 | K31: tinan | L31: tinan | M31: tinan
A32: 14 | C32: =$C$6 -> Lae | D32: =$D$6 -> La hatene | E32: =$E$3 -> Laiha | F32: =$F$3 -> Pre-Eskolar | G32: 1 2 3 | H32: 1 2 3 | I32: 1 2 3 | J32: =J30 -> Lae
C33: =$C$7 -> Sim | D33: =$D$7 -> Lakoi | G33: 4 5 6 | K33: tinan | L33: tinan | M33: tinan
A34: 15 | C34: =$C$6 -> Lae | D34: =$D$6 -> La hatene | E34: =$E$3 -> Laiha | F34: =$F$3 -> Pre-Eskolar | G34: 1 2 3 | H34: 1 2 3 | I34: 1 2 3 | J34: =J32 -> Lae
C35: =$C$7 -> Sim | D35: =$D$7 -> Lakoi | G35: 4 5 6 | K35: tinan | L35: tinan | M35: tinan
A36: 16 | C36: =$C$6 -> Lae | D36: =$D$6 -> La hatene | E36: =$E$3 -> Laiha | F36: =$F$3 -> Pre-Eskolar | G36: 1 2 3 | H36: 1 2 3 | I36: 1 2 3 | J36: =J34 -> Lae
C37: =$C$7 -> Sim | D37: =$D$7 -> Lakoi | G37: 4 5 6 | K37: tinan | L37: tinan | M37: tinan
A38: 17 | C38: =$C$6 -> Lae | D38: =$D$6 -> La hatene | E38: =$E$3 -> Laiha | F38: =$F$3 -> Pre-Eskolar | G38: 1 2 3 | H38: 1 2 3 | I38: 1 2 3 | J38: =J36 -> Lae
C39: =$C$7 -> Sim | D39: =$D$7 -> Lakoi | G39: 4 5 6 | K39: tinan | L39: tinan | M39: tinan
A40: 18 | C40: =$C$6 -> Lae | D40: =$D$6 -> La hatene | E40: =$E$3 -> Laiha | F40: =$F$3 -> Pre-Eskolar | G40: 1 2 3 | H40: 1 2 3 | I40: 1 2 3 | J40: =J38 -> Lae
C41: =$C$7 -> Sim | D41: =$D$7 -> Lakoi | G41: 4 5 6 | K41: tinan | L41: tinan | M41: tinan
A42: 19 | C42: =$C$6 -> Lae | D42: =$D$6 -> La hatene | E42: =$E$3 -> Laiha | F42: =$F$3 -> Pre-Eskolar | G42: 1 2 3 | H42: 1 2 3 | I42: 1 2 3 | J42: =J40 -> Lae
...

Sheet Outline - Male
A1: OUTLINE OF HOUSEHOLD QUESTIONNAIRES
A3: Male Enumerator | L3: In Female | M3: In Widow | N3: In Elderly | O3: In Youth
A5: PART A: | C5: Enumerator Observations Prior to Permissions
H6: 1 | J6: Household Identification | L6: Yes | M6: Yes | N6: Yes | O6: Yes
H7: 2 | J7: Road Access | L7: No | M7: Yes | N7: No | O7: No
H8: 3 | J8: Topography | L8: No | M8: Yes | N8: No | O8: No
A10: PART B1: | C10: Introduction and Permissions
I11: X | J11: Introduction | L11: Yes | M11: Yes | N11: Yes | O11: Yes
I12: X | J12: Permissions | L12: Yes | M12: Yes | N12: Yes | O12: Yes
A14: PART B2: | C14: Household Roster and Selection of Respondents
I15: X | J15: How long family in aldeia | L15: No | M15: Yes | N15: No | O15: No
I16: X | J16: Household Member Roster | L16: Yes | M16: Yes | N16: Yes | O16: Yes
A18: Male Questionnaire
A20: PART C: | C20: Household Basic Characteristics:
I21: X | J21: How long respondent in aldeia | L21: Yes | M21: Yes | N21: Yes | O21: Yes
I22: X | J22: Housing - number of rooms and ownership | L22: No | M22: Yes | N22: No | O22: No
I23: X | J23: Land | L23: No | M23: Yes | N23: No | O23: No
I24: X | J24: Assets | L24: No | M24: Yes | N24: No | O24: No
I25: X | J25: Lighting and Electricity | L25: No | M25: Yes | N25: No | O25: No
I26: X | J26: Bank Account | L26: No | M26: Yes | N26: No | O26: No
A28: PART D: | C28: Access and Use of Public Facilities:
I29: X | J29: Distance and Travel to District and Sub-District Capitals | L29: ? | M29: Yes | N29: No | O29: No
I30: X | J30: Public Halls and Offices, Meeting Attendance | L30: No | M30: Yes | N30: No | O30: No
I31: X | J31: Sports Facilities | L31: No | M31: Yes | N31: No | O31: No
I32: X | J32: Agricultural and Fisheries Equipment | L32: No | M32: Yes | N32: No | O32: No
A34: PART E: | C34: Crops, Irrigation and Income:
I35: X | J35: Crops | L35: No | M35: Yes | N35: No | O35: No
I36: X | J36: Irrigation and Crop Loss | L36: No | M36: Yes | N36: No | O36: No
I37: X | J37: Income (including paid project work) | L37: No | M37: Yes | N37: No | O37: No
A39: PART F: | C39: Projects and Community
I40: X | J40: Involvement in Community Work | L40: No | M40: Yes | N40: No | O40: No
J41: Preferences for Local Development Projects | L41: Yes | M41: Yes | N41: Yes | O41: Yes
A44: PART G | C44: Decision-Making and Governance
J45: Who are the Influential People in Suku and Aldeia Decision-Making | L45: Yes | M45: Yes | N45: Yes | O45: Yes
J46: Involvement in Community Decisions | L46: Yes | M46: Yes | N46: Yes | O46: Yes
J47: Perceptions of Governance and Voicing Concerns | L47: Yes | M47: Yes | N47: Yes | O47: Yes
J48: Political Participation and Preferences for Decentralisation | L48: Yes | M48: Yes | N48: Yes | O48: Yes
A50: PART H: | C50: Cohesion
J51: Crime, Conflict and Dispute Resolution | L51: Yes | M51: Yes | N51: Yes | O51: Yes
J52: Trust | L52: Yes | M52: Yes | N52: Yes | O52: Yes
...

Sheet Outline - Female
A1: OUTLINE OF HOUSEHOLD QUESTIONNAIRES
A3: Female Enumerator | L3: In Female | M3: In Widow | N3: In Elderly | O3: In Youth
A5: PART A: | C5: Enumerator Observations Prior to Permissions
H6: 1 | I6: X | J6: Household Identification | L6: Yes | M6: Yes | N6: Yes | O6: Yes
A8: PART B1: | C8: Introduction and Permissions
I9: X | J9: Introduction | L9: Yes | M9: Yes | N9: Yes | O9: Yes
I10: X | J10: Permissions | L10: Yes | M10: Yes | N10: Yes | O10: Yes
A12: PART B2: | C12: Household Roster and Selection of Respondents
I13: X | J13: Household Member Roster | L13: Yes | M13: Yes | N13: Yes | O13: Yes
A15: Female Questionnaire
A17: PART C1: | C17: Household Basic Characteristics:
I18: X | J18: How long respondent in aldeia | L18: Yes | M18: Yes | N18: Yes | O18: Yes
I19: x | J19: Water Sources
I20: x | J20: Toilet Facilities
A22: PART C2 | C22: Child Schooling
I23: x | J23: Child Schooling
A25: PART C3 | C25: Health
I26: x | J26: Household Member Illness
I27: x | J27: Child under 5 Health and Nutrition
I28: x | J28: Maternal Health
A30: PART D: | C30: Access and Use of Public Facilities
I31: X | J31: Distance and Travel to District and Sub-District Capitals | L31: ? | M31: Yes | N31: No | O31: No
A33: PART E2: | C33: Consumption and Markets
I34: x | J34: Household Consumption
I35: x | J35: Market Engagement
I36: x | J36: Mobility
A38: PART F: | C38: Projects and Community
I39: X | J39: Preferences for Local Development Projects | L39: Yes | M39: Yes | N39: Yes | O39: Yes
A41: PART G | C41: Decision-Making and Governance
I42: X | J42: Who are the Influential People in Suku and Aldeia Decision-Making | L42: Yes | M42: Yes | N42: Yes | O42: Yes
I43: X | J43: Involvement in Community Decisions | L43: Yes | M43: Yes | N43: Yes | O43: Yes
I44: X | J44: Perceptions of Governance and Voicing Concerns | L44: Yes | M44: Yes | N44: Yes | O44: Yes
I45: X | J45: Political Participation and Preferences for Decentralisation | L45: Yes | M45: Yes | N45: Yes | O45: Yes
A47: PART H: | C47: Cohesion
I48: X | J48: Crime, Conflict and Dispute Resolution | L48: Yes | M48: Yes | N48: Yes | O48: Yes
I49: X | J49: Trust | L49: Yes | M49: Yes | N49: Yes | O49: Yes
I50: X | J50: Attitudes towards Gender Roles | L50: Yes | M50: Yes | N50: Yes | O50: Yes
A52: PART I: | C52: Subjective Wellbeing and Satisfaction with Public Services
I53: X | J53: Subjective Wellbeing | L53: Yes | M53: Yes | N53: Yes | O53: Yes
I54: X | J54: Satisfaction with Public Services, Perceptions of Change over Time | L54: Yes | M54: Yes | N54: Yes | O54: Yes
...

Sheet A
A1: IDENTICAL TO MALE PART A

Sheet B
A1: IDENTICAL TO MALE PART B

Sheet C1
A1: PART C: HOUSEHOLD INFORMATION (FEMALE)
A2: New ID | B2: Response ID | C2: Question or Response | D2: Question Completion Method | E2: Response Display Format | F2: Data Format | G2: Lower Bound | H2: Upper Bound | I2: Switching | J2: Image | K2: Display Text | M2: Translation | O2: Chronology | P2: Constraint | Q2: Required
A4: C1.02 | C4: Question | D4: Read question | E4: Category - choose one | F4: Code | K4: Since when have you lived in this aldeia? | M4: Dezde ita bot hela iha aldeia ida ne'e? | O4: C3.01 | Q4: Yes
C5: Response | E5: Category option | L5: Before the Japanese came (1942) | N5: Antes Japaun tama (antes 1942)
C6: Response | E6: Category option | K6: Portuguese time, but after the Japanese came (1945-1975) | N6: Tempo Portuguese, maibe depois Japaun tama (1942-1975)
C7: Response | E7: Category option | L7: Indonesian time (1975-1999) | N7: Tempo Indonezia (1975-1999)
C8: Response | E8: Category option | K8: After the referendum, but before the 2006 violence (1999-2006) | N8: Antes referendum, maibe depois violensia iha 2006 (1999-2006)
C9: Response | E9: Category option | L9: After the 2006 violence | N9: Depois violensia iha 2006

Sheet C2
A1: PART C2: HOUSEHOLD INFORMATION (FEMALE) | Q1: PART C: HOUSEHOLD INFORMATION (FEMALE) | R1: AB Comments
A2: New ID | C2: Question or Response | D2: Question Completion Method | E2: Response Display Format | F2: Data Format | G2: Lower Bound | H2: Upper Bound | J2: Display Text | L2: Translation | N2: Chronology | O2: Additional explanation - English | P2: Tetun | Q2: Unique ID | R2: AB Comments
A3: C2.1 Water Sources | L3: Be'e-matan sira | R3: A question about maintenance (if we can think of something approriate) would be fine. Save the water mgmt group question for the xefes
A4: Identify Sources of Drinking Water | L4: Identifika be'e-matan ba hemu nian
A5: C2.1.01 | C5: Question | D5: Read question | E5: Category - choose one | F5: Code | J5: Currently, what is the main source of drinking water for your household? | L5: Agora dadaun, ida nebee maka be'e-matan prinsipal be'e-hemu nian ba ita-nia uma-kain? | O5: Be sure this is the water source CURRENTLY being used | Q5: H3.1 | R5: As you proposed, ask separate questions about the dry and wet season. Maybe ask some questions just about the current season, though, so as to avoid doubling the number of questions. Also, who is best placed to answer these questions - men or women? I would rather put these in the gendered questionnaire than the HoHH.
B6: C2.1.03.a | C6: =VLOOKUP($B6,Codes!$A:$K,2,FALSE) -> Response | E6: =VLOOKUP($B6,Codes!$A:$K,4,FALSE) -> Category option | F6: =VLOOKUP($B6,Codes!$A:$K,5,FALSE) -> 1 | J6: 1 | K6: Bottled | M6: =VLOOKUP($B6,Codes!$A:$K,11,FALSE) -> Be botir (AQUA) | N6: =A21 -> C2.1.02
B7: C2.1.03.b | C7: =VLOOKUP($B7,Codes!$A:$K,2,FALSE) -> Response | E7: =VLOOKUP($B7,Codes!$A:$K,4,FALSE) -> Category option | F7: =VLOOKUP($B7,Codes!$A:$K,5,FALSE) -> 2 | J7: 2 | K7: Piped Into Dwelling | M7: =VLOOKUP($B7,Codes!$A:$K,11,FALSE) -> Pipa nebe liga ba uma | N7: =A21 -> C2.1.02
B8: C2.1.03.c | C8: =VLOOKUP($B8,Codes!$A:$K,2,FALSE) -> Response | E8: =VLOOKUP($B8,Codes!$A:$K,4,FALSE) -> Category option | F8: =VLOOKUP($B8,Codes!$A:$K,5,FALSE) -> 3 | J8: 3 | K8: Piped To Yard / Plot (On-Site) | M8: =VLOOKUP($B8,Codes!$A:$K,11,FALSE) -> Pipa nebe liga ba uma oin / fatin ida (iha fatin) | N8: =A21 -> C2.1.02 | O8: piped to property, but not into house
B9: C2.1.03.d | C9: =VLOOKUP($B9,Codes!$A:$K,2,FALSE) -> Response | E9: =VLOOKUP($B9,Codes!$A:$K,4,FALSE) -> Category option | F9: =VLOOKUP($B9,Codes!$A:$K,5,FALSE) -> 4 | J9: 4 | K9: Piped To Neighbour | M9: =VLOOKUP($B9,Codes!$A:$K,11,FALSE) -> Pipa nebe liga ba uma sorin / vizinhu | N9: =A21 -> C2.1.02
B10: C2.1.03.e | C10: =VLOOKUP($B10,Codes!$A:$K,2,FALSE) -> Response | E10: =VLOOKUP($B10,Codes!$A:$K,4,FALSE) -> Category option | F10: =VLOOKUP($B10,Codes!$A:$K,5,FALSE) -> 5 | J10: 5 | K10: Tap / Standpipe Off-Site | M10: =VLOOKUP($B10,Codes!$A:$K,11,FALSE) -> Torneira | N10: =A21 -> C2.1.02 | O10: not on property
B11: C2.1.03.f | C11: =VLOOKUP($B11,Codes!$A:$K,2,FALSE) -> Response | E11: =VLOOKUP($B11,Codes!$A:$K,4,FALSE) -> Category option | F11: =VLOOKUP($B11,Codes!$A:$K,5,FALSE) -> 6 | J11: 6 | K11: Dug Well | M11: =VLOOKUP($B11,Codes!$A:$K,11,FALSE) -> Be posu | N11: =A21 -> C2.1.02
B12: C2.1.03.g | C12: =VLOOKUP($B12,Codes!$A:$K,2,FALSE) -> Response | E12: =VLOOKUP($B12,Codes!$A:$K,4,FALSE) -> Category option | F12: =VLOOKUP($B12,Codes!$A:$K,5,FALSE) -> 7 | J12: 7 | K12: Borehole / Tubewell | M12: =VLOOKUP($B12,Codes!$A:$K,11,FALSE) -> Ke'e be | N12: =A21 -> C2.1.02 | O12: hole bored or drilled to reach water underground. Water is extracted with pipe and pump (hand/motor)
B13: C2.1.03.h | C13: =VLOOKUP($B13,Codes!$A:$K,2,FALSE) -> Response | E13: =VLOOKUP($B13,Codes!$A:$K,4,FALSE) -> Category option | F13: =VLOOKUP($B13,Codes!$A:$K,5,FALSE) -> 8 | J13: 8 | K13: Spring | M13: =VLOOKUP($B13,Codes!$A:$K,11,FALSE) -> Be moris | N13: =A21 -> C2.1.02
B14: C2.1.03.i | C14: =VLOOKUP($B14,Codes!$A:$K,2,FALSE) -> Response | E14: =VLOOKUP($B14,Codes!$A:$K,4,FALSE) -> Category option | F14: =VLOOKUP($B14,Codes!$A:$K,5,FALSE) -> 9 | J14: 9 | K14: River / Stream | M14: =VLOOKUP($B14,Codes!$A:$K,11,FALSE) -> Mota / be sulin | N14: =A21 -> C2.1.02 | O14: running water
B15: C2.1.03.j | C15: =VLOOKUP($B15,Codes!$A:$K,2,FALSE) -> Response | E15: =VLOOKUP($B15,Codes!$A:$K,4,FALSE) -> Category option | F15: =VLOOKUP($B15,Codes!$A:$K,5,FALSE) -> 10 | J15: 10 | K15: Dam / Lake / Pond | M15: =VLOOKUP($B15,Codes!$A:$K,11,FALSE) -> Kolam / lagua | N15: =A21 -> C2.1.02 | O15: stagnant water
B16: C2.1.03.k | C16: =VLOOKUP($B16,Codes!$A:$K,2,FALSE) -> Response | E16: =VLOOKUP($B16,Codes!$A:$K,4,FALSE) -> Category option | F16: =VLOOKUP($B16,Codes!$A:$K,5,FALSE) -> 11 | J16: 11 | K16: Canal / Irrigation Channel | M16: =VLOOKUP($B16,Codes!$A:$K,11,FALSE) -> Be dalan / kanal irigasaun | N16: =A21 -> C2.1.02
B17: C2.1.03.l | C17: =VLOOKUP($B17,Codes!$A:$K,2,FALSE) -> Response | E17: =VLOOKUP($B17,Codes!$A:$K,4,FALSE) -> Category option | F17: =VLOOKUP($B17,Codes!$A:$K,5,FALSE) -> 12 | J17: 12 | K17: Rainwater | M17: =VLOOKUP($B17,Codes!$A:$K,11,FALSE) -> Udan been | N17: =A21 -> C2.1.02
B18: C2.1.03.m | C18: =VLOOKUP($B18,Codes!$A:$K,2,FALSE) -> Response | E18: =VLOOKUP($B18,Codes!$A:$K,4,FALSE) -> Category option | F18: =VLOOKUP($B18,Codes!$A:$K,5,FALSE) -> 13 | J18: 13 | K18: Truck / Cart / Tanker | M18: =VLOOKUP($B18,Codes!$A:$K,11,FALSE) -> Trek / gerobak / tanke | N18: =A21 -> C2.1.02
B19: H1.01.c | C19: =VLOOKUP($B19,Codes!$A:$K,2,FALSE) -> Response | E19: =VLOOKUP($B19,Codes!$A:$K,4,FALSE) -> Category option | F19: =VLOOKUP($B19,Codes!$A:$K,5,FALSE) -> 997 | J19: 14 | K19: Other (specify) | M19: =VLOOKUP($B19,Codes!$A:$K,11,FALSE) -> Seluk (spesifika) | N19: =A20 -> C2.1.01x
A20: C2.1.01x | C20: Question | D20: Enumerator completes | E20: Text response | F20: Text | J20: [Specify other source] | L20: [Spesifika be matan seluk] | N20: =A21 -> C2.1.02
A21: C2.1.02 | C21: Question | D21: Read question | E21: Category - choose one | F21: Code | J21: In the last 12 months, has your household used any other source of water for drinking? | L21: Iha fulan 12 liu, ita nia uma-kain uza ona be'e-matan seluk ruma hodi hemu? | Q21: H3.11 | R21: It may be worth asking a couple of other questions about which agency / group / person etc. funded the water supply source and whether any improvements have been made in the past few years and who funded those? These may be better captured by the XS / XA interviews, though. If so, disregard the suggestion.
B22: H1.01.a | C22: =VLOOKUP($B22,Codes!$A:$K,2,FALSE) -> Response | E22: =VLOOKUP($B22,Codes!$A:$K,4,FALSE) -> Category option | F22: =VLOOKUP($B22,Codes!$A:$K,5,FALSE) -> 0 | K22: =VLOOKUP($B22,Codes!$A:$K,9,FALSE) -> No | M22: =VLOOKUP($B22,Codes!$A:$K,11,FALSE) -> Lae | N22: =A33 -> C2.1.10
B23: H1.01.b | C23: =VLOOKUP($B23,Codes!$A:$K,2,FALSE) -> Response | E23: =VLOOKUP($B23,Codes!$A:$K,4,FALSE) -> Category option | F23: =VLOOKUP($B23,Codes!$A:$K,5,FALSE) -> 1 | K23: =VLOOKUP($B23,Codes!$A:$K,9,FALSE) -> Yes | M23: =VLOOKUP($B23,Codes!$A:$K,11,FALSE) -> Sim | N23: =A147 -> C2.1.30
B24: H1.01.d | C24: =VLOOKUP($B24,Codes!$A:$K,2,FALSE) -> Response | E24: =VLOOKUP($B24,Codes!$A:$K,4,FALSE) -> Category option | F24: =VLOOKUP($B24,Codes!$A:$K,5,FALSE) -> 999 | K24: =VLOOKUP($B24,Codes!$A:$K,9,FALSE) -> Don't know | M24: =VLOOKUP($B24,Codes!$A:$K,11,FALSE) -> La hatene | N24: =A33 -> C2.1.10
A25: No other source used
A26: If:
A27: 6 | B27: Dug Well | I27: Dug Well
A28: 7 | B28: Borehole / Tubewell | I28: Borehole / Tubewell
A29: 8 | B29: Spring | I29: Spring
A30: 9 | B30: River / Stream | I30: River / Stream
A31: 10 | B31: Dam / Lake / Pond | I31: Dam / Lake / Pond
A32: 11 | B32: Canal / Irrigation Channel | I32: Canal / Irrigation Channel
A33: C2.1.10 | C33: Question | D33: Read question | E33: Category - choose one | F33: Code | J33: Do you get this water directly from the source, or is there a pipe? | L33: Ita hetan be ne'e husi be'e matan kedas, ou liga husi kanu? | O33: Select 'pipe' if any pipe at all
C34: Response | E34: Category option | F34: X | K34: Directly from source | M34: Husi be matan ne'e kedas | N34: =A44 -> C2.1.12
C35: Response | E35: Category option | F35: X | K35: From pipe | M35: Liga husi kanu | N35: =A38 -> C2.1.11
B36: H1.01.c | C36: =VLOOKUP($B36,Codes!$A:$K,2,FALSE) -> Response | E36: =VLOOKUP($B36,Codes!$A:$K,4,FALSE) -> Category option | F36: =VLOOKUP($B36,Codes!$A:$K,5,FALSE) -> 997 | K36: =VLOOKUP($B36,Codes!$A:$K,9,FALSE) -> Other (specify) | M36: =VLOOKUP($B36,Codes!$A:$K,11,FALSE) -> Seluk (spesifika) | N36: =A37 -> C2.1.10x
A37: C2.1.10x | C37: Question | D37: Enumerator completes | E37: Text response | F37: Text | J37: [Specify other] | L37: [Spesifika seluk tan] | N37: =A44 -> C2.1.12
A38: C2.1.11 | C38: Question | D38: Read question | E38: Category - choose one | F38: Code | J38: What sort of pipe is it? | L38: Kanu modelu oinsa?
C39: Response | E39: Category option | F39: X | K39: Bamboo | M39: Ai oan husi bambu | N39: =A57 -> C2.1.13
C40: Response | E40: Category option | F40: X | K40: Plastic / PVC | M40: Plastik / PVC | N40: =A57 -> C2.1.13
...

Sheet C3
A1: PART C3: CHILD SCHOOLING (FEMALE)
A2: New ID | C2: Question or Response | D2: Question Completion Method | E2: Response Display Format | F2: Data Format | G2: Lower Bound | H2: Upper Bound | J2: Display Text | L2: Translation | N2: Chronology | O2: Additional explanation - English | P2: Tetun | Q2: Unique ID | R2: AB Comments
A3: C3.1. Child School Enrolment | L3: Matrikula Eskola Labarik nian | R3: 0
A4: This section is to be asked for all household members aged 5-18: | M4: seksaun ida ne atu atu husu kona ba membrus uma kain hotu nebe tinan 5-18 | R4: 0
A5: Loop through children oldest to youngest? | M5: hare tuir labarik husi boot liu too kiik liu? | R5: 0
A6: C3.1.00a | J6: How many children aged 5 to 18 are there in your household? | M6: Ita boot nia oan nain hira iha idade 5-10 iha ita nia uma kain ne'e
K7: No children aged 5 to 18 | M7: Laiha oan ho tinan 5 to 18 | N7: Next section
K8: Insert number | M8: Hatama numeru | N8: =A10 -> C3.1.00b
K9: Numerical responses | M9: Numerical response | N9: =A10 -> C3.1.00b
A10: C3.1.00b | J10: What are their names, starting from the oldest? (up to 12 children) | M10: Sira nia naran saida, komesa ida oan dahuluk ne'e? (to oan nain 12) | N10: =A13 -> C3.1.01
A12: For first child: | M12: ba oan dahuluk | R12: 0
A13: C3.1.01 | C13: Question | D13: Read question | E13: Category - choose one | F13: Code | J13: Is {name} currently enrolled in school? | L13: (Naran) agora dadaun matrikula iha eskola ka lae? | O13: Enrolled not attending | Q13: H9.1 | R13: 0
B14: H1.01.a | C14: =VLOOKUP($B14,[2]Codes!$A$1:$K$65536,2,FALSE) -> Response | E14: =VLOOKUP($B14,[2]Codes!$A$1:$K$65536,4,FALSE) -> Category option | F14: =VLOOKUP($B14,[2]Codes!$A$1:$K$65536,5,FALSE) -> 0 | K14: No | M14: Lae | N14: =A18 -> C3.1.02
B15: H1.01.b | C15: =VLOOKUP($B15,[2]Codes!$A$1:$K$65536,2,FALSE) -> Response | E15: =VLOOKUP($B15,[2]Codes!$A$1:$K$65536,4,FALSE) -> Category option | F15: =VLOOKUP($B15,[2]Codes!$A$1:$K$65536,5,FALSE) -> 1 | K15: Yes | M15: Sim | N15: =A42 -> C3.1.06
B16: H1.01.d | C16: =VLOOKUP($B16,[2]Codes!$A$1:$K$65536,2,FALSE) -> Response | E16: =VLOOKUP($B16,[2]Codes!$A$1:$K$65536,4,FALSE) -> Category option | F16: =VLOOKUP($B16,[2]Codes!$A$1:$K$65536,5,FALSE) -> 999 | K16: Don't know | M16: La hatene | N16: next child
B17: H1.01.e | C17: =VLOOKUP($B17,[2]Codes!$A$1:$K$65536,2,FALSE) -> Response | E17: =VLOOKUP($B17,[2]Codes!$A$1:$K$65536,4,FALSE) -> Category option | F17: =VLOOKUP($B17,[2]Codes!$A$1:$K$65536,5,FALSE) -> 998 | K17: Refused to answer | M17: Lakohi fo resposta | N17: next child
A18: C3.1.02 | C18: Question | D18: Read question | E18: Category - choose one | F18: Code | J18: Why is {name} not enrolled in school? | L18: Tan sa mak {naran} la matrikula iha eskola? | Q18: H9.3 | R18: OK, but check for additional options through pilot-testing.
B19: H9.3.a | C19: =VLOOKUP($B19,[2]Codes!$A$1:$K$65536,2,FALSE) -> Response | E19: =VLOOKUP($B19,[2]Codes!$A$1:$K$65536,4,FALSE) -> Category option | F19: =VLOOKUP($B19,[2]Codes!$A$1:$K$65536,5,FALSE) -> 1 | K19: No interest in completing to senior high school | M19: La interese atu remata eskola sekundario | N19: =A33 -> C3.1.03 | O19: select this response if don't see the point in education
B20: H9.3.b | C20: =VLOOKUP($B20,[2]Codes!$A$1:$K$65536,2,FALSE) -> Response | E20: =VLOOKUP($B20,[2]Codes!$A$1:$K$65536,4,FALSE) -> Category option | F20: =VLOOKUP($B20,[2]Codes!$A$1:$K$65536,5,FALSE) -> 2 | K20: Too young | M20: Tinan seidauk to'o | N20: next child
B21: H9.3.c | C21: =VLOOKUP($B21,[2]Codes!$A$1:$K$65536,2,FALSE) -> Response | E21: =VLOOKUP($B21,[2]Codes!$A$1:$K$65536,4,FALSE) -> Category option | F21: =VLOOKUP($B21,[2]Codes!$A$1:$K$65536,5,FALSE) -> 3 | K21: Helps in the family home, farm or business | M21: Ajuda iha uma laran, natar ou bisnis | N21: =A33 -> C3.1.03
B22: H9.3.d | C22: =VLOOKUP($B22,[2]Codes!$A$1:$K$65536,2,FALSE) -> Response | E22: =VLOOKUP($B22,[2]Codes!$A$1:$K$65536,4,FALSE) -> Category option | F22: =VLOOKUP($B22,[2]Codes!$A$1:$K$65536,5,FALSE) -> 4 | K22: Works outside the home / farm / family business | M22: Serbisu iha liur / natar / halao familia nian bisnis | N22: =A33 -> C3.1.03
B23: H9.3.e | C23: =VLOOKUP($B23,[2]Codes!$A$1:$K$65536,2,FALSE) -> Response | E23: =VLOOKUP($B23,[2]Codes!$A$1:$K$65536,4,FALSE) -> Category option | F23: =VLOOKUP($B23,[2]Codes!$A$1:$K$65536,5,FALSE) -> 5 | K23: Grades too low / did not pass | M23: Notas ki'ik liu / la passa | N23: =A40 -> C3.1.04
B24: H9.3.f | C24: =VLOOKUP($B24,[2]Codes!$A$1:$K$65536,2,FALSE) -> Response | E24: =VLOOKUP($B24,[2]Codes!$A$1:$K$65536,4,FALSE) -> Category option | F24: =VLOOKUP($B24,[2]Codes!$A$1:$K$65536,5,FALSE) -> 6 | K24: Bad behaviour / expelled | M24: Hahalok at / hasai husi eskola | N24: =A40 -> C3.1.04
B25: H9.3.g | C25: =VLOOKUP($B25,[2]Codes!$A$1:$K$65536,2,FALSE) -> Response | E25: =VLOOKUP($B25,[2]Codes!$A$1:$K$65536,4,FALSE) -> Category option | F25: =VLOOKUP($B25,[2]Codes!$A$1:$K$65536,5,FALSE) -> 7 | K25: Sick / disabled / mute / deaf | M25: Moras /defisiente/ monok / diuk | N25: next child
B26: H9.3.h | C26: =VLOOKUP($B26,[2]Codes!$A$1:$K$65536,2,FALSE) -> Response | E26: =VLOOKUP($B26,[2]Codes!$A$1:$K$65536,4,FALSE) -> Category option | F26: =VLOOKUP($B26,[2]Codes!$A$1:$K$65536,5,FALSE) -> 8 | K26: School too far | M26: Eskola dok liu | N26: =A40 -> C3.1.04
B27: H9.3.i | C27: =VLOOKUP($B27,[2]Codes!$A$1:$K$65536,2,FALSE) -> Response | E27: =VLOOKUP($B27,[2]Codes!$A$1:$K$65536,4,FALSE) -> Category option | F27: =VLOOKUP($B27,[2]Codes!$A$1:$K$65536,5,FALSE) -> 9 | K27: School not functional (no teachers / standard is poor) | M27: Eskola la funsiona (la iha mestre /padraun la diak) | N27: =A40 -> C3.1.04
B28: H9.3.j | C28: =VLOOKUP($B28,[2]Codes!$A$1:$K$65536,2,FALSE) -> Response | E28: =VLOOKUP($B28,[2]Codes!$A$1:$K$65536,4,FALSE) -> Category option | F28: =VLOOKUP($B28,[2]Codes!$A$1:$K$65536,5,FALSE) -> 10 | K28: Not enough money for school fees / uniforms | M28: Osan la to'o atu selu osan eskola / farda | N28: =A40 -> C3.1.04
B29: H9.3.k | C29: =VLOOKUP($B29,[2]Codes!$A$1:$K$65536,2,FALSE) -> Response | E29: =VLOOKUP($B29,[2]Codes!$A$1:$K$65536,4,FALSE) -> Category option | F29: =VLOOKUP($B29,[2]Codes!$A$1:$K$65536,5,FALSE) -> 11 | K29: Got married / has a family | M29: Kaben ona / iha familia | N29: next child
B30: H9.3.l | C30: =VLOOKUP($B30,[2]Codes!$A$1:$K$65536,2,FALSE) -> Response | E30: =VLOOKUP($B30,[2]Codes!$A$1:$K$65536,4,FALSE) -> Category option | F30: =VLOOKUP($B30,[2]Codes!$A$1:$K$65536,5,FALSE) -> 12 | K30: Completed senior high school | M30: Ramata ona eskola sekundaria | N30: next child
B31: H1.01.c | C31: =VLOOKUP($B31,[2]Codes!$A$1:$K$65536,2,FALSE) -> Response | E31: =VLOOKUP($B31,[2]Codes!$A$1:$K$65536,4,FALSE) -> Category option | F31: =VLOOKUP($B31,[2]Codes!$A$1:$K$65536,5,FALSE) -> 997 | K31: Other (specify) | M31: Seluk (spesifika) | N31: =A32 -> C3.1.02x
A32: C3.1.02x | C32: Question | D32: Enumerator completes | E32: Text response | F32: Text | J32: [Specify other reason] | L32: [Espesifika razaun seluk] | N32: next child
A33: C3.1.03 | C33: Question | D33: Read question | E33: Category - choose one | F33: Code | J33: How unhappy are {name}'s parents that {name} is not enrolled in school? | L33: {Naran} nian inan-aman laran-susar oin sa tanba {naran} la matrikula iha eskola? | O33: Be aware if respondent is the child's mother/father | Q33: H9.3a | R33: This is OK, but do check reactions when pilot-testing.
B34: H9.3a.a | C34: =VLOOKUP($B34,[2]Codes!$A$1:$K$65536,2,FALSE) -> Response | E34: =VLOOKUP($B34,[2]Codes!$A$1:$K$65536,4,FALSE) -> Category option | F34: =VLOOKUP($B34,[2]Codes!$A$1:$K$65536,5,FALSE) -> 1 | K34: =VLOOKUP($B34,[2]Codes!$A$1:$K$65536,9,FALSE) -> Not unhappy | M34: La laran-susar | N34: =A40 -> C3.1.04
B35: H9.3a.b | C35: =VLOOKUP($B35,[2]Codes!$A$1:$K$65536,2,FALSE) -> Response | E35: =VLOOKUP($B35,[2]Codes!$A$1:$K$65536,4,FALSE) -> Category option | F35: =VLOOKUP($B35,[2]Codes!$A$1:$K$65536,5,FALSE) -> 2 | K35: =VLOOKUP($B35,[2]Codes!$A$1:$K$65536,9,FALSE) -> A little unhappy | M35: Larab susar uitoan | N35: =A40 -> C3.1.04
B36: H9.3a.c | C36: =VLOOKUP($B36,[2]Codes!$A$1:$K$65536,2,FALSE) -> Response | E36: =VLOOKUP($B36,[2]Codes!$A$1:$K$65536,4,FALSE) -> Category option | F36: =VLOOKUP($B36,[2]Codes!$A$1:$K$65536,5,FALSE) -> 3 | K36: =VLOOKUP($B36,[2]Codes!$A$1:$K$65536,9,FALSE) -> Undecided (in 2 minds) | M36: La desidi (laran-rua) | N36: =A40 -> C3.1.04
B37: H9.3a.d | C37: =VLOOKUP($B37,[2]Codes!$A$1:$K$65536,2,FALSE) -> Response | E37: =VLOOKUP($B37,[2]Codes!$A$1:$K$65536,4,FALSE) -> Category option | F37: =VLOOKUP($B37,[2]Codes!$A$1:$K$65536,5,FALSE) -> 4 | K37: =VLOOKUP($B37,[2]Codes!$A$1:$K$65536,9,FALSE) -> Don't care | M37: =VLOOKUP($B37,[2]Codes!$A$1:$K$65536,11,FALSE) -> La interese | N37: =A40 -> C3.1.04
B38: H1.01.d | C38: =VLOOKUP($B38,[2]Codes!$A$1:$K$65536,2,FALSE) -> Response | E38: =VLOOKUP($B38,[2]Codes!$A$1:$K$65536,4,FALSE) -> Category option | F38: =VLOOKUP($B38,[2]Codes!$A$1:$K$65536,5,FALSE) -> 999 | K38: =VLOOKUP($B38,[2]Codes!$A$1:$K$65536,9,FALSE) -> Don't know | M38: =VLOOKUP($B38,[2]Codes!$A$1:$K$65536,11,FALSE) -> La hatene | N38: =A40 -> C3.1.04
B39: H1.01.e | C39: =VLOOKUP($B39,[2]Codes!$A$1:$K$65536,2,FALSE) -> Response | E39: =VLOOKUP($B39,[2]Codes!$A$1:$K$65536,4,FALSE) -> Category option | F39: =VLOOKUP($B39,[2]Codes!$A$1:$K$65536,5,FALSE) -> 998 | K39: =VLOOKUP($B39,[2]Codes!$A$1:$K$65536,9,FALSE) -> Refused to answer | M39: =VLOOKUP($B39,[2]Codes!$A$1:$K$65536,11,FALSE) -> Lakohi fo resposta | N39: =A40 -> C3.1.04
A40: C3.1.04 | C40: Question | D40: Read question | E40: Numeric response | F40: Time: minutes + hours | J40: If {name} were to go to school, how long (in hours) would it take to get to the nearest state school if they walked? [Hints: Rough estimation is fine. 15 minutes - 0.25 hour; 30 mins = 0.5 hour; 45 mins = 0.75 hour; 60 min = 1 hour] | L40: Se {naran} ba eskola karik, han tempu hira (iha oras) atu ba too eskola publiku besik liu bainhira sira lao? [suzestaun: estimasaun bruto mos diak; minuto 15 = 0.25 de hora; minuto 30 mins = 0.5 de hora; minuto 45 = 0.75 de hora; 60 min = oras 1] | N40: =A41 -> C3.1.05 | O40: Closest state primary / pre-secondary / secondary school as appropriate for child's age
A41: C3.1.05 | C41: Question | D41: Read question | E41: Numeric response | F41: Time: minutes + hours | J41: If {name} were to go to school, how long (in hours) would it take to get to the nearest state school if they travelled by motorbike? [Hints: Rough estimation is fine. 15 minutes - 0.25 hour; 30 mins = 0.5 hour; 45 mins = 0.75 hour; 60 min = 1 hour] | L41: Se {naran} ba eskola karik, han tempu hira (oras) atu ba too eskola publiku besik liu bainhira sira sae motor? [suzestaun: estimasaun bruto mos diak; minuto 15 = 0.25 de hora; minuto 30 mins = 0.5 de hora; minuto 45 = 0.75 de hora; 60 min = oras 1] | N41: next child | O41: Closest state primary / pre-secondary / secondary school as appropriate for child's age
...

Sheet D
A1: IDENTICAL TO MALE PART D

Sheet E2
A1: PART E: CONSUMPTION (FEMALE) | Q1: PART C: HOUSEHOLD INFORMATION (FEMALE) | R1: AB Comments
A2: New ID | C2: Question or Response | D2: Question Completion Method | E2: Response Display Format | F2: Data Format | G2: Lower Bound | H2: Upper Bound | J2: Display Text | L2: Translation | N2: Chronology | O2: Additional explanation - English | P2: Tetun | Q2: Unique ID | R2: AB Comments
A3: H12. Consumption and Food Security | L3: Konsumu no Seguransa Ai-Han | Q3: H12. Prices and Consumption | R3: 0
A4: E2.1.01 | C4: Question | D4: Read question | E4: Numeric response | F4: X | G4: 0 | H4: 7 | J4: In the last 7 days, on how many days did members of your household eat rice? | L4: Iha loron 7 liu ba, iha loron hira nia laran maka membrus ita nia uma-kain nian han etu? | N4: =A5 -> E2.1.02 | O4: Enter 0 for did not eat in last 7 days | Q4: H12.30 | R4: I like this actually. A good way to get at food consumption / income in a simple manner. Consider re-instating.
A5: E2.1.02 | C5: Question | D5: Read question | E5: Numeric response | F5: X | G5: 0 | H5: 7 | J5: In the last 7 days, on how many days did members of your household eat corn? | L5: Iha loron 7 liu ba, iha loron hira nia laran maka membrus ita nia uma-kain nian han batar? | N5: =A6 -> E2.1.03 | O5: Enter 0 for did not eat in last 7 days | Q5: H12.31
A6: E2.1.03 | C6: Question | D6: Read question | E6: Numeric response | F6: X | G6: 0 | H6: 7 | J6: In the last 7 days, on how many days did members of your household eat cassava? | L6: Iha loron 7 liu ba, iha loron hira nia laran maka membrus ita nia uma-kain nian han aifarina? | N6: =A7 -> E2.1.04 | O6: Enter 0 for did not eat in last 7 days | Q6: H12.32
A7: E2.1.04 | C7: Question | D7: Read question | E7: Numeric response | F7: X | G7: 0 | H7: 7 | J7: In the last 7 days, on how many days did members of your household eat green vegetables? | L7: Iha loron 7 liu ba, iha loron hira nia laran maka membrus ita nia uma-kain nian han modo tahan? | N7: =A8 -> E2.1.05 | O7: Enter 0 for did not eat in last 7 days | Q7: H12.33
A8: E2.1.05 | C8: Question | D8: Read question | E8: Numeric response | F8: X | G8: 0 | H8: 7 | J8: In the last 7 days, on how many days did members of your household eat eggs? | L8: Iha loron hitu liu ba, iha loron hira nia laran maka membrus ita nia uma-kain nian han manu tolun? | N8: =A9 -> E2.1.06 | O8: Enter 0 for did not eat in last 7 days | Q8: H12.34
A9: E2.1.06 | C9: Question | D9: Read question | E9: Numeric response | F9: X | G9: 0 | H9: 7 | J9: In the last 7 days, on how many days did members of your household eat meat? | L9: Iha loron 7 liu ba, iha loron hira nia laran maka membrus ita nia uma-kain nian han na'an? | N9: =A10 -> E2.1.07 | O9: Enter 0 for did not eat in last 7 days | Q9: H12.35
A10: E2.1.07 | C10: Question | D10: Read question | E10: Numeric response | F10: X | G10: 0 | H10: 7 | J10: In the last 7 days, on how many days did members of your household eat fish? | L10: Iha loron 7 liu ba, iha loron hira nia laran maka membrus ita nia uma-kain nian han ikan? | N10: =A11 -> E2.1.08 | O10: Enter 0 for did not eat in last 7 days | Q10: H12.36
A11: E2.1.08 | C11: Question | D11: Read question | E11: Numeric response | F11: X | G11: 0 | H11: 7 | J11: In the last 7 days, on how many days did members of your household eat noodles? | L11: Iha loron 7 liu ba, iha loron hira nia laran maka membrus ita nia uma-kain nian han supermi? | N11: =A12 -> E2.1.09 | O11: Enter 0 for did not eat in last 7 days | Q11: H12.37 | R11: #N/A
A12: E2.1.09 | C12: Question | D12: Read question | E12: Numeric response | F12: X | G12: 0 | H12: 7 | J12: In the last 7 days, on how many days did members of your household use sugar in making food or drinks? | L12: Iha loron 7 liu ba, iha loron hira nia laran maka membrus ita nia uma-kain nian uza masi-midar hodi halo ai-han ka hemu sira? | N12: =A13 -> E2.1.10 | O12: Enter 0 for did not eat in last 7 days | Q12: H12.38 | R12: #N/A
A13: E2.1.10 | C13: Question | D13: Read question | E13: Numeric response | F13: X | G13: 0 | H13: 7 | J13: In the last 7 days, on how many days did members of your household use coconut oil or other cooking oils in making food? | L13: Iha loron 7 liu ba, iha loron hira nia laran maka membrus ita nia uma-kain uza mina-nu ka mina-tein seluk hodi tein ai-han? | N13: =A14 -> E2.1.11 | O13: Enter 0 for did not eat in last 7 days | Q13: H12.39 | R13: #N/A
A14: E2.1.11 | C14: Question | D14: Read question | E14: Category - choose one | F14: Code | J14: In which month did your household last buy rice? | L14: Iha fulan saida ita nia uma-kain ikus liu hola fos? | Q14: H12.1 | R14: What's the purpose of this?
B15: MC12.05.a | C15: Response | E15: Category option | F15: 1306 | K15: June 2013 | M15: Junhu 2013 | N15: =A29 -> E2.1.12
B16: MC12.05.b | C16: Response | E16: Category option | F16: 1307 | K16: July 2013 | M16: Julhu 2013 | N16: =A29 -> E2.1.12
B17: MC12.05.c | C17: Response | E17: Category option | F17: 1308 | K17: August 2013 | M17: Agostu 2013 | N17: =A29 -> E2.1.12
B18: MC12.05.d | C18: Response | E18: Category option | F18: 1309 | K18: September 2013 | M18: Setembru 2013 | N18: =A29 -> E2.1.12
B19: MC12.05.e | C19: Response | E19: Category option | F19: 1310 | K19: October 2013 | M19: Outubru 2013 | N19: =A29 -> E2.1.12
B20: MC12.05.f | C20: Response | E20: Category option | F20: 1311 | K20: November 2013 | M20: Novembru 2013 | N20: =A29 -> E2.1.12
B21: MC12.05.g | C21: Response | E21: Category option | F21: 1312 | K21: December 2013 | M21: Dezembru 2013 | N21: =A29 -> E2.1.12
B22: MC12.05.h | C22: Response | E22: Category option | F22: 1401 | K22: January 2014 | M22: Janeiru 2014 | N22: =A29 -> E2.1.12
B23: MC12.05.i | C23: Response | E23: Category option | F23: 1402 | K23: February 2014 | M23: Fevereiru 2014 | N23: =A29 -> E2.1.12
B24: MC12.05.j | C24: Response | E24: Category option | F24: 1403 | K24: March 2014 | M24: Marsu 2014 | N24: =A29 -> E2.1.12
B25: MC12.05.k | C25: Response | E25: Category option | F25: 1404 | K25: April 2014 | M25: Abril 2014 | N25: =A29 -> E2.1.12
B26: MC12.05.l | C26: Response | E26: Category option | F26: 1405 | K26: May 2014 | M26: Maiu 2014 | N26: =A29 -> E2.1.12
C27: Response | E27: Category option | K27: Never / more than 12 months ago | M27: Nunka/ liu husi fulan 12 liu ba | N27: =A36 -> E2.1.16
C28: Response | E28: Category option | K28: Don’t remember | M28: La hanoin kona | N28: =A29 -> E2.1.12
A29: E2.1.12 | C29: Question | D29: Read question | E29: Category - choose one | F29: Code | J29: When you last bought rice, did you buy it by the can or by the sack? | L29: Bainhira ita hola fos ida ikus ne'e, ita hola iha kaleng ka saka? | O29: Selecting 'sack' will let you specify Kg. By 'can' we mean small can - if bigger, select 'sack' and estimate size in Kg. | Q29: H12.2 | R29: What's the purpose of this?
C30: Response | E30: Category option | F30: X | K30: Can <500g | M30: Kaleng <500g | N30: =A34 -> E2.1.14
C31: Response | E31: Category option | F31: X | K31: Sack | M31: Saka | N31: =A33 -> E2.1.13
C32: Response | E32: Category option | F32: X | K32: Don't know | M32: La hatene | N32: =A36 -> E2.1.16
A33: E2.1.13 | C33: Question | D33: Read question | E33: Numeric response | F33: XXX | G33: 1 | H33: 100 | J33: How many kilograms per sack? | L33: Saka 1 kilograma hira? | N33: =A35 -> E2.1.15 | Q33: H12.2 | R33: What's the purpose of this?
A34: E2.1.14 | C34: Question | D34: Read question | E34: Numeric response | F34: X.xx | J34: This last time that you bought rice, how much did you pay for 1 can? | L34: Ita hola fos ida ikus ne'e, ita selu hira ba kaleng 1? | N34: =A36 -> E2.1.16 | Q34: H12.2 | R34: What's the purpose of this?
A35: E2.1.15 | C35: Question | D35: Read question | E35: Numeric response | F35: XX.xx | J35: This last time that you bought rice, how much did you pay for 1 sack? | L35: Ita hola fos ida ikus ne'e, ita selu hira ba saka 1? | N35: =A36 -> E2.1.16 | Q35: H12.2 | R35: What's the purpose of this?
A36: E2.1.16 | C36: Question | D36: Read question | E36: Category - choose one | F36: Code | J36: Did your household eat broken rice any time in the last 12 months? | L36: Ita nia uma kain han fos ikis iha fulan 12 liu ba? | O36: Broken rice meant for chickens, not just mixed-grade rice | Q36: H12.9 | R36: OK as long as this is a reliable indicator for poverty.
C37: Response | E37: Category option | K37: No | M37: Lae | N37: =A55 -> E2.1.18
C38: Response | E38: Category option | K38: Yes | M38: Sim | N38: =A41 -> E2.1.17
C39: Response | E39: Category option | K39: Don't Know | M39: Lae hatene | N39: =A55 -> E2.1.18
C40: Response | E40: Category option | K40: Refuse to answer | M40: Lakohi fo resposta | N40: =A55 -> E2.1.18
...

Sheet E4
A1: PART C4: HEALTH (FEMALE)
A2: New ID | C2: Question or Response | D2: Question Completion Method | E2: Response Display Format | F2: Data Format | G2: Lower Bound | H2: Upper Bound | I2: Display Text | K2: Translation | M2: Chronology
A3: 1. Health and Health Centres | K3: Saude no Sentru Saude Sira
A4: Last 4 weeks | K4: Semana 4 liu ba
A5: C4.1.01 | C5: Question | D5: Read question | E5: Category - choose one | F5: Code | I5: In the last 4 weeks, was any household member (including children) sick, injured or have poor health? | K5: Durante semana 4 nia laran ne'e, membru uma-kain (inklui labarik sira) ruma mak moras, kanek, ka iha problema saude?
C6: Response | E6: Category option | J6: No | L6: Lae | M6: =A103 -> C4.1.23
C7: Response | E7: Category option | J7: Yes | L7: Sim | M7: =A9 -> C4.1.03
C8: Response | E8: Category option | J8: Don't know | L8: La hatene | M8: =A103 -> C4.1.23
A9: C4.1.03 | C9: Question | D9: Read question | E9: Table yes/No | I9: Which household members? [Hints: remember to ask 'any children sick?"] | K9: Membru uma-kain ida nebee? [suzestaun: labarik ruma?] | M9: =A12 -> C4.1.10
I10: Yes/No table for each household member? | L10: Tabela Sim/Lae ba membru Uma kain ida-idak?
A11: For each sick member:
A12: C4.1.10 | C12: Question | D12: Read question | E12: Category - choose all | I12: What was the nature of {name}'s illness? | K12: Nia {naran} moras saida?
C13: Response | E13: Category option | J13: Diarrhea | L13: Te be'en / diareia | M13: =A30 -> C4.1.11
C14: Response | E14: Category option | J14: Malaria | L14: Malaria | M14: =A30 -> C4.1.11
C15: Response | E15: Category option | J15: Dengue | L15: Dengue | M15: =A30 -> C4.1.11
C16: Response | E16: Category option | J16: Fever | L16: Isin-manas | M16: =A30 -> C4.1.11
C17: Response | E17: Category option | J17: Cough | L17: Mear | M17: =A30 -> C4.1.11
C18: Response | E18: Category option | J18: Flu / cold / headache / runny nose / pneumonia | L18: Konstipasaun / isin malirin / ulun-moras / inus-be'en ka inus metin / pneumonia | M18: =A30 -> C4.1.11
C19: Response | E19: Category option | J19: Stomach ache | L19: kabun moras | M19: =A30 -> C4.1.11
C20: Response | E20: Category option | J20: Toothache | L20: Nehan moras | M20: =A30 -> C4.1.11
C21: Response | E21: Category option | J21: Infection - ear/nose/throat infection | L21: Infesaun - infesaun tilun / inus / kakorok | M21: =A30 -> C4.1.11
C22: Response | E22: Category option | J22: Infection - skin | L22: Infesaun - infesaun kulit | M22: =A30 -> C4.1.11
C23: Response | E23: Category option | J23: Asthma / trouble breathing | L23: Asma / dada is susar | M23: =A30 -> C4.1.11
C24: Response | E24: Category option | J24: Stroke | L24: Strouk | M24: =A30 -> C4.1.11
C25: Response | E25: Category option | J25: Broken bones / accident | L25: Ruin tohar / asidenti | M25: =A30 -> C4.1.11
C26: Response | E26: Category option | J26: Back pain | L26: Kotuk moras | M26: =A30 -> C4.1.11
B27: H1.01.c | C27: Response | E27: Category option | J27: Other (specify) | L27: Seluk (Espesifika) | M27: =A29 -> C4.1.10x
C28: Response | E28: Category option | J28: Don't know | L28: La hatene | M28: =A30 -> C4.1.11
A29: C4.1.10x | C29: Question | D29: Enumerator completes | E29: Text response | F29: Text | I29: [Specify other illness] | K29: [Spesifika moras seluk] | M29: =A30 -> C4.1.11
A30: C4.1.11 | C30: Question | D30: Read question | E30: Category - choose one | F30: Code | I30: In the last 4 weeks, were there any days when {name} was unable to perform daily tasks like go to school, work in the house or on the farm due to this illness? | K30: Durante semana 4 nia laran ne'e, iha loron ruma nebe {naran} la konsege halao nia serbisu loron-loron hanesan la ba eskola ka la ba tos tamba moras ida ne'e?
C31: Response | E31: Category option | J31: No | L31: Lae | M31: =A39 -> C4.1.13
C32: Response | E32: Category option | J32: Yes - unable to perform some daily tasks | L32: Sim - la bele halo kna'ar loron balun | M32: =A35 -> C4.1.12
C33: Response | E33: Category option | J33: Yes - unable to perform any daily tasks | L33: Sim - la bele halo kna'ar loron ruma | M33: =A35 -> C4.1.12
C34: Response | E34: Text response | J34: Don't know | L34: La hatene | M34: =A39 -> C4.1.13
A35: C4.1.12 | C35: Question | D35: Read question | E35: Numeric response | F35: XX | G35: 1 | H35: 28 | I35: For how many days in the last 4 weeks [28 days]? | K35: Durante loron hira iha semana 4 liu ba [loron 28]? | M35: =A39 -> C4.1.13
C36: Response | D36: Don't read | J36: Don't know | L36: La hatene
C37: Response | D37: Don't read | J37: Insert response | L37: Hatama responsa
C38: Response | D38: Insert number | E38: Number | F38: Number | J38: Numerical input | L38: Numerical input
A39: C4.1.13 | C39: Question | D39: Read question | E39: Category - choose one | F39: Code | I39: Did {name} seek medical attention for this illness? | K39: {Naran} buka tratamentu médiku ba moras ne'e ka lae?
C40: Response | E40: Category option | J40: No | L40: Lae | M40: =A103 -> C4.1.23
...

Sheet G
A1: GOVERNANCE: Female
A2: New ID | B2: Response ID | C2: Question or Response | D2: Question Completion Method | E2: Response Display Format | F2: Data Format | G2: Lower Bound | H2: Upper Bound | I2: Switching | J2: Image | K2: Display Text | M2: Translation | O2: Chronology | P2: Additional explanation - English | Q2: Tetun | R2: Unique ID | S2: AB Comments | T2: YT comments | U2: Pilot Comment
A3: End for
A5: Corruption
A6: G6.01 | C6: Question | D6: Read question with visual cues | E6: Category - choose one | F6: Code | L6: In your view, does the xefe aldeia work for the benefit of all people, just some people or just for their own benefit? | M6: Tuir ita nia hanoin, xefi aldeia nia servisu fo benefisiu ba ema hotu-hotu, balun deit ka ba nia a'an rasik?
C7: Response | E7: Category option | F7: X | L7: All people | N7: Ema hotu hotu | O7: =A12 -> G6.02
C8: Response | E8: Category option | F8: X | L8: Some people | N8: Ema balun | O8: =A12 -> G6.02
C9: Response | E9: Category option | F9: X | L9: Their own benefit | N9: Benefisu ba nia rasik | O9: =A12 -> G6.02
C10: Response | E10: Category option | F10: X | L10: Don't know | N10: La hatene | O10: =A12 -> G6.02
C11: Response | E11: Category option | F11: X | L11: Refused to answer | N11: Lakohi fo resposta | O11: =A12 -> G6.02
A12: G6.02 | C12: Question | D12: Read question with visual cues | E12: Category - choose one | F12: Code | L12: In your view, does the xefe suku work for the benefit of all people, just some people or just for their own benefit? | M12: Tuir ita nia hanoin, xefi suku nia servisu ne'e fo benefisiu ba ema hotu-hotu, balun deit ka ba nia a'an rasik?
C13: Response | E13: Category option | F13: X | L13: All people | N13: Ema hotu hotu | O13: =A18 -> G6.03
C14: Response | E14: Category option | F14: X | L14: Some people | N14: Ema balun | O14: =A18 -> G6.03
C15: Response | E15: Category option | F15: X | L15: Their own benefit | N15: Benefisu ba nia rasik | O15: =A18 -> G6.03
C16: Response | E16: Category option | F16: X | L16: Don't know | N16: La hatene | O16: =A18 -> G6.03
C17: Response | E17: Category option | F17: X | L17: Refused to answer | N17: Lakohi fo resposta | O17: =A18 -> G6.03
A18: G6.03 | C18: Question | D18: Read question with visual cues | E18: Category - choose one | F18: Code | L18: In your view, do the district and sub district administrators work for the benefit of all people, just some people or just for their own benefit? | M18: Tuir ita nia hanoin, administrador distritu no sub-distritu sira nia servisu ne'e fo benefisiu ba ema hotu-hotu, balun deit ka ba sira nia a'an rasik?
C19: Response | E19: Category option | F19: X | L19: All people | N19: Ema hotu hotu | O19: =A24 -> G6.04
C20: Response | E20: Category option | F20: X | L20: Some people | N20: Ema balun | O20: =A24 -> G6.04
C21: Response | E21: Category option | F21: X | L21: Their own benefit | N21: Benefisu ba nia rasik | O21: =A24 -> G6.04
C22: Response | E22: Category option | F22: X | L22: Don't know | N22: La hatene | O22: =A24 -> G6.04
C23: Response | E23: Category option | F23: X | L23: Refused to answer | N23: Lakohi fo resposta | O23: =A24 -> G6.04
A24: G6.04 | C24: Question | D24: Read question with visual cues | E24: Category - choose one | F24: Code | L24: In your view, does the central government work for the benefit of all people, just some people or just for their own benefit? | M24: Tuir ita nia hanoin, governo central nia servisu fo benefisiu ba ema hotu-hotu, ema balun ka sira nia an rasik?
C25: Response | E25: Category option | F25: X | L25: All people | N25: Ema hotu hotu | O25: =A30 -> G6.05
C26: Response | E26: Category option | F26: X | L26: Some people | N26: Ema balun | O26: =A30 -> G6.05
C27: Response | E27: Category option | F27: X | L27: Their own benefit | N27: Benefisu ba nia rasik | O27: =A30 -> G6.05
C28: Response | E28: Category option | F28: X | L28: Don't know | N28: La hatene | O28: =A30 -> G6.05
C29: Response | E29: Category option | F29: X | L29: Refused to answer | N29: Lakohi fo resposta | O29: =A30 -> G6.05
A30: G6.05 | C30: Question | D30: Read question | E30: Category - choose one | F30: Code | L30: In the past 12 months, have any officials submitted any registrations or documents for your household? | M30: Iha fulan 12 liu ba, iha ofisial ruma mak ajuda halo rejistu ka halo dokumentu ruma mai iha ita- bot nia uma?
C31: Response | E31: Category option | F31: X | L31: No | N31: Lae | O31: =A42 -> G7.01
C32: Response | E32: Category option | F32: X | L32: Yes | N32: Sim | O32: =A35 -> G6.06
C33: Response | E33: Category option | F33: X | L33: Don't know | N33: La hatene | O33: =A42 -> G7.01
C34: Response | E34: Category option | F34: X | L34: Refused to answer | N34: Lakohi fo resposta | O34: =A42 -> G7.01
A35: G6.06 | C35: Question | D35: Read question | E35: Category - choose one | F35: Code | K35: Did you pay for this service? | M35: Ita selu ba serviso ida ne'e?
C36: Response | E36: Category option | F36: X | L36: No | N36: Lae | O36: =A42 -> G7.01
C37: Response | E37: Category option | F37: X | L37: Yes | N37: Sim | O37: =A40 -> G6.07
C38: Response | E38: Category option | F38: X | L38: Don't know | N38: La hatene | O38: =A42 -> G7.01
C39: Response | E39: Category option | F39: X | L39: Refused to answer | N39: Lakohi for resposta | O39: =A42 -> G7.01
A40: G6.07 | C40: Question | D40: Read question | E40: Numeric response | F40: XX.xx | K40: How much did you pay for this service? | M40: Ita selu osan hira ba servisu ne'e? | O40: =A42 -> G7.01
A41: Voicing Concerns | S41: This section (9.40 - 9.45) could be dropped if the section is running long. It is somewhat difficult to interpret anyway (since if people are dissatisfied, does that mean governance is bad or that collective action is high?).
...

Sheet F
A1: IDENTICAL TO MALE PART F

Sheet I
A1: IDENTICAL TO MALE PART I

Sheet J
B1: MALE
A2: Different to Male | B2: New ID | C2: Response ID | D2: Question or Response | E2: Question Completion Method | F2: Response Display Format | G2: Data Format | H2: Lower Bound | I2: Upper Bound | J2: Image | K2: Display Text | M2: Translation | O2: Chronology | P2: Additional explanation - English | Q2: Tetun | R2: Unique ID | S2: AB Comments | T2: YT comments
B3: Sources of Information | S3: 0
B4: MJ1.01 | D4: Question | E4: Read question | F4: Numeric response | G4: XXX | K4: In the last 7 days, how many times have you listened to radio? | M4: Iha loron 7 liu ba, dala hira maka ita rona radio? | O4: =B5 -> MJ1.02 | R4: P1.2 | S4: Can people really answer this? Maybe better to ask how many hours a day they listen. But, I'm not sure how we will use this info anyway. | T4: This is better than the previous one with last 4 weeks
B5: MJ1.02 | D5: Question | E5: Read question | F5: Numeric response | G5: XXX | K5: In the last 7 days, how many times have you watched television? | M5: Iha loron 7 liu ba, dala hira maka ita hare televizaun? | O5: next section | R5: P1.3 | S5: As above. | T5: This is better than the previous one with last 4 weeks
B6: MJ1.03 | D6: Question | E6: Read question | F6: Numeric response | G6: XXX | K6: In the last 4 weeks, how many times have you eaten a meal outside your house with people who are not relatives? | M6: Iha semana 4 liu ba, dala hira maka ita han hamutuk ho ema seluk nebe laos ita nia familia? | O6: =B71 -> MJ1.19 | R6: P1.7 | S6: We need to get at frequency of social interaction with other villagers, but this is very vague.
B7: MJ1.04 | D7: Question | E7: Read question | F7: Category - choose one | G7: Code | K7: How often do you receive information about what the government is doing in this area?; At least once a month, once or twice a year or never? | M7: Ita bot simu informasaun regularmente konaba saida mak governu halo iha suku ida ne'e?; Dala barak, dala ruma ka nunka?
D8: Response | F8: Category option | G8: 1 | L8: Often | N8: Dala barak | O8: =B11 -> MJ1.05
D9: Response | F9: Category option | G9: 2 | L9: Sometimes | N9: Dala ruma | O9: =B11 -> MJ1.05
D10: Response | F10: Category option | G10: 3 | L10: Never | N10: Nunka | O10: =B26 -> MJ1.06
B11: MJ1.05 | D11: Question | E11: Read question | F11: Category - choose all | G11: Code | K11: Where do you get this information from? | M11: Ita bot hetan informasaun ne'e husi nebe?
D12: Response | F12: Category option | G12: 1 | L12: District administrator | N12: Administrador distritu | O12: =B26 -> MJ1.06
