Workbook

Sheet Outline - Youth Elderly
A1: OUTLINE OF YOUTH/ELDERLY QUESTIONNAIRES
A3: Male Enumerator | L3: In Female | M3: In Widow | N3: In Elderly | O3: In Youth
A5: PART A: | C5: Enumerator Observations Prior to Permissions
H6: 1 | J6: Household Identification | L6: Yes | M6: Yes | N6: Yes | O6: Yes
A8: PART B1: | C8: Introduction and Permissions
J9: Introduction | L9: Yes | M9: Yes | N9: Yes | O9: Yes
J10: Permissions | L10: Yes | M10: Yes | N10: Yes | O10: Yes
A12: PART B2: | C12: Household Roster and Selection of Respondents
J13: Household Member Roster | L13: Yes | M13: Yes | N13: Yes | O13: Yes
A15: PART C: | C15: Household Basic Characteristics:
J16: How long respondent in aldeia | L16: Yes | M16: Yes | N16: Yes | O16: Yes
A18: PART F: | C18: Projects and Community
J19: Involvement in Community Work | L19: No | M19: Yes | N19: Yes | O19: Yes
J20: Preferences for Local Development Projects | L20: Yes | M20: Yes | N20: Yes | O20: Yes
A21: PART G | C21: Decision-Making and Governance
H22: n | J22: Who are the Influential People in Suku and Aldeia Decision-Making | L22: Yes | M22: Yes | N22: Yes | O22: Yes
H23: y | J23: Involvement in Community Decisions | L23: Yes | M23: Yes | N23: Yes | O23: Yes
H24: y | J24: Perceptions of Governance and Voicing Concerns | L24: Yes | M24: Yes | N24: Yes | O24: Yes
D25: yes for preferences | H25: y | J25: Political Participation and Preferences for Decentralisation | L25: Yes | M25: Yes | N25: Yes | O25: Yes
A27: PART H: | C27: Cohesion
H28: y | J28: Crime, Conflict and Dispute Resolution | L28: Yes | M28: Yes | N28: Yes | O28: Yes
H29: maybe | J29: Trust | L29: Yes | M29: Yes | N29: Yes | O29: Yes
C30: yes for youth no for elderly | H30: y | J30: Attitudes towards Gender Roles | L30: Yes | M30: Yes | N30: Yes | O30: Yes
A32: PART I: | C32: Subjective Wellbeing and Satisfaction with Public Services
H33: maybe | J33: Subjective Wellbeing | L33: Yes | M33: Yes | N33: Yes | O33: Yes
H34: maybe | J34: Satisfaction with Public Services, Perceptions of Change over Time | L34: Yes | M34: Yes | N34: Yes | O34: Yes
A36: PART J: | C36: Information, Social and Human Capital
E37: maybe | J37: Sources of Information | L37: Yes | M37: Yes | N37: Yes | O37: Yes
E38: maybe | J38: Participation in Groups and Organisations | L38: Yes | M38: Yes | N38: Yes | O38: Yes
E39: yes for youth | J39: Education | L39: Yes | M39: Yes | N39: Yes | O39: Yes
E40: yes for youth | J40: Literacy

Sheet A
A1: PART A IDENTIFICATION
A2: Question ID | B2: Question or Response | C2: Question Completion Method | E2: Response Display Format | F2: Data Format | G2: Lower Bound | H2: Upper Bound | I2: Conditional Question | J2: Display Text | L2: Translation | N2: Chronology | O2: Unique ID | P2: Constraint | Q2: Required
A4: YA1 | B4: Question | C4: Enumerator completes | E4: Numerical response (insert) | F4: XX | I4: Unconditional | J4: Enumerator ID Code | L4: Kodiku identidade ema nebe entrevista | N4: NA | O4: H1.5 | Q4: Yes
A5: YA2 | B5: Question | C5: Enumerator completes | E5: Category option | F5: Text | I5: Unconditional | J5: District Name | L5: Naran Distritu | O5: XA1.6 | Q5: Yes
A6: YA3 | B6: Question | C6: Enumerator completes | E6: Category option | F6: Text | I6: Unconditional | J6: Sub-District Name | L6: Naran subdistritu | O6: XA1.8 | Q6: Yes
A7: YA4 | B7: Question | C7: Enumerator completes | E7: Category option | F7: Text | I7: Unconditional | J7: Suco Name | L7: Naran suku | O7: XA1.10 | Q7: Yes
A8: YA5 | B8: Question | C8: Enumerator completes | E8: Category option | F8: Text | I8: Unconditional | J8: Aldeia Name | L8: Naran aldeia | O8: XA1.12 | Q8: Yes
A9: YA6 | B9: Question | C9: Enumerator completes | E9: Numerical response (insert) | F9: XX | I9: Unconditional | J9: Household number | L9: Numeru uma kain | O9: XA1.6 | Q9: Yes
A10: YA7 | B10: Question | C10: Enumerator completes | E10: Text response | F10: Text | I10: Unconditional | J10: Name of Household Head | L10: Naran xefe uma-kain | O10: XA1.6 | Q10: Yes

Sheet B
A1: PART B: HOUSEHOLD ROSTER
A2: New ID | B2: Response ID | C2: Question or Response | D2: Required | E2: Question Completion Method | F2: Response Display Format | G2: Data Format | H2: Lower Bound | I2: Upper Bound | J2: Display Text | L2: Tetun | N2: Chronology
A3: YB0.00 | C3: Question | D3: Yes | E3: Enumerator completes | F3: Category option | J3: [Was respondent present for original consent?]
B4: H1.01.a | C4: =VLOOKUP($B4,[1]Codes!$A$1:$K$65536,2,FALSE) -> Response | F4: =VLOOKUP($B4,[1]Codes!$A$1:$K$65536,4,FALSE) -> Category option | G4: =VLOOKUP($B4,[1]Codes!$A$1:$K$65536,5,FALSE) -> 0 | K4: No | M4: Lae | N4: =A6 -> YB1.00
B5: H1.01.b | C5: =VLOOKUP($B5,[1]Codes!$A$1:$K$65536,2,FALSE) -> Response | F5: =VLOOKUP($B5,[1]Codes!$A$1:$K$65536,4,FALSE) -> Category option | G5: =VLOOKUP($B5,[1]Codes!$A$1:$K$65536,5,FALSE) -> 1 | K5: Yes | M5: Sim | N5: =A7 -> YB1.02
A6: YB1.00 | C6: Intermediary | J6: [Greetings] My name is {your name} and this is {pair's name}, we are working for IOB, a university in Dili. We have authorisation from the Ministry of State Administration to conduct interviews with people in this suku in order to find out about the current situation and how it is changing over time, and your household has been selected. We would like to ask you some questions about you and public work in the aldeia. The interview will last about 25 minutes in total. All your answers will be confidential, and we will not share your name and any information you provide to us during the interview with anyone inside the aldeia or outside of the aldeia. If you are not comfortable with some questions, you can refuse to answer. Your answers to the questions will not be used for anything except understanding the situation - nobody in your suku, your aldeia or your family will receive any assistance or government compensation as a result of the answers that you give. We just want to know the real situation in this aldeia. There are no right or wrong answers, just truthful ones. Please do not give me the answers that you think I want to hear, but just tell me the true and real answers. | L6: [Kumprimentus] Hau nia naran {ita nia naran} no ne'e {naran maluk nian}, ami serbisu ba Universidade IOB iha Dili. Ami serbisu hamutuk ho Ministerio Estatal Administrasaun. Ami mai halo intervista ho ema sira iha suku ne'e atu buka hatene barak liu konaba oin sa situasaun muda husi tempu ba tempu. Atu bele hetan informasaun ne'e, ami hakarak husu peguntas balun ba ita no ba membru balun iha ita nia uma-kain nian konaba ita no situasaun iha aldeia ne'e. Informasaun sira ne'e sei bele ajuda Governu bainhira planu no implementa programa iha area rurais. Entrevista ne'e sei dura hamutuk besik oras ida. Ami hakarak fo hanoin ba ita katak ita nia resposta hotu ne'e segredu no ami sei la fo sai ita nia naran bainhira halo relatorio kona ba peskiza ne'e. Karik ita sinti la diak ho pergunta balun, ita la presiza hataan no/ka karik ita lakohi kontinua ho entrevista ne'e, ita bele para. Resposta sira nebee ita fo ba pergunta sira ne'e sei la fo impaktu ruma ba ita nia familia ka ita nia aldeia. Laiha resposta mak loos ou salah- nebe ami presiza deit atu hatene saida mak ita nia hanoin kona ba situasaun iha ita nian moris no aldeia ou suku laran.
A7: YB1.02 | C7: Question | D7: Yes | E7: Read question | F7: Category option | J7: Do you agree to participate in this interview? | L7: Ita bot aseita atu partisipa iha intervista ida ne?
B8: H1.01.a | C8: =VLOOKUP($B8,[1]Codes!$A$1:$K$65536,2,FALSE) -> Response | F8: =VLOOKUP($B8,[1]Codes!$A$1:$K$65536,4,FALSE) -> Category option | G8: =VLOOKUP($B8,[1]Codes!$A$1:$K$65536,5,FALSE) -> 0 | K8: No | M8: Lae | N8: =A10 -> YB1.02x
B9: H1.01.b | C9: =VLOOKUP($B9,[1]Codes!$A$1:$K$65536,2,FALSE) -> Response | F9: =VLOOKUP($B9,[1]Codes!$A$1:$K$65536,4,FALSE) -> Category option | G9: =VLOOKUP($B9,[1]Codes!$A$1:$K$65536,5,FALSE) -> 1 | K9: Yes | M9: Sim | N9: =A21 -> YB2.04
A10: YB1.02x | C10: Question | E10: Read question | F10: Category - choose one | J10: Could you tell me why you do not want to participate? | L10: Favor bele fo hatete mai hau tansa mak ita la hakarak partisipa?
C11: Response | E11: Don't read option | K11: I don't have time / I have work to do | M11: Laiha tempo / tenke serviso | N11: =A16 -> YB1.03
C12: Response | E12: Don't read option | K12: I don't like to participate in this survey | M12: Hau la koi partisipata iha survey ida ne'e | N12: =A20 -> YB1.05
C13: Response | E13: Don't read option | K13: Other (specify) | M13: Seluk (spesifika) | N13: =A15 -> YB1.02y
C14: Response | E14: Don't read option | K14: Refuse to answer | M14: La koi fo resposta | N14: =A20 -> YB1.05
A15: YB1.02y | C15: Question | E15: Enumerator completes | F15: Category - insert text | J15: [Specify other reason] | L15: [Spesifika razaun seluk] | N15: =A20 -> YB1.05
A16: YB1.03 | C16: Question | E16: Read question | F16: Category - insert text or choose option | J16: When would be a good time for us to come back? | L16: Wainhira mak ami bele fila fali?
C17: Response | E17: Don't read option | F17: Insert text | K17: [insert text] | N17: =A19 -> YB1.04
C18: Response | E18: Don't read option | F18: Category option | K18: Refuse to answer / want to stop | M18: La koi | N18: =A20 -> YB1.05
A19: YB1.04 | C19: Intermediary | J19: [PAUSE INTERVIEW AND RETURN AT SUITABLE TIME] | L19: [PAUZA INTERVISTA NO MAI FALI TEMPU SELUK]
A20: YB1.05 | C20: Intermediary | J20: End interview
A21: YB2.04 | C21: Question | D21: Yes | E21: Read question | F21: Text response | G21: Text | J21: What is your name? | L21: Ita-boot nia naran saida? | N21: =A22 -> YB2.11
A22: YB2.11 | C22: Question | D22: Yes | E22: Enumerator completes | F22: Category - choose one | G22: Code | J22: [Is the respondent female or male?] | L22: [Respondente ne'e feto ou mane?]
B23: H2.11.a | C23: =VLOOKUP($B23,[1]Codes!$A$1:$K$65536,2,FALSE) -> Response | F23: =VLOOKUP($B23,[1]Codes!$A$1:$K$65536,4,FALSE) -> Category option | G23: =VLOOKUP($B23,[1]Codes!$A$1:$K$65536,5,FALSE) -> 0 | K23: Female | M23: Feto | N23: =A25 -> YB2.30
B24: H2.11.b | C24: =VLOOKUP($B24,[1]Codes!$A$1:$K$65536,2,FALSE) -> Response | F24: =VLOOKUP($B24,[1]Codes!$A$1:$K$65536,4,FALSE) -> Category option | G24: =VLOOKUP($B24,[1]Codes!$A$1:$K$65536,5,FALSE) -> 1 | K24: Male | M24: Mane | N24: =A25 -> YB2.30
A25: YB2.30 | C25: Question | D25: Yes | E25: Read question | F25: Numeric response | G25: XXX | H25: 1 | I25: 110 | J25: How old are you? [in years] | L25: Ita-boot tinan /idade hira? [tinan] | N25: next section
B26: H2.30.c | C26: =VLOOKUP($B26,[1]Codes!$A$1:$K$65536,2,FALSE) -> Response | F26: =VLOOKUP($B26,[1]Codes!$A$1:$K$65536,4,FALSE) -> Category option | G26: =VLOOKUP($B26,[1]Codes!$A$1:$K$65536,5,FALSE) -> 994 | K26: Don't know - try year of birth instead | M26: La hatene - koko tok data moris | N26: =A27 -> YB2.32
A27: YB2.32 | C27: Question | D27: Yes | E27: Read question | F27: Numeric response | G27: XXXX | J27: Do you know your year of birth? | L27: Ita-boot hatene ita nia tinan moris? | N27: next section
B28: H1.01.d | C28: =VLOOKUP($B28,[1]Codes!$A$1:$K$65536,2,FALSE) -> Response | F28: =VLOOKUP($B28,[1]Codes!$A$1:$K$65536,4,FALSE) -> Category option | G28: =VLOOKUP($B28,[1]Codes!$A$1:$K$65536,5,FALSE) -> 998 | K28: Don't know | M28: La hatene | N28: next section
A41: begin group

Sheet C
A1: PART C (NOTE:Not for printing)
A2: New ID | B2: Response ID | C2: Question or Response | D2: Question Completion Method | E2: Response Display Format | F2: Data Format | G2: Lower Bound | H2: Upper Bound | I2: Switching | J2: Image | K2: Display Text | M2: Translation | O2: Chronology
A4: C1.02 | C4: Question | D4: Read question | E4: Category - choose one | F4: Code | K4: Since when have you lived in this aldeia? | M4: Dezde ita bot hela iha aldeia ida ne'e? | O4: next section
C5: Response | E5: Category option | L5: Before the Japanese came (1942) | N5: Antes Japaun tama (antes 1942)
C6: Response | E6: Category option | L6: Portuguese time, but after the Japanese came (1945-1975) | N6: Tempo Portuguese, maibe depois Japaun tama (1942-1975)
C7: Response | E7: Category option | L7: Indonesian time (1975-1999) | N7: Tempo Indonezia (1975-1999)
C8: Response | E8: Category option | L8: After the referendum, but before the 2006 violence (1999-2006) | N8: Antes referendum, maibe depois violensia iha 2006 (1999-2006)
C9: Response | E9: Category option | L9: After the 2006 violence | N9: Depois violensia iha 2006

Sheet F
A1: PART C + F
A2: New ID | B2: Response ID | C2: Question or Response | D2: Question Completion Method | E2: Response Display Format | F2: Data Format | G2: Lower Bound | H2: Upper Bound | I2: Switching | J2: Image | K2: Display Text | M2: Translation | O2: Chronology
A3: Involvement in Community Work
A4: C1.02 | C4: Question | D4: Read question | E4: Category - choose one | F4: Code | K4: Since when have you lived in this aldeia? | M4: Dezde ita bot hela iha aldeia ida ne'e? | O4: =A10 -> F.01
C5: Response | E5: Category option | L5: Before the Japanese came (1942) | N5: Antes Japaun tama (antes 1942)
C6: Response | E6: Category option | L6: Portuguese time, but after the Japanese came (1945-1975) | N6: Tempo Portuguese, maibe depois Japaun tama (1942-1975)
C7: Response | E7: Category option | L7: Indonesian time (1975-1999) | N7: Tempo Indonezia (1975-1999)
C8: Response | E8: Category option | L8: After the referendum, but before the 2006 violence (1999-2006) | N8: Antes referendum, maibe depois violensia iha 2006 (1999-2006)
C9: Response | E9: Category option | L9: After the 2006 violence | N9: Depois violensia iha 2006
A10: F.01 | C10: Question | D10: Read question | E10: Category - choose one | F10: Code | K10: In the last 12 months, have you been involved in a community construction project in this aldeia without any monetary payment? | M10: Iha fulan 12 liu ba, ita boot partisipa ona iha serbisu konstrusaun iha Aldeia ida nee, nebe mak la involve simu osan?
B11: H1.01.a | C11: Response | D11: Don't read option | E11: Category option | F11: =VLOOKUP($B11,[2]Codes!$A$1:$K$65536,5,FALSE) -> 0 | L11: No | N11: Lae | O11: =A87 -> F.11
B12: H1.01.b | C12: Response | D12: Don't read option | E12: Category option | F12: =VLOOKUP($B12,[2]Codes!$A$1:$K$65536,5,FALSE) -> 1 | L12: Yes | N12: Sim | O12: =A15 -> F.02
B13: H1.01.d | C13: Response | D13: Don't read option | E13: Category option | F13: =VLOOKUP($B13,[2]Codes!$A$1:$K$65536,5,FALSE) -> 98 | L13: Don't know | N13: La hatene | O13: =A87 -> F.11
B14: H1.01.e | C14: Response | D14: Don't read option | E14: Category option | F14: =VLOOKUP($B14,[2]Codes!$A$1:$K$65536,5,FALSE) -> 99 | L14: Refused to answer | N14: Lakohi fo resposta | O14: =A87 -> F.11
A15: F.02 | C15: Response | D15: Read question | E15: Numeric response | F15: Code | K15: How many projects have you been involved in without any monetary payment in the last 12 months? | M15: Projetu hira mak ita boot involve ona maibe la simu osan iha fulan 12 liu ba? | O15: =A17 -> F.03
C16: Response | D16: Enumerator completes | E16: Insert number
A17: F.03 | C17: Question | D17: Read question | E17: Category - choose all but up to 3 projects | F17: Code | K17: What was the project building or repairing? | M17: Saida mak projetu ne'e hari'i ka hadi'a?
B18: MC12.41.a | C18: Response | D18: Don't read option | E18: Category option | F18: =VLOOKUP($B18,[2]Codes!$A$1:$K$65536,5,FALSE) -> 1 | L18: School | N18: =VLOOKUP($B18,[2]Codes!$A$1:$K$65536,11,FALSE) -> Eskola | O18: =A35 -> F.04
B19: MC12.41.b | C19: Response | D19: Don't read option | E19: Category option | F19: =VLOOKUP($B19,[2]Codes!$A$1:$K$65536,5,FALSE) -> 2 | L19: Health centre | N19: =VLOOKUP($B19,[2]Codes!$A$1:$K$65536,11,FALSE) -> Sentru saúde | O19: =A35 -> F.04
B20: MC12.41.c | C20: Response | D20: Don't read option | E20: Category option | F20: =VLOOKUP($B20,[2]Codes!$A$1:$K$65536,5,FALSE) -> 3 | L20: Church or other religious building | N20: =VLOOKUP($B20,[2]Codes!$A$1:$K$65536,11,FALSE) -> Igreja ka edifísiu relijiozu seluk | O20: =A35 -> F.04
B21: MC12.41.d | C21: Response | D21: Don't read option | E21: Category option | F21: =VLOOKUP($B21,[2]Codes!$A$1:$K$65536,5,FALSE) -> 4 | L21: Sacred / cultural house | N21: =VLOOKUP($B21,[2]Codes!$A$1:$K$65536,11,FALSE) -> Uma lulik / uma lisan / uma adat | O21: =A35 -> F.04
B22: MC12.41.e | C22: Response | D22: Don't read option | E22: Category option | F22: =VLOOKUP($B22,[2]Codes!$A$1:$K$65536,5,FALSE) -> 5 | L22: Private house or other building | N22: Uma privadu ka edificiu seluk | O22: =A35 -> F.04
B23: MC12.41.f | C23: Response | D23: Don't read option | E23: Category option | F23: =VLOOKUP($B23,[2]Codes!$A$1:$K$65536,5,FALSE) -> 6 | L23: Market space | N23: Basar fatin | O23: =A35 -> F.04
B24: MC12.41.g | C24: Response | D24: Don't read option | E24: Category option | F24: =VLOOKUP($B24,[2]Codes!$A$1:$K$65536,5,FALSE) -> 7 | L24: Electricity supply / install solar panels | N24: =VLOOKUP($B24,[2]Codes!$A$1:$K$65536,11,FALSE) -> Fornesimentu eletrisidade / monta tenaga surya | O24: =A35 -> F.04
B25: MC12.41.h | C25: Response | D25: Don't read option | E25: Category option | F25: =VLOOKUP($B25,[2]Codes!$A$1:$K$65536,5,FALSE) -> 8 | L25: Road | N25: =VLOOKUP($B25,[2]Codes!$A$1:$K$65536,11,FALSE) -> Estrada | O25: =A35 -> F.04
B26: MC12.41.i | C26: Response | D26: Don't read option | E26: Category option | F26: =VLOOKUP($B26,[2]Codes!$A$1:$K$65536,5,FALSE) -> 9 | L26: Bridge | N26: =VLOOKUP($B26,[2]Codes!$A$1:$K$65536,11,FALSE) -> Ponte | O26: =A35 -> F.04
B27: MC12.41.j | C27: Response | D27: Don't read option | E27: Category option | F27: =VLOOKUP($B27,[2]Codes!$A$1:$K$65536,5,FALSE) -> 10 | L27: Canal, drainage or irrigation system | N27: Valeta, sistema irrigasaun ka drainajen | O27: =A35 -> F.04
B28: MC12.41.k | C28: Response | D28: Don't read option | E28: Category option | F28: =VLOOKUP($B28,[2]Codes!$A$1:$K$65536,5,FALSE) -> 11 | L28: Water supply - well, pipe, tap etc. | N28: Sistema bee - posu, kanu, torneiru, etc. | O28: =A35 -> F.04
B29: MC12.41.l | C29: Response | D29: Don't read option | E29: Category option | F29: =VLOOKUP($B29,[2]Codes!$A$1:$K$65536,5,FALSE) -> 12 | L29: Toilet | N29: Sintina | O29: =A35 -> F.04
B30: MC12.41.m | C30: Response | D30: Don't read option | E30: Category option | F30: =VLOOKUP($B30,[2]Codes!$A$1:$K$65536,5,FALSE) -> 13 | L30: Community hall or office | N30: Sede ka salaun komunitariu nian | O30: =A35 -> F.04
B31: MC12.41.n | C31: Response | D31: Don't read option | E31: Category option | F31: =VLOOKUP($B31,[2]Codes!$A$1:$K$65536,5,FALSE) -> 14 | L31: Oval or sporting facility | N31: =VLOOKUP($B31,[2]Codes!$A$1:$K$65536,11,FALSE) -> Kampu ka fasilidade desportu | O31: =A35 -> F.04
B32: H1.01.c | C32: Response | D32: Don't read option | E32: Category option | F32: =VLOOKUP($B32,[2]Codes!$A$1:$K$65536,5,FALSE) -> 97 | L32: Other (specify) | N32: =VLOOKUP($B32,[2]Codes!$A$1:$K$65536,11,FALSE) -> Seluk (spesifika) | O32: =A33 -> F.03x
A33: F.03x | C33: Question | D33: Enumerator completes | E33: Text response | F33: Text | K33: Specify other | M33: Seluk, Favor Spesifika | O33: =A35 -> F.04
A34: Repeat for each selected project - Maximum 3 projects
A35: F.04 | C35: Question | D35: Read question | E35: Category - choose all | F35: Code | K35: How were you involved in [Selected Project]? | M35: Ita boot nia envolvimentu iha projetu ne'e oinsá?
C36: Response | D36: Don't read option | E36: Category option | F36: X | L36: Planning or organising the project | N36: Halo planu ou organiza projeitu ne'e | O36: =A87 -> F.11
C37: Response | D37: Don't read option | E37: Category option | F37: X | L37: Providing advice or guidance | N37: Fo konselhu | O37: =A87 -> F.11
C38: Response | D38: Don't read option | E38: Category option | F38: X | L38: Providing goods, tools or materials | N38: Fó sasán, ekipamentu ka materiál | O38: =A87 -> F.11
C39: Response | D39: Don't read option | E39: Category option | F39: X | L39: Providing money | N39: Fó osan | O39: =A87 -> F.11
C40: Response | D40: Don't read option | E40: Category option | F40: X | L40: Give the land | N40: Fó rai | O40: =A87 -> F.11
...

Sheet G
A1: PART G - GOVERNANCE
A2: New ID | B2: Response ID | C2: Question or Response | D2: Question Completion Method | E2: Response Display Format | F2: Data Format | G2: Lower Bound | H2: Upper Bound | I2: Switching | J2: Image | K2: Display Text | M2: Translation | O2: Chronology
A3: Who are the Influential People?
A4: Decision 1: Deciding type of project
A5: G1.01 | C5: Question | D5: Read question | E5: Text response | F5: Text | K5: If the government gave money to Suku Council to repair something in this suku, who are the people who will be most involved in deciding what should be repaired? [select max 3] | M5: Karik governo fo osan ba Konsellu Suku atu hadia buat-ruma iha suku laran, se deit maka envolve liu hodi foti decizaun?
C6: Response | D6: Choose category - all | E6: Category option | F6: X | L6: Xefe Suku | N6: Xefe Suku | O6: =A13 -> G1.02
C7: Response | D7: Choose category - all | E7: Category option | F7: X | L7: Xefe Aldeia | N7: Xefe Aldeia | O7: =A13 -> G1.02
C8: Response | D8: Choose category - all | E8: Category option | F8: X | L8: Whole community | N8: Komunidade tomak | O8: =A13 -> G1.02
C9: Response | D9: Enumerator completes | E9: Text response | F9: Text | L9: {enter additional name 1} | N9: {hatam naran balun tan 1} | O9: =A19 -> G1.03
C10: Response | D10: Enumerator completes | E10: Text response | F10: Text | L10: {enter additional name 2} | N10: {hatam naran balun tan 2} | O10: =A19 -> G1.03
C11: Response | D11: Choose category - all | E11: Category option | F11: X | L11: Don't know | N11: La hatene | O11: next decision
A12: If answers 'whole community' without giving specific names:
A13: G1.02 | C13: Question | D13: Read question | E13: Text response | F13: Text | K13: Are there any community members in particular who would have an influence in the decision? | M13: Iha tan membru komunidade ruma nebe maka iha hotu influencia atu foti decizaun?
C14: Response | D14: Choose category - all | E14: Category option | F14: X | L14: No | N14: Lae | O14: =A66 -> G2.01
C15: Response | D15: Enumerator completes | E15: Text response | F15: Text | L15: {enter additional name 1} | N15: {hatama tan naran balu 1} | O15: =A19 -> G1.03
C16: Response | D16: Enumerator completes | E16: Text response | F16: Text | L16: {enter additional name 2} | N16: {hatama tan naran balu 2} | O16: =A19 -> G1.03
A17: End if
A18: For each of {name 1} and {name 2} if selected:
A19: G1.03 | C19: Question | D19: Read question | E19: Category - one | F19: Code | K19: Is {name} male or female? | M19: (Naran) Mane ka Feto?
C20: Response | D20: Choose category - all | E20: Category option | F20: X | L20: Male | N20: Mane | O20: =A22 -> G1.04
C21: Response | D21: Choose category - all | E21: Category option | F21: X | L21: Female | N21: Feto | O21: =A22 -> G1.04
A22: G1.04 | C22: Question | D22: Read question | E22: Category - All | F22: Code | K22: What is the position of {name}? | M22: (Naran) nia pozisaun saida?
C23: Response | E23: Category option | F23: X | L23: Catechist | N23: Katekista | O23: =A41 -> G1.05
C24: Response | E24: Category option | F24: X | L24: Priest / nun / bishop | N24: Padre / madre | O24: =A41 -> G1.05
C25: Response | E25: Category option | F25: X | L25: District adminstrator | N25: Administrador distrito | O25: =A41 -> G1.05
C26: Response | E26: Category option | F26: X | L26: Sub district adminstrator | N26: Administrador sub distrito | O26: =A41 -> G1.05
C27: Response | E27: Category option | F27: X | L27: Suku secretary | N27: Sekretari Suku | O27: =A41 -> G1.05
C28: Response | E28: Category option | F28: X | L28: Teacher | N28: Mestri/a | O28: =A41 -> G1.05
C29: Response | E29: Category option | F29: X | L29: Doctor / health worker | N29: Doutor/a / Enfermeiro/a | O29: =A41 -> G1.05
C30: Response | E30: Category option | F30: X | L30: Lia Nain | N30: Lia-nain | O30: =A41 -> G1.05
C31: Response | E31: Category option | F31: X | L31: Other traditional elder / leader | N31: Katuas ka Lia nain Suku sira | O31: =A41 -> G1.05
C32: Response | E32: Category option | F32: X | L32: Police | N32: Policia | O32: =A41 -> G1.05
C33: Response | E33: Category option | F33: X | L33: Community police | N33: Policia Komunitaria | O33: =A41 -> G1.05
C34: Response | E34: Category option | F34: X | L34: Youth leader | N34: Xefe Juventude | O34: =A41 -> G1.05
C35: Response | E35: Category option | F35: X | L35: Women's representative | N35: Reprezentante feto | O35: =A41 -> G1.05
C36: Response | E36: Category option | F36: X | L36: Member of other group or council | N36: Membro husi konsellu ka grupo seluk | O36: =A41 -> G1.05
C37: Response | E37: Category option | F37: X | L37: Businessman or woman | N37: Emprezariu/a | O37: =A41 -> G1.05
C38: Response | E38: Category option | F38: X | L38: Landowner | N38: Rai nain | O38: =A41 -> G1.05
C39: Response | E39: Category option | F39: X | L39: Other position | N39: Pozisaun seluk | O39: =A40 -> G1.04x
A40: G1.04x | C40: Question | D40: Enumerator completes | E40: Text response | F40: Text | K40: Specify other position | M40: Specifika tok pozisau seluk tan? | O40: =A41 -> G1.05
...

Sheet H
A1: Part H - COHESION
A2: New ID | B2: Response ID | C2: Question or Response | D2: Question Completion Method | E2: Response Display Format | F2: Data Format | G2: Lower Bound | H2: Upper Bound | I2: Switching | J2: Image | K2: Display Text | M2: Translation | O2: Chronology
A3: M.C.14. Crime, Conflict and Dispute Resolution | M3: Krimi, violensia no solusaun ba problema
A4: H1.01 | C4: Question | D4: Read question | E4: Category - choose one | F4: Code | L4: In the past 6 months, has your house been burglarized or property stolen? | N4: Iha fulan 6 liu ba ita nia uma ka propriedade hetan asalto (ema tama) no nauk sasan?
C5: Response | E5: Category option | F5: X | L5: No | N5: Lae | O5: =A9 -> H1.02
C6: Response | E6: Category option | F6: X | L6: Yes | N6: Sim | O6: =A9 -> H1.02
C7: Response | E7: Category option | F7: X | L7: Don't Know | N7: La hatene | O7: =A9 -> H1.02
C8: Response | E8: Category option | F8: X | L8: Refuse to Answer | N8: Lakohi fo resposta | O8: =A9 -> H1.02
A9: H1.02 | C9: Question | D9: Read question | E9: Category - choose one | F9: Code | L9: In the past 6 months, have you or a member of your household had a dispute with someone, such as a dispute about damage to property, land ownership, personal insult, money, etc? | N9: Iha fulan 6 liu ba, ita boot ka membru uma kain ruma iha problema ho ema ruma, hanesan estraga propriedade, hadau malu rai, insulta malu no problema osan, nsst?
C10: Response | E10: Category option | F10: X | L10: No | N10: Lae | O10: =A65 -> H1.08
C11: Response | E11: Category option | F11: X | L11: Yes | N11: Sim | O11: =A14 -> H1.03
C12: Response | E12: Category option | F12: X | L12: Don't Know | N12: La hatene | O12: =A65 -> H1.08
C13: Response | E13: Category option | F13: X | L13: Refuse to Answer | N13: Lakohi fo resposta | O13: =A65 -> H1.08
A14: H1.03 | C14: Question | D14: Read question | E14: Category - choose one | F14: Code | K14: Where was this person from? | M14: Ema sira ne'e husi nebe?
C15: Response | E15: Category option | F15: X | L15: This aldeia | N15: Aldeia ida ne'e | O15: =A22 -> H1.04
C16: Response | E16: Category option | F16: X | L16: Other aldeia in this suku | N16: Aldeia seluk iha suku ida ne'e | O16: =A22 -> H1.04
C17: Response | E17: Category option | F17: X | L17: Other suku in this subdistrict | N17: Suku seluk iha subdistrito ida ne'e | O17: =A22 -> H1.04
L18: Other subdistrict in this district | N18: Subdistrito seluk iha distrito ida ne'e | O18: =A22 -> H1.04
L19: Other district | N19: Distrito seluk | O19: =A22 -> H1.04
C20: Response | E20: Category option | F20: X | L20: Don't Know | N20: La hatene | O20: =A22 -> H1.04
C21: Response | E21: Category option | F21: X | L21: Refuse to Answer | N21: Lakohi fo resposta | O21: =A22 -> H1.04
A22: H1.04 | C22: Question | D22: Read question | E22: Category - choose all | F22: Code | K22: What was the cause of these dispute(s)? | M22: Problema ne'e akontese tamba saida?
C23: Response | E23: Category option | F23: X | L23: Damage / trespass by animals | N23: Estraga tamba animal mak tama | O23: =A36 -> H1.05
C24: Response | E24: Category option | F24: X | L24: Land Ownership | N24: Hadau malu rai | O24: =A36 -> H1.05
C25: Response | E25: Category option | F25: X | L25: Water / Irrigation | N25: Be'e / irigasaun | O25: =A36 -> H1.05
C26: Response | E26: Category option | F26: X | L26: Theft of Livestock / Property | N26: Nauk animal hakiak / propriedade | O26: =A36 -> H1.05
C27: Response | E27: Category option | F27: X | L27: Money / Repayment of Loan | N27: Sisi tusan | O27: =A36 -> H1.05
C28: Response | E28: Category option | F28: X | L28: Marriage / Bride Price | N28: Kaben / folin barlake | O28: =A36 -> H1.05
C29: Response | E29: Category option | F29: X | L29: Death / Funeral | N29: Mate / hakoi | O29: =A36 -> H1.05
C30: Response | E30: Category option | F30: X | L30: Personal Insult / Respect | N30: Insulta malu / La respeita malu | O30: =A36 -> H1.05
C31: Response | E31: Category option | F31: X | L31: Ethnic / Cultural / Religious differences | N31: Etica / kultura / religiaun la hanesan | O31: =A36 -> H1.05
C32: Response | E32: Category option | F32: X | L32: Political differences | N32: Partido la hanesan | O32: =A36 -> H1.05
L33: Alcohol consumption | N33: Hemu tua | O33: =A36 -> H1.05
C34: Response | E34: Category option | F34: X | L34: Other | N34: Seluk | O34: =A35 -> H1.04x
A35: H1.04x | C35: Response | E35: Text response | F35: Text | L35: Specify | N35: Seluk, spesifika liu tan | O35: =A36 -> H1.05
A36: H1.05 | C36: Question | D36: Read question | E36: Category - choose one | F36: Code | L36: Who was the person or authority that was most important in helping to settle the (most recent) dispute? | N36: Wainhira problema hanesan ne mosu, se mak autoridade ne'ebe importante liu hodi ajuda rezolve problema sira ne?
L37: No one | N37: Laiha ema ida | O37: =A55 -> H1.06
C38: Response | E38: Category option | F38: X | L38: Xefe Aldeia | N38: Xefe Aldeia | O38: =A55 -> H1.06
C39: Response | E39: Category option | F39: X | L39: Xefe Suco | N39: Xefe Suku | O39: =A55 -> H1.06
C40: Response | E40: Category option | F40: X | L40: Priest / nun | N40: Padre / madre | O40: =A55 -> H1.06
...

Sheet I
A1: Part I. Subjective Wellbeing
A2: New ID | B2: Response ID | C2: Question or Response | D2: Question Completion Method | E2: Response Display Format | F2: Data Format | G2: Lower Bound | H2: Upper Bound | I2: Switching | J2: Image | K2: Display Text | M2: Translation | O2: Chronology
A3: 1. Satisfaction with Public Facilities | M3: Sujeitu bem star (moris kontenti)
A4: I1.00 | C4: Question | D4: Read question | E4: Category - choose one | F4: Code | K4: Now I would like to ask about your satisfaction and disatisfaction with public services and facilities in your Suku. | M4: Tuir mai ne'e hau hakarak atu husu ita boot kontente ka lae ho servisu publiku no fasilidade iha suku ne'e. | O4: =A28 -> I3.01
A5: Table Rows:
A6: I1.01 | C6: Question | D6: Read question | E6: Category - choose one | F6: Code | K6: With regard to health care and health facilities in this suku, are you …? | M6: Kona ba tratamentu saude no facilidade saude iha suku laran, ita ...?
A7: I1.02 | C7: Question | D7: Read question | E7: Category - choose one | F7: Code | K7: With regard to education and school facilities in this suku, are you ...? | M7: Kona ba edukasaun no fasilidade eskola iha suku ne'e, ita ...?
A8: I1.03 | C8: Question | D8: Read question | E8: Category - choose one | F8: Code | K8: With regard to agricultural irrigation facilities in this suku, are you ...? | M8: Kona ba fasilidade irigasaun agarikultura iha suku ne'e, ita ...?
A9: I1.04 | C9: Question | D9: Read question | E9: Category - choose one | F9: Code | K9: With regard to drinking water systems in this suku, are you ...? | M9: Kona ba sistema be-mos iha suku ne'e, ita ...?
A10: I1.05 | C10: Question | D10: Read question | E10: Category - choose one | F10: Code | K10: With regard to the situation of roads and bridges in this suku, are you …? | M10: Kona ba situasaun estrada no ponte sira iha suku ne'e, ita ...?
A11: I1.06 | C11: Question | D11: Read question | E11: Category - choose one | F11: Code | K11: With regard to community buildings in this suku, are you …? | M11: Kona ba infrastrutura komunitariu iha suku ida ne'e, ita ...?
A12: Table Columns:
C13: Response | D13: Probe if needed | E13: Category option | F13: X | L13: Satisfied | M13: Satisfeitu
C14: Response | D14: Probe if needed | E14: Category option | F14: X | L14: Neutral | M14: Bain-bain deit
C15: Response | D15: Probe if needed | E15: Category option | F15: X | L15: Unsatisfied | M15: La satisfeitu
C16: Response | D16: Probe if needed | E16: Category option | F16: X | L16: Don't know | M16: La hatene
A17: 2. Adequacy of Household Situation
A18: Table Rows
A19: I2.01 | K19: Concerning your household's current situation with housing, do you feel it is…? | M19: Kona ba ita nia situasaun uma-laran nian agora dadaun, ita sente ...?
A20: I2.02 | K20: Concerning your household's food consumption over the past 1 month, do you feel it has been ...? | M20: Kona ba konsumu ai-han iha ita nia uma laran iha fulan 1 liu ba, ita sente ...?
A21: I2.03 | K21: Concerning the quality of children's education, do you feel it is ...? | M21: Kona ba kualidade edukasaun oan sira nian, ita sente ...?
A22: Table Columns:
K23: More than adequate | M23: Resin
K24: Just adequate | M24: Naton ona
K25: Less than adequate | M25: La dun to'o
K26: Not applicable | M26: La aplika
A27: 3. Subjective Wellbeing | M27: Sujeitu bem star (moris kontenti)
A28: I3.01 | C28: Question | D28: Read question | E28: Category - choose one | F28: Code | K28: In general, how happy do you consider yourself to be?; Happy, neither happy nor sad, or sad? | M28: Em jeral, ita sente ita nia an oinsa? Kontenti, bai-bain deit ka triste? | O28: =A36 -> I3.03
C29: Response | D29: Probe if needed | E29: Category option | F29: X | L29: Happy | M29: Kontenti
C30: Response | D30: Probe if needed | E30: Category option | F30: X | L30: Neither happy nor sad | M30: Bai-bain deit
C31: Response | D31: Probe if needed | E31: Category option | F31: X | L31: Sad | M31: Triste
A32: I3.02 | C32: Question | D32: Read question | E32: Category - choose one | F32: Code | K32: Compared to this time last year, do you feel that the financial situation of your household is better, the same, or worse? | M32: Kompara tinan ne'e ho tinan kotuk, ita sente ita nia situasaun ekonomika uma laran oinsa? Diak liu, hanesan deit, ka a'at liu?
C33: Response | D33: Probe if needed | E33: Category option | F33: X | L33: Better | M33: Diak liu
C34: Response | D34: Probe if needed | E34: Category option | F34: X | L34: Same | M34: Hanesan deit
C35: Response | D35: Probe if needed | E35: Category option | F35: X | L35: Worse | M35: A'at liu
A36: I3.03 | C36: Question | D36: Read question | E36: Category - choose one | F36: Code | K36: If someone in the household becomes sick and needs to go to a doctor, is it easy to see a doctor, just sometimes or very difficult? | M36: Wainhira ema ruma moras iha ita nia uma laran no preciza lori ba doutor, ita sente katak sempre fasil atu hasoru doutor ka dalaruma deit ka susar tebes? | O36: =J!A4 -> MJ1.01
C37: Response | D37: Probe if needed | E37: Category option | F37: X | L37: Easy | M37: Fasil
C38: Response | D38: Probe if needed | E38: Category option | F38: X | L38: Just sometimes | M38: Dalaruma deit
C39: Response | D39: Probe if needed | E39: Category option | F39: X | L39: Very difficult | M39: Susar tebes

Sheet J
A1: Part J
A2: New ID | B2: Response ID | C2: Question or Response | D2: Question Completion Method | E2: Response Display Format | F2: Data Format | G2: Lower Bound | H2: Upper Bound | I2: Image | J2: Display Text | L2: Translation | N2: Chronology
A3: Sources of Information
A4: MJ1.01 | C4: Question | D4: Read question | E4: Numeric response | F4: XXX | J4: In the last 7 days, how many times have you listened to radio? | L4: Iha loron 7 liu ba, dala hira maka ita rona radio? | N4: =A5 -> MJ1.02
A5: MJ1.02 | C5: Question | D5: Read question | E5: Numeric response | F5: XXX | J5: In the last 7 days, how many times have you watched television? | L5: Iha loron 7 liu ba, dala hira maka ita hare televizaun? | N5: =A6 -> MJ1.03
A6: MJ1.03 | C6: Question | D6: Read question | E6: Numeric response | F6: XXX | J6: In the last 4 weeks, how many times have you eaten a meal outside your house with people who are not relatives? | L6: Iha semana 4 liu ba, dala hira maka ita han hamutuk ho ema seluk nebe laos ita nia familia? | N6: =A7 -> MJ1.04
A7: MJ1.04 | C7: Question | D7: Read question | E7: Category - choose one | F7: Code | J7: How often do you receive information about what the government is doing in this area?; At least once a month, once or twice a year or never? | L7: Ita bot simu informasaun regularmente konaba saida mak governu halo iha suku ida ne'e?; Dala barak, dala ruma ka nunka? | N7: =A11 -> MJ1.05
C8: Response | E8: Category option | F8: 1 | K8: Often | M8: Dala barak | N8: =A11 -> MJ1.05
C9: Response | E9: Category option | F9: 2 | K9: Sometimes | M9: Dala ruma | N9: =A11 -> MJ1.05
C10: Response | E10: Category option | F10: 3 | K10: Never | M10: Nunka | N10: =A26 -> MJ1.06
A11: MJ1.05 | C11: Question | D11: Read question | E11: Category - choose all | F11: Code | J11: Where do you get this information from? | L11: Ita bot hetan informasaun ne'e husi nebe? | N11: =A25 -> MJ1.05x
C12: Response | E12: Category option | F12: 1 | K12: District administrator | M12: Administrador distritu | N12: =A26 -> MJ1.06
C13: Response | E13: Category option | F13: 2 | K13: Subdistrict administrator | M13: Administrador subdistritu | N13: =A26 -> MJ1.06
C14: Response | E14: Category option | F14: 3 | K14: Xefe Suku | M14: Xefe Suku | N14: =A26 -> MJ1.06
C15: Response | E15: Category option | F15: 4 | K15: Xefe Aldeia | M15: Xefe Aldeia | N15: =A26 -> MJ1.06
C16: Response | E16: Category option | F16: 5 | K16: Suku meetings | M16: Enkontru suku | N16: =A26 -> MJ1.06
C17: Response | E17: Category option | F17: 6 | K17: Aldeia meetings | M17: Enkontru aldeia | N17: =A26 -> MJ1.06
C18: Response | E18: Category option | F18: 7 | K18: Community notice board | M18: Kuadru komunidade | N18: =A26 -> MJ1.06
C19: Response | E19: Category option | F19: 8 | K19: Friends and family | M19: Kolega no familia | N19: =A26 -> MJ1.06
C20: Response | E20: Category option | F20: 9 | K20: Radio | M20: Jornal | N20: =A26 -> MJ1.06
C21: Response | E21: Category option | F21: 10 | K21: Newspaper | M21: Radio | N21: =A26 -> MJ1.06
C22: Response | E22: Category option | F22: 11 | K22: Television | M22: Televizaun | N22: =A26 -> MJ1.06
C23: Response | E23: Category option | F23: 12 | K23: Internet / Facebook | M23: Internet / Facebook | N23: =A26 -> MJ1.06
B24: H1.01.c | C24: =VLOOKUP($B24,[3]Codes!$A$1:$K$65536,2,FALSE) -> Response | E24: =VLOOKUP($B24,[3]Codes!$A$1:$K$65536,4,FALSE) -> Category option | F24: =VLOOKUP($B24,[3]Codes!$A$1:$K$65536,5,FALSE) -> 997 | K24: =VLOOKUP($B24,[3]Codes!$A$1:$K$65536,9,FALSE) -> Other (specify) | M24: =VLOOKUP($B24,[3]Codes!$A$1:$K$65536,11,FALSE) -> Seluk (spesifika) | N24: =A25 -> MJ1.05x
A25: MJ1.05x | C25: Question | D25: Read question | E25: Text response | F25: Text | J25: [Specify other source] | L25: [Spesifika seluk] | N25: =A26 -> MJ1.06
A26: MJ1.06 | C26: Question | D26: Read question | E26: Category - choose one | F26: Code | J26: Have you heard of the government's Local Development Program (LDP)? | L26: Ita rona ona governo nia projeitu bolu program dezenvolvimentu local (PDL)? | N26: =A29 -> MJ1.07
B27: H1.01.a | C27: =VLOOKUP($B27,[3]Codes!$A$1:$K$65536,2,FALSE) -> Response | E27: =VLOOKUP($B27,[3]Codes!$A$1:$K$65536,4,FALSE) -> Category option | F27: =VLOOKUP($B27,[3]Codes!$A$1:$K$65536,5,FALSE) -> 0 | K27: =VLOOKUP($B27,[3]Codes!$A$1:$K$65536,9,FALSE) -> No | M27: =VLOOKUP($B27,[3]Codes!$A$1:$K$65536,11,FALSE) -> Lae | N27: =A29 -> MJ1.07
B28: H1.01.b | C28: =VLOOKUP($B28,[3]Codes!$A$1:$K$65536,2,FALSE) -> Response | E28: =VLOOKUP($B28,[3]Codes!$A$1:$K$65536,4,FALSE) -> Category option | F28: =VLOOKUP($B28,[3]Codes!$A$1:$K$65536,5,FALSE) -> 1 | K28: =VLOOKUP($B28,[3]Codes!$A$1:$K$65536,9,FALSE) -> Yes | M28: =VLOOKUP($B28,[3]Codes!$A$1:$K$65536,11,FALSE) -> Sim | N28: =A29 -> MJ1.07
A29: MJ1.07 | C29: Question | D29: Read question | E29: Category - choose one | F29: Code | J29: Have you heard of the government's Youth Development Project (YDP)? | L29: Ita rona ona governu nia Projeitu dezenvolvimentu Juventude? | N29: =A32 -> MJ1.08
B30: H1.01.a | C30: =VLOOKUP($B30,[3]Codes!$A$1:$K$65536,2,FALSE) -> Response | E30: =VLOOKUP($B30,[3]Codes!$A$1:$K$65536,4,FALSE) -> Category option | F30: =VLOOKUP($B30,[3]Codes!$A$1:$K$65536,5,FALSE) -> 0 | K30: =VLOOKUP($B30,[3]Codes!$A$1:$K$65536,9,FALSE) -> No | M30: =VLOOKUP($B30,[3]Codes!$A$1:$K$65536,11,FALSE) -> Lae | N30: =A32 -> MJ1.08
B31: H1.01.b | C31: =VLOOKUP($B31,[3]Codes!$A$1:$K$65536,2,FALSE) -> Response | E31: =VLOOKUP($B31,[3]Codes!$A$1:$K$65536,4,FALSE) -> Category option | F31: =VLOOKUP($B31,[3]Codes!$A$1:$K$65536,5,FALSE) -> 1 | K31: =VLOOKUP($B31,[3]Codes!$A$1:$K$65536,9,FALSE) -> Yes | M31: =VLOOKUP($B31,[3]Codes!$A$1:$K$65536,11,FALSE) -> Sim | N31: =A32 -> MJ1.08
A32: MJ1.08 | C32: Question | D32: Read question | E32: Category - choose one | F32: Code | J32: Have you heard of the government's Roads for Development Program? | L32: Ita rona ona konaba governu nia Programa Estradas ba Dezenvolvimentu? | N32: =A35 -> MJ1.09
B33: H1.01.a | C33: =VLOOKUP($B33,[3]Codes!$A$1:$K$65536,2,FALSE) -> Response | E33: =VLOOKUP($B33,[3]Codes!$A$1:$K$65536,4,FALSE) -> Category option | F33: =VLOOKUP($B33,[3]Codes!$A$1:$K$65536,5,FALSE) -> 0 | K33: =VLOOKUP($B33,[3]Codes!$A$1:$K$65536,9,FALSE) -> No | M33: =VLOOKUP($B33,[3]Codes!$A$1:$K$65536,11,FALSE) -> Lae | N33: =A35 -> MJ1.09
B34: H1.01.b | C34: =VLOOKUP($B34,[3]Codes!$A$1:$K$65536,2,FALSE) -> Response | E34: =VLOOKUP($B34,[3]Codes!$A$1:$K$65536,4,FALSE) -> Category option | F34: =VLOOKUP($B34,[3]Codes!$A$1:$K$65536,5,FALSE) -> 1 | K34: =VLOOKUP($B34,[3]Codes!$A$1:$K$65536,9,FALSE) -> Yes | M34: =VLOOKUP($B34,[3]Codes!$A$1:$K$65536,11,FALSE) -> Sim | N34: =A35 -> MJ1.09
A35: MJ1.09 | C35: Question | D35: Read question | E35: Category - choose one | F35: Code | J35: Have you heard of the government's Programa Nasional Desenvolvimentu Suku (PNDS)? | L35: Ita rona ona governu nia program bolu Programa Nasional Dezenvolvimentu Suku ou PNDS? | N35: =A39 -> MJ1.00
B36: H1.01.a | C36: =VLOOKUP($B36,[3]Codes!$A$1:$K$65536,2,FALSE) -> Response | E36: =VLOOKUP($B36,[3]Codes!$A$1:$K$65536,4,FALSE) -> Category option | F36: =VLOOKUP($B36,[3]Codes!$A$1:$K$65536,5,FALSE) -> 0 | K36: =VLOOKUP($B36,[3]Codes!$A$1:$K$65536,9,FALSE) -> No | M36: =VLOOKUP($B36,[3]Codes!$A$1:$K$65536,11,FALSE) -> Lae | N36: next section
B37: H1.01.b | C37: =VLOOKUP($B37,[3]Codes!$A$1:$K$65536,2,FALSE) -> Response | E37: =VLOOKUP($B37,[3]Codes!$A$1:$K$65536,4,FALSE) -> Category option | F37: =VLOOKUP($B37,[3]Codes!$A$1:$K$65536,5,FALSE) -> 1 | K37: =VLOOKUP($B37,[3]Codes!$A$1:$K$65536,9,FALSE) -> Yes | M37: =VLOOKUP($B37,[3]Codes!$A$1:$K$65536,11,FALSE) -> Sim | N37: next section
A38: Participation in Groups
A39: MJ1.00 | C39: Question | D39: Read question | E39: Table - Yes/No | F39: Code | J39: Now I would like to ask about your participation in groups and collectives | L39: Agora hau hakarak husu kona ba partisipasaun iha grupus no collectivas | N39: =A56 -> MJ1.21
A40: Table row
...
